BEGIN:VCALENDAR
VERSION:2.0
PRODID:-//Romo Photo Club - ECPv6.15.20//NONSGML v1.0//EN
CALSCALE:GREGORIAN
METHOD:PUBLISH
X-ORIGINAL-URL:https://romo-photo.club
X-WR-CALDESC:Évènements pour Romo Photo Club
REFRESH-INTERVAL;VALUE=DURATION:PT1H
X-Robots-Tag:noindex
X-PUBLISHED-TTL:PT1H
BEGIN:VTIMEZONE
TZID:Europe/Paris
BEGIN:DAYLIGHT
TZOFFSETFROM:+0100
TZOFFSETTO:+0200
TZNAME:CEST
DTSTART:20230326T010000
END:DAYLIGHT
BEGIN:STANDARD
TZOFFSETFROM:+0200
TZOFFSETTO:+0100
TZNAME:CET
DTSTART:20231029T010000
END:STANDARD
BEGIN:DAYLIGHT
TZOFFSETFROM:+0100
TZOFFSETTO:+0200
TZNAME:CEST
DTSTART:20240331T010000
END:DAYLIGHT
BEGIN:STANDARD
TZOFFSETFROM:+0200
TZOFFSETTO:+0100
TZNAME:CET
DTSTART:20241027T010000
END:STANDARD
BEGIN:DAYLIGHT
TZOFFSETFROM:+0100
TZOFFSETTO:+0200
TZNAME:CEST
DTSTART:20250330T010000
END:DAYLIGHT
BEGIN:STANDARD
TZOFFSETFROM:+0200
TZOFFSETTO:+0100
TZNAME:CET
DTSTART:20251026T010000
END:STANDARD
END:VTIMEZONE
BEGIN:VEVENT
DTSTART;TZID=Europe/Paris:20240523T100000
DTEND;TZID=Europe/Paris:20240526T180000
DTSTAMP:20260423T000858
CREATED:20231112T133905Z
LAST-MODIFIED:20231124T163443Z
UID:12114-1716458400-1716746400@romo-photo.club
SUMMARY:Printemps de la Photographie et des Arts
DESCRIPTION:
URL:https://romo-photo.club/index.php/event/printemps-de-la-photographie-et-des-arts/
CATEGORIES:Diffusion,Diffusion membre,Diffusion publique,Expo,Expo RPC
END:VEVENT
END:VCALENDAR