BEGIN:VCALENDAR
VERSION:2.0
PRODID:-//Romo Photo Club - ECPv6.15.20//NONSGML v1.0//EN
CALSCALE:GREGORIAN
METHOD:PUBLISH
X-WR-CALNAME:Romo Photo Club
X-ORIGINAL-URL:https://romo-photo.club
X-WR-CALDESC:Évènements pour Romo Photo Club
REFRESH-INTERVAL;VALUE=DURATION:PT1H
X-Robots-Tag:noindex
X-PUBLISHED-TTL:PT1H
BEGIN:VTIMEZONE
TZID:Europe/Paris
BEGIN:DAYLIGHT
TZOFFSETFROM:+0100
TZOFFSETTO:+0200
TZNAME:CEST
DTSTART:20190331T010000
END:DAYLIGHT
BEGIN:STANDARD
TZOFFSETFROM:+0200
TZOFFSETTO:+0100
TZNAME:CET
DTSTART:20191027T010000
END:STANDARD
BEGIN:DAYLIGHT
TZOFFSETFROM:+0100
TZOFFSETTO:+0200
TZNAME:CEST
DTSTART:20200329T010000
END:DAYLIGHT
BEGIN:STANDARD
TZOFFSETFROM:+0200
TZOFFSETTO:+0100
TZNAME:CET
DTSTART:20201025T010000
END:STANDARD
BEGIN:DAYLIGHT
TZOFFSETFROM:+0100
TZOFFSETTO:+0200
TZNAME:CEST
DTSTART:20210328T010000
END:DAYLIGHT
BEGIN:STANDARD
TZOFFSETFROM:+0200
TZOFFSETTO:+0100
TZNAME:CET
DTSTART:20211031T010000
END:STANDARD
END:VTIMEZONE
BEGIN:VEVENT
DTSTART;TZID=Europe/Paris:20200804T183000
DTEND;TZID=Europe/Paris:20200804T190000
DTSTAMP:20260425T193639
CREATED:20200602T125738Z
LAST-MODIFIED:20200602T125837Z
UID:5227-1596565800-1596567600@romo-photo.club
SUMMARY:Réunion mensuelle
DESCRIPTION:Solange notre présidente
URL:https://romo-photo.club/index.php/event/reunion-mensuelle-3/
CATEGORIES:Bureau,Diffusion,Diffusion publique,Réunion
END:VEVENT
BEGIN:VEVENT
DTSTART;TZID=Europe/Paris:20200816T080000
DTEND;TZID=Europe/Paris:20200816T170000
DTSTAMP:20260425T193639
CREATED:20200816T124252Z
LAST-MODIFIED:20200824T151831Z
UID:5373-1597564800-1597597200@romo-photo.club
SUMMARY:Sortie voie lactée
DESCRIPTION:sortie proposée par Ludo
URL:https://romo-photo.club/index.php/event/essai-sortie-voie-lactee/
CATEGORIES:Diffusion,Diffusion publique
END:VEVENT
END:VCALENDAR