BEGIN:VCALENDAR
VERSION:2.0
PRODID:-//Romo Photo Club - ECPv6.15.20//NONSGML v1.0//EN
CALSCALE:GREGORIAN
METHOD:PUBLISH
X-ORIGINAL-URL:https://romo-photo.club
X-WR-CALDESC:Évènements pour Romo Photo Club
REFRESH-INTERVAL;VALUE=DURATION:PT1H
X-Robots-Tag:noindex
X-PUBLISHED-TTL:PT1H
BEGIN:VTIMEZONE
TZID:Europe/Paris
BEGIN:DAYLIGHT
TZOFFSETFROM:+0100
TZOFFSETTO:+0200
TZNAME:CEST
DTSTART:20190331T010000
END:DAYLIGHT
BEGIN:STANDARD
TZOFFSETFROM:+0200
TZOFFSETTO:+0100
TZNAME:CET
DTSTART:20191027T010000
END:STANDARD
BEGIN:DAYLIGHT
TZOFFSETFROM:+0100
TZOFFSETTO:+0200
TZNAME:CEST
DTSTART:20200329T010000
END:DAYLIGHT
BEGIN:STANDARD
TZOFFSETFROM:+0200
TZOFFSETTO:+0100
TZNAME:CET
DTSTART:20201025T010000
END:STANDARD
BEGIN:DAYLIGHT
TZOFFSETFROM:+0100
TZOFFSETTO:+0200
TZNAME:CEST
DTSTART:20210328T010000
END:DAYLIGHT
BEGIN:STANDARD
TZOFFSETFROM:+0200
TZOFFSETTO:+0100
TZNAME:CET
DTSTART:20211031T010000
END:STANDARD
END:VTIMEZONE
BEGIN:VEVENT
DTSTART;TZID=Europe/Paris:20201030T000000
DTEND;TZID=Europe/Paris:20201130T233000
DTSTAMP:20260425T141728
CREATED:20201101T135948Z
LAST-MODIFIED:20221217T080509Z
UID:6424-1604016000-1606779000@romo-photo.club
SUMMARY:COVID II  Confinement pendant 1 mois
DESCRIPTION:
URL:https://romo-photo.club/index.php/event/covid-ii-confinement/
CATEGORIES:Diffusion,Diffusion membre,Diffusion publique
END:VEVENT
BEGIN:VEVENT
DTSTART;TZID=Europe/Paris:20201031T100000
DTEND;TZID=Europe/Paris:20201101T190000
DTSTAMP:20260425T141728
CREATED:20201005T080000Z
LAST-MODIFIED:20221217T080346Z
UID:5677-1604138400-1604257200@romo-photo.club
SUMMARY:Notre exposition annuelle 2020 annulée
DESCRIPTION:Affiche expo annuelle 2020
URL:https://romo-photo.club/index.php/event/notre-exposition-annuelle-2020/
LOCATION:Lieu salle Beaulieu ( Musé Espace Automobile de MATRA)\, 17 rue des Capucins\, Romorantin-Lanthenay\, 41200\, France
CATEGORIES:Diffusion,Diffusion membre,Diffusion publique,Expo
END:VEVENT
BEGIN:VEVENT
DTSTART;TZID=Europe/Paris:20201103T183000
DTEND;TZID=Europe/Paris:20201103T210000
DTSTAMP:20260425T141728
CREATED:20201025T130923Z
LAST-MODIFIED:20221217T080321Z
UID:6317-1604428200-1604437200@romo-photo.club
SUMMARY:Réunion mensuelle annulée
DESCRIPTION:Notre réunion mensuelle\, Floriane notre invité.
URL:https://romo-photo.club/index.php/event/reunion-mensuelle-6/
CATEGORIES:Bureau,Diffusion,Diffusion bureau,Diffusion membre,Réunion
END:VEVENT
BEGIN:VEVENT
DTSTART;TZID=Europe/Paris:20201106T200000
DTEND;TZID=Europe/Paris:20201106T220000
DTSTAMP:20260425T141728
CREATED:20201007T085325Z
LAST-MODIFIED:20221217T080250Z
UID:6162-1604692800-1604700000@romo-photo.club
SUMMARY:Projection et critiques
DESCRIPTION:
URL:https://romo-photo.club/index.php/event/projection-et-critiques-2/
CATEGORIES:Diffusion,Diffusion membre,Réunion,Réunion vendredi
END:VEVENT
BEGIN:VEVENT
DTSTART;TZID=Europe/Paris:20201113T100000
DTEND;TZID=Europe/Paris:20201114T180000
DTSTAMP:20260425T141728
CREATED:20200928T132225Z
LAST-MODIFIED:20221217T080219Z
UID:5886-1605261600-1605376800@romo-photo.club
SUMMARY:Exposition annuelle de Saulgé
DESCRIPTION:reporté en 2021\, 13 et 14 Novembre \n\n\n\n\n\nJean Luc Boileau et Pierre Boulay invités
URL:https://romo-photo.club/index.php/event/exposition-annuelle-de-saulge/
LOCATION:Lieu Photo vidéo club de Saulgé\, 25 rue du bec des 2 eaux\, 86500 Saulgé\, France
CATEGORIES:Diffusion,Diffusion membre,Expo,Expo autre
END:VEVENT
BEGIN:VEVENT
DTSTART;TZID=Europe/Paris:20201120T200000
DTEND;TZID=Europe/Paris:20201120T220000
DTSTAMP:20260425T141728
CREATED:20201007T085418Z
LAST-MODIFIED:20221217T075720Z
UID:6164-1605902400-1605909600@romo-photo.club
SUMMARY:Projection et critiques
DESCRIPTION:
URL:https://romo-photo.club/index.php/event/projection-et-critiques-3/
CATEGORIES:Bureau,Diffusion,Diffusion bureau,Diffusion membre,Réunion
END:VEVENT
END:VCALENDAR