BEGIN:VCALENDAR
VERSION:2.0
PRODID:-//Romo Photo Club - ECPv6.15.20//NONSGML v1.0//EN
CALSCALE:GREGORIAN
METHOD:PUBLISH
X-WR-CALNAME:Romo Photo Club
X-ORIGINAL-URL:https://romo-photo.club
X-WR-CALDESC:Évènements pour Romo Photo Club
REFRESH-INTERVAL;VALUE=DURATION:PT1H
X-Robots-Tag:noindex
X-PUBLISHED-TTL:PT1H
BEGIN:VTIMEZONE
TZID:Europe/Paris
BEGIN:DAYLIGHT
TZOFFSETFROM:+0100
TZOFFSETTO:+0200
TZNAME:CEST
DTSTART:20220327T010000
END:DAYLIGHT
BEGIN:STANDARD
TZOFFSETFROM:+0200
TZOFFSETTO:+0100
TZNAME:CET
DTSTART:20221030T010000
END:STANDARD
BEGIN:DAYLIGHT
TZOFFSETFROM:+0100
TZOFFSETTO:+0200
TZNAME:CEST
DTSTART:20230326T010000
END:DAYLIGHT
BEGIN:STANDARD
TZOFFSETFROM:+0200
TZOFFSETTO:+0100
TZNAME:CET
DTSTART:20231029T010000
END:STANDARD
BEGIN:DAYLIGHT
TZOFFSETFROM:+0100
TZOFFSETTO:+0200
TZNAME:CEST
DTSTART:20240331T010000
END:DAYLIGHT
BEGIN:STANDARD
TZOFFSETFROM:+0200
TZOFFSETTO:+0100
TZNAME:CET
DTSTART:20241027T010000
END:STANDARD
END:VTIMEZONE
BEGIN:VEVENT
DTSTART;TZID=Europe/Paris:20230404T183000
DTEND;TZID=Europe/Paris:20230404T200000
DTSTAMP:20260423T134048
CREATED:20221208T135303Z
LAST-MODIFIED:20230325T064231Z
UID:9644-1680633000-1680638400@romo-photo.club
SUMMARY:Réunion mensuelle
DESCRIPTION:sous la présidence de Solange\, invitation Christophe Verot
URL:https://romo-photo.club/index.php/event/reunion-mensuelle-16/
CATEGORIES:Bureau,Diffusion,Diffusion bureau,Diffusion membre,Diffusion publique,Réunion
END:VEVENT
BEGIN:VEVENT
DTSTART;TZID=Europe/Paris:20230407T153000
DTEND;TZID=Europe/Paris:20230407T180000
DTSTAMP:20260423T134048
CREATED:20230407T070025Z
LAST-MODIFIED:20230407T070131Z
UID:10685-1680881400-1680890400@romo-photo.club
SUMMARY:Impression photos PdP
DESCRIPTION:avec Bernard et Pierre
URL:https://romo-photo.club/index.php/event/impression-photos-pdp-2/
CATEGORIES:Commission impression tirage,Diffusion,Diffusion bureau,Diffusion membre,Réunion
END:VEVENT
BEGIN:VEVENT
DTSTART;TZID=Europe/Paris:20230407T180000
DTEND;TZID=Europe/Paris:20230407T200000
DTSTAMP:20260423T134048
CREATED:20230325T064728Z
LAST-MODIFIED:20230325T064911Z
UID:10661-1680890400-1680897600@romo-photo.club
SUMMARY:Réunion WordPress
DESCRIPTION:avec Natacha\, Dominique et Pierre. Arborescence site
URL:https://romo-photo.club/index.php/event/reunion-wordpress-2/
CATEGORIES:Diffusion,Diffusion bureau,Diffusion membre,Réunion
END:VEVENT
BEGIN:VEVENT
DTSTART;TZID=Europe/Paris:20230407T200000
DTEND;TZID=Europe/Paris:20230407T223000
DTSTAMP:20260423T134048
CREATED:20221105T090239Z
LAST-MODIFIED:20221219T171336Z
UID:9452-1680897600-1680906600@romo-photo.club
SUMMARY:Projection et analyse
DESCRIPTION:
URL:https://romo-photo.club/index.php/event/projection-et-analyse-31/
CATEGORIES:Diffusion,Diffusion bureau,Diffusion membre,Diffusion publique,Réunion,Réunion vendredi
END:VEVENT
BEGIN:VEVENT
DTSTART;TZID=Europe/Paris:20230421T200000
DTEND;TZID=Europe/Paris:20230421T223000
DTSTAMP:20260423T134048
CREATED:20221116T140829Z
LAST-MODIFIED:20221219T171357Z
UID:9550-1682107200-1682116200@romo-photo.club
SUMMARY:Projection et analyse
DESCRIPTION:Et commission photo à 18h30
URL:https://romo-photo.club/index.php/event/projection-et-analyse-36/
CATEGORIES:Diffusion,Diffusion bureau,Diffusion membre,Diffusion publique
END:VEVENT
BEGIN:VEVENT
DTSTART;TZID=Europe/Paris:20230428T150000
DTEND;TZID=Europe/Paris:20230428T160000
DTSTAMP:20260423T134048
CREATED:20230418T061826Z
LAST-MODIFIED:20230418T061935Z
UID:10812-1682694000-1682697600@romo-photo.club
SUMMARY:accrochage expo Selles sur Cher
DESCRIPTION:
URL:https://romo-photo.club/index.php/event/accrochage-expo-selles-sur-cher/
CATEGORIES:Accrochage expo autre,Diffusion,Diffusion bureau,Diffusion membre,Expo
END:VEVENT
END:VCALENDAR