BEGIN:VCALENDAR
VERSION:2.0
PRODID:-//Romo Photo Club - ECPv6.15.20//NONSGML v1.0//EN
CALSCALE:GREGORIAN
METHOD:PUBLISH
X-ORIGINAL-URL:https://romo-photo.club
X-WR-CALDESC:Évènements pour Romo Photo Club
REFRESH-INTERVAL;VALUE=DURATION:PT1H
X-Robots-Tag:noindex
X-PUBLISHED-TTL:PT1H
BEGIN:VTIMEZONE
TZID:Europe/Paris
BEGIN:DAYLIGHT
TZOFFSETFROM:+0100
TZOFFSETTO:+0200
TZNAME:CEST
DTSTART:20180325T010000
END:DAYLIGHT
BEGIN:STANDARD
TZOFFSETFROM:+0200
TZOFFSETTO:+0100
TZNAME:CET
DTSTART:20181028T010000
END:STANDARD
BEGIN:DAYLIGHT
TZOFFSETFROM:+0100
TZOFFSETTO:+0200
TZNAME:CEST
DTSTART:20190331T010000
END:DAYLIGHT
BEGIN:STANDARD
TZOFFSETFROM:+0200
TZOFFSETTO:+0100
TZNAME:CET
DTSTART:20191027T010000
END:STANDARD
BEGIN:DAYLIGHT
TZOFFSETFROM:+0100
TZOFFSETTO:+0200
TZNAME:CEST
DTSTART:20200329T010000
END:DAYLIGHT
BEGIN:STANDARD
TZOFFSETFROM:+0200
TZOFFSETTO:+0100
TZNAME:CET
DTSTART:20201025T010000
END:STANDARD
END:VTIMEZONE
BEGIN:VEVENT
DTSTART;TZID=Europe/Paris:20190410T080000
DTEND;TZID=Europe/Paris:20190410T090000
DTSTAMP:20260425T213028
CREATED:20190621T110808Z
LAST-MODIFIED:20221217T081850Z
UID:1786-1554883200-1554886800@romo-photo.club
SUMMARY:Sortie photo fête de la musique 2019
DESCRIPTION:Sortie photo fête de la musique 2019\n\n\n\nLes précisions concernant cette sortie\, vous seront données ultérieurement.
URL:https://romo-photo.club/index.php/event/sortie-photo-fete-de-la-musique-2019/
CATEGORIES:Diffusion membre,Diffusion publique,Sortie,Sortie RPC
ORGANIZER;CN="Organisateur Romo Photo Club":MAILTO:contact@romo-photo.club
END:VEVENT
BEGIN:VEVENT
DTSTART;TZID=Europe/Paris:20190415T080000
DTEND;TZID=Europe/Paris:20190415T090000
DTSTAMP:20260425T213028
CREATED:20190415T160533Z
LAST-MODIFIED:20221217T081821Z
UID:1978-1555315200-1555318800@romo-photo.club
SUMMARY:Accrochage photo expo Selles-sur-Cher
DESCRIPTION:Pour ceux qui ont prévu des photos pour l’exposition annuelle. Les horaires précis seront affichés ultérieurement.
URL:https://romo-photo.club/index.php/event/accrochage-photo-expo-selles-sur-cher/
LOCATION:Lieu: Centre de loisirs éducatifs de Selles-sur-Cher\, Place du General de Gaulle\, Selles-sur-Cher\, 41130\, France
CATEGORIES:Accrochage expo autre,Diffusion membre,Diffusion publique,Expo
ORGANIZER;CN="Organisateur%3A Photo Club de Selles-sur-Cher":MAILTO:clubphotoselles@laposte.net
END:VEVENT
BEGIN:VEVENT
DTSTART;TZID=Europe/Paris:20190427T100000
DTEND;TZID=Europe/Paris:20190505T110000
DTSTAMP:20260425T213028
CREATED:20190407T192348Z
LAST-MODIFIED:20221217T081758Z
UID:1705-1556359200-1557054000@romo-photo.club
SUMMARY:Exposition annuelle Photo Club Selles-sur-Cher 2019
DESCRIPTION:
URL:https://romo-photo.club/index.php/event/exposition-annuelle-photo-club-selles-sur-cher/
LOCATION:Lieu: Centre de loisirs éducatifs de Selles-sur-Cher\, Place du General de Gaulle\, Selles-sur-Cher\, 41130\, France
CATEGORIES:Diffusion membre,Diffusion publique,Expo autre
ORGANIZER;CN="Organisateur%3A Photo Club de Selles-sur-Cher":MAILTO:clubphotoselles@laposte.net
END:VEVENT
BEGIN:VEVENT
DTSTART;TZID=Europe/Paris:20190427T110000
DTEND;TZID=Europe/Paris:20190427T120000
DTSTAMP:20260425T213028
CREATED:20190407T194458Z
LAST-MODIFIED:20221217T081734Z
UID:1711-1556362800-1556366400@romo-photo.club
SUMMARY:Vernissage exposition annuelle Photo Club Selles-sur-Cher 2019
DESCRIPTION:
URL:https://romo-photo.club/index.php/event/vernissage-exposition-annuelle-photo-club-selles-sur-cher-2019/
LOCATION:Lieu: Centre de loisirs éducatifs de Selles-sur-Cher\, Place du General de Gaulle\, Selles-sur-Cher\, 41130\, France
CATEGORIES:Diffusion membre,Diffusion publique,Expo autre
ORGANIZER;CN="Organisateur%3A Photo Club de Selles-sur-Cher":MAILTO:clubphotoselles@laposte.net
END:VEVENT
BEGIN:VEVENT
DTSTART;TZID=Europe/Paris:20190427T120000
DTEND;TZID=Europe/Paris:20190427T130000
DTSTAMP:20260425T213028
CREATED:20190409T134149Z
LAST-MODIFIED:20221217T081708Z
UID:1720-1556366400-1556370000@romo-photo.club
SUMMARY:Repas Carnaval de Mehun-sur-Yèvre
DESCRIPTION:Formulaire de réservation repas Carnaval de Mehun-sur-Yèvre 2019Télécharger
URL:https://romo-photo.club/index.php/event/repas-carnaval-de-mehun-sur-yevre/
LOCATION:Restaurant/traiteur « à la table » Vignoux-sur-Barangeon\, 1 route de Foëcy\, Vignoux-sur-Barangeon\, 18500\, France
CATEGORIES:Diffusion membre,Repas RPC,Sortie RPC
ORGANIZER;CN="Organisateur Romo Photo Club":MAILTO:contact@romo-photo.club
END:VEVENT
BEGIN:VEVENT
DTSTART;TZID=Europe/Paris:20190427T150000
DTEND;TZID=Europe/Paris:20190427T160000
DTSTAMP:20260425T213028
CREATED:20190407T164005Z
LAST-MODIFIED:20221217T081643Z
UID:1666-1556377200-1556380800@romo-photo.club
SUMMARY:Carnaval Vénitien de Mehun-sur-Yèvre
DESCRIPTION:Le carnaval de Venise à votre porte le temps d’un week-end ! \n\n\n\nPersonnages du carnaval de Mehun-sur-Yèvre\n\n\n\nMehun sur Yèvre les 27 & 28 avril 2019 (10ème édition) Défilé dans la ville et déambulation dans les Jardins du Duc Jean de Berry à partir de 15h00. 140 personnes costumées\, venant de toute la France et de Belgique\, défileront dans les rues de la ville. Tout au long du parcours et dans les Jardins du duc Jean de Berry\, des personnages étranges\, inspirés de la Commedia dell’arte cachés derrière leurs masques jouent le jeu de l’élégance en prenant la pose tels de grands professionnels pour le plus grand plaisir des spectateurs et des photographes. La qualité et l’originalité des costumes présentés font de cette manifestation féerique un rendez- vous incontournable ! \n\n\n\nAnimation gratuite. \n\n\n\nDéambulation libre dans les Jardins du duc Jean de Berry. \n\n\n\nTrajet du Carnaval de Mehun-sur_Yèvre
URL:https://romo-photo.club/index.php/event/carnaval-venitien-de-mehun-sur-yevre/
LOCATION:Ville de Mehun-sur-Yèvre\, place du 14 juillet\, Mehun-Sur-Yèvre\, 18500\, France
CATEGORIES:Diffusion membre,Diffusion publique,Repas RPC,Sortie RPC
END:VEVENT
END:VCALENDAR