BEGIN:VCALENDAR
VERSION:2.0
PRODID:-//Romo Photo Club - ECPv6.15.20//NONSGML v1.0//EN
CALSCALE:GREGORIAN
METHOD:PUBLISH
X-WR-CALNAME:Romo Photo Club
X-ORIGINAL-URL:https://romo-photo.club
X-WR-CALDESC:Évènements pour Romo Photo Club
REFRESH-INTERVAL;VALUE=DURATION:PT1H
X-Robots-Tag:noindex
X-PUBLISHED-TTL:PT1H
BEGIN:VTIMEZONE
TZID:Europe/Paris
BEGIN:DAYLIGHT
TZOFFSETFROM:+0100
TZOFFSETTO:+0200
TZNAME:CEST
DTSTART:20190331T010000
END:DAYLIGHT
BEGIN:STANDARD
TZOFFSETFROM:+0200
TZOFFSETTO:+0100
TZNAME:CET
DTSTART:20191027T010000
END:STANDARD
BEGIN:DAYLIGHT
TZOFFSETFROM:+0100
TZOFFSETTO:+0200
TZNAME:CEST
DTSTART:20200329T010000
END:DAYLIGHT
BEGIN:STANDARD
TZOFFSETFROM:+0200
TZOFFSETTO:+0100
TZNAME:CET
DTSTART:20201025T010000
END:STANDARD
BEGIN:DAYLIGHT
TZOFFSETFROM:+0100
TZOFFSETTO:+0200
TZNAME:CEST
DTSTART:20210328T010000
END:DAYLIGHT
BEGIN:STANDARD
TZOFFSETFROM:+0200
TZOFFSETTO:+0100
TZNAME:CET
DTSTART:20211031T010000
END:STANDARD
END:VTIMEZONE
BEGIN:VEVENT
DTSTART;TZID=Europe/Paris:20200703T200000
DTEND;TZID=Europe/Paris:20200703T223000
DTSTAMP:20260424T180043
CREATED:20200720T140317Z
LAST-MODIFIED:20200720T140318Z
UID:5254-1593806400-1593815400@romo-photo.club
SUMMARY:Réunion projection
DESCRIPTION:
URL:https://romo-photo.club/index.php/event/reunion-projection-2/
CATEGORIES:Diffusion,Diffusion membre,Réunion,Réunion vendredi
ORGANIZER;CN="Organisateur Romo Photo Club":MAILTO:contact@romo-photo.club
END:VEVENT
BEGIN:VEVENT
DTSTART;TZID=Europe/Paris:20200708T080000
DTEND;TZID=Europe/Paris:20200708T080000
DTSTAMP:20260424T180043
CREATED:20200720T132826Z
LAST-MODIFIED:20200720T133411Z
UID:5236-1594195200-1594195200@romo-photo.club
SUMMARY:Formation LR
DESCRIPTION:
URL:https://romo-photo.club/index.php/event/formation-lr/
CATEGORIES:Diffusion,Diffusion membre,Formation,Formation Lightroom
END:VEVENT
BEGIN:VEVENT
DTSTART;TZID=Europe/Paris:20200710T080000
DTEND;TZID=Europe/Paris:20200710T160000
DTSTAMP:20260424T180043
CREATED:20200720T133820Z
LAST-MODIFIED:20200720T133821Z
UID:5240-1594368000-1594396800@romo-photo.club
SUMMARY:Formation PS  Photoshop
DESCRIPTION:Initiation Retouche PS
URL:https://romo-photo.club/index.php/event/formation-ps-photoshop/
CATEGORIES:Diffusion,Diffusion membre,Formation
END:VEVENT
BEGIN:VEVENT
DTSTART;TZID=Europe/Paris:20200717T200000
DTEND;TZID=Europe/Paris:20200717T223000
DTSTAMP:20260424T180043
CREATED:20200720T135320Z
LAST-MODIFIED:20200720T135321Z
UID:5248-1595016000-1595025000@romo-photo.club
SUMMARY:Réunion projection
DESCRIPTION:Résultat thème « Silence ça pousse »
URL:https://romo-photo.club/index.php/event/reunion-projection/
CATEGORIES:Diffusion,Diffusion membre,Réunion,Réunion vendredi
END:VEVENT
BEGIN:VEVENT
DTSTART;TZID=Europe/Paris:20200718T210000
DTEND;TZID=Europe/Paris:20200718T220000
DTSTAMP:20260424T180043
CREATED:20200720T135742Z
LAST-MODIFIED:20200720T135743Z
UID:5250-1595106000-1595109600@romo-photo.club
SUMMARY:Photo voie lactée
DESCRIPTION:
URL:https://romo-photo.club/index.php/event/photo-voie-lactee/
CATEGORIES:Diffusion,Diffusion membre,Sortie,Sortie RPC
END:VEVENT
BEGIN:VEVENT
DTSTART;TZID=Europe/Paris:20200722T190000
DTEND;TZID=Europe/Paris:20200722T210000
DTSTAMP:20260424T180043
CREATED:20200720T134024Z
LAST-MODIFIED:20200812T085050Z
UID:5242-1595444400-1595451600@romo-photo.club
SUMMARY:Formation LR
DESCRIPTION:
URL:https://romo-photo.club/index.php/event/formation-lr-2/
CATEGORIES:Diffusion,Diffusion membre,Formation,Formation Lightroom
END:VEVENT
BEGIN:VEVENT
DTSTART;TZID=Europe/Paris:20200723T190000
DTEND;TZID=Europe/Paris:20200723T190000
DTSTAMP:20260424T180043
CREATED:20200720T134414Z
LAST-MODIFIED:20200720T161225Z
UID:5244-1595530800-1595530800@romo-photo.club
SUMMARY:Formation PS
DESCRIPTION:Initiation Retouche PS
URL:https://romo-photo.club/index.php/event/formation-ps/
CATEGORIES:Diffusion,Diffusion membre,Formation,Formation Photoshop
END:VEVENT
BEGIN:VEVENT
DTSTART;TZID=Europe/Paris:20200723T190000
DTEND;TZID=Europe/Paris:20200723T213000
DTSTAMP:20260424T180043
CREATED:20200723T052444Z
LAST-MODIFIED:20200723T052445Z
UID:5273-1595530800-1595539800@romo-photo.club
SUMMARY:Formation initiation à la retouche Photoshop
DESCRIPTION:Points abordés: analyse d’une photo\, retouche et préparation pour tirage
URL:https://romo-photo.club/index.php/event/formation-initiation-a-la-retouche-photoshop/
CATEGORIES:Diffusion,Diffusion membre,Formation,Formation Photoshop
END:VEVENT
BEGIN:VEVENT
DTSTART;TZID=Europe/Paris:20200730T160000
DTEND;TZID=Europe/Paris:20200730T190000
DTSTAMP:20260424T180043
CREATED:20200720T134628Z
LAST-MODIFIED:20200720T134629Z
UID:5246-1596124800-1596135600@romo-photo.club
SUMMARY:Formation PS
DESCRIPTION:
URL:https://romo-photo.club/index.php/event/formation-ps-2/
CATEGORIES:Diffusion,Diffusion membre,Formation
END:VEVENT
END:VCALENDAR