BEGIN:VCALENDAR
VERSION:2.0
PRODID:-//Romo Photo Club - ECPv6.15.20//NONSGML v1.0//EN
CALSCALE:GREGORIAN
METHOD:PUBLISH
X-ORIGINAL-URL:https://romo-photo.club
X-WR-CALDESC:Évènements pour Romo Photo Club
REFRESH-INTERVAL;VALUE=DURATION:PT1H
X-Robots-Tag:noindex
X-PUBLISHED-TTL:PT1H
BEGIN:VTIMEZONE
TZID:Europe/Paris
BEGIN:DAYLIGHT
TZOFFSETFROM:+0100
TZOFFSETTO:+0200
TZNAME:CEST
DTSTART:20190331T010000
END:DAYLIGHT
BEGIN:STANDARD
TZOFFSETFROM:+0200
TZOFFSETTO:+0100
TZNAME:CET
DTSTART:20191027T010000
END:STANDARD
BEGIN:DAYLIGHT
TZOFFSETFROM:+0100
TZOFFSETTO:+0200
TZNAME:CEST
DTSTART:20200329T010000
END:DAYLIGHT
BEGIN:STANDARD
TZOFFSETFROM:+0200
TZOFFSETTO:+0100
TZNAME:CET
DTSTART:20201025T010000
END:STANDARD
BEGIN:DAYLIGHT
TZOFFSETFROM:+0100
TZOFFSETTO:+0200
TZNAME:CEST
DTSTART:20210328T010000
END:DAYLIGHT
BEGIN:STANDARD
TZOFFSETFROM:+0200
TZOFFSETTO:+0100
TZNAME:CET
DTSTART:20211031T010000
END:STANDARD
END:VTIMEZONE
BEGIN:VEVENT
DTSTART;TZID=Europe/Paris:20200901T183000
DTEND;TZID=Europe/Paris:20200901T210000
DTSTAMP:20260424T142433
CREATED:20200824T152354Z
LAST-MODIFIED:20200828T094243Z
UID:5409-1598985000-1598994000@romo-photo.club
SUMMARY:Réunion mensuelle
DESCRIPTION:
URL:https://romo-photo.club/index.php/event/reunion-mensuelle-4/
CATEGORIES:Bureau,Diffusion,Diffusion bureau,Diffusion membre,Réunion
END:VEVENT
BEGIN:VEVENT
DTSTART;TZID=Europe/Paris:20200904T200000
DTEND;TZID=Europe/Paris:20200904T223000
DTSTAMP:20260424T142433
CREATED:20200828T094854Z
LAST-MODIFIED:20200828T094856Z
UID:5412-1599249600-1599258600@romo-photo.club
SUMMARY:Réunion projection
DESCRIPTION:Projection photos. Vos photos par WeTranfer ou clé USB pour un test
URL:https://romo-photo.club/index.php/event/reunion-projection-3/
CATEGORIES:Diffusion,Diffusion membre,Réunion,Réunion vendredi
ORGANIZER;CN="Organisateur Romo Photo Club":MAILTO:contact@romo-photo.club
END:VEVENT
BEGIN:VEVENT
DTSTART;TZID=Europe/Paris:20200904T200000
DTEND;TZID=Europe/Paris:20200904T223000
DTSTAMP:20260424T142433
CREATED:20200904T045619Z
LAST-MODIFIED:20200904T050333Z
UID:5428-1599249600-1599258600@romo-photo.club
SUMMARY:Projection photos
DESCRIPTION:
URL:https://romo-photo.club/index.php/event/projection-photos-2/
CATEGORIES:Diffusion,Diffusion membre,Diffusion publique
ORGANIZER;CN="Organisateur Romo Photo Club":MAILTO:contact@romo-photo.club
END:VEVENT
BEGIN:VEVENT
DTSTART;TZID=Europe/Paris:20200911T100000
DTEND;TZID=Europe/Paris:20200913T183000
DTSTAMP:20260424T142433
CREATED:20200903T082220Z
LAST-MODIFIED:20221217T081255Z
UID:5417-1599818400-1600021800@romo-photo.club
SUMMARY:Exposition ACPC à Vendôme
DESCRIPTION:REPORTEE
URL:https://romo-photo.club/index.php/event/exposition-a-vendome/
CATEGORIES:Diffusion,Diffusion membre,Diffusion publique,Expo,Expo autre
END:VEVENT
BEGIN:VEVENT
DTSTART;TZID=Europe/Paris:20200912T080000
DTEND;TZID=Europe/Paris:20200913T170000
DTSTAMP:20260424T142433
CREATED:20200911T064502Z
LAST-MODIFIED:20221217T081224Z
UID:5481-1599897600-1600016400@romo-photo.club
SUMMARY:Promenade artistique de Molineuf
DESCRIPTION:12 et 13 Septembre  et  19 et 20 Septembre
URL:https://romo-photo.club/index.php/event/promenade-artistique-de-molineuf/
CATEGORIES:Diffusion,Diffusion membre,Diffusion publique
END:VEVENT
BEGIN:VEVENT
DTSTART;TZID=Europe/Paris:20200918T200000
DTEND;TZID=Europe/Paris:20200918T223000
DTSTAMP:20260424T142433
CREATED:20200904T045822Z
LAST-MODIFIED:20200904T045824Z
UID:5430-1600459200-1600468200@romo-photo.club
SUMMARY:Projection photos
DESCRIPTION:
URL:https://romo-photo.club/index.php/event/projection-photos-3/
CATEGORIES:Diffusion,Diffusion membre,Diffusion publique,Réunion,Réunion vendredi
END:VEVENT
BEGIN:VEVENT
DTSTART;TZID=Europe/Paris:20200919T080000
DTEND;TZID=Europe/Paris:20200920T170000
DTSTAMP:20260424T142433
CREATED:20200911T065651Z
LAST-MODIFIED:20221217T081130Z
UID:5487-1600502400-1600621200@romo-photo.club
SUMMARY:Promenade artistique de Molineuf
DESCRIPTION:
URL:https://romo-photo.club/index.php/event/promenade-artistique-de-molineuf-2/
CATEGORIES:Diffusion,Diffusion membre,Diffusion publique
END:VEVENT
BEGIN:VEVENT
DTSTART;TZID=Europe/Paris:20200921T143000
DTEND;TZID=Europe/Paris:20200921T180000
DTSTAMP:20260424T142433
CREATED:20200921T071913Z
LAST-MODIFIED:20221217T081103Z
UID:5598-1600698600-1600711200@romo-photo.club
SUMMARY:Groupe de travail site Web RPC WordPress
DESCRIPTION:
URL:https://romo-photo.club/index.php/event/groupe-de-travail-site-web-rpc-wordpress/
CATEGORIES:Diffusion,Diffusion bureau,Diffusion membre,Formation
END:VEVENT
BEGIN:VEVENT
DTSTART;TZID=Europe/Paris:20200922T143000
DTEND;TZID=Europe/Paris:20200922T180000
DTSTAMP:20260424T142433
CREATED:20200921T071423Z
LAST-MODIFIED:20221217T081034Z
UID:5596-1600785000-1600797600@romo-photo.club
SUMMARY:Réunion exceptionnelle du bureau
DESCRIPTION:Mise en place logistique AG et expo annuelle. Attention changement d’horaire
URL:https://romo-photo.club/index.php/event/reunion-exceptionnelle-du-bureau/
CATEGORIES:AG,Bureau,Diffusion,Diffusion bureau,Diffusion membre,Réunion
ORGANIZER;CN="Organisateur Romo Photo Club":MAILTO:contact@romo-photo.club
END:VEVENT
BEGIN:VEVENT
DTSTART;TZID=Europe/Paris:20200927T083000
DTEND;TZID=Europe/Paris:20200927T180000
DTSTAMP:20260424T142433
CREATED:20200907T132726Z
LAST-MODIFIED:20200912T172012Z
UID:5446-1601195400-1601229600@romo-photo.club
SUMMARY:Sortie au Parc naturel de Boutissaint
DESCRIPTION:Prendre contact avec Jérôme\, RV  08h30 à Theillay – Covoiturage \n\n\n\nPrévoir Casse-croûte
URL:https://romo-photo.club/index.php/event/sortie-au-parc-naturel-de-boutissaint/
LOCATION:Parc naturel Boutissaint\, Treigny\, 89520\, France
CATEGORIES:Diffusion,Diffusion membre,Sortie,Sortie RPC
ORGANIZER;CN="Organisateur Romo Photo Club":MAILTO:contact@romo-photo.club
END:VEVENT
BEGIN:VEVENT
DTSTART;TZID=Europe/Paris:20200930T140000
DTEND;TZID=Europe/Paris:20200930T170000
DTSTAMP:20260424T142433
CREATED:20200926T180208Z
LAST-MODIFIED:20221217T080953Z
UID:5764-1601474400-1601485200@romo-photo.club
SUMMARY:Profils ICC sur Canon Pro10
DESCRIPTION:Jean Claude et Pierre\, chargement des profils papiers Jimagin sur la Pro10 Canon \n\n\n\npour tirages photos expo annuelle
URL:https://romo-photo.club/index.php/event/profils-icc-sur-canon-pro10/
CATEGORIES:Diffusion,Diffusion bureau,Diffusion membre
END:VEVENT
BEGIN:VEVENT
DTSTART;TZID=Europe/Paris:20200930T190000
DTEND;TZID=Europe/Paris:20200930T210000
DTSTAMP:20260424T142433
CREATED:20200924T130449Z
LAST-MODIFIED:20221217T080922Z
UID:5688-1601492400-1601499600@romo-photo.club
SUMMARY:Formation LR
DESCRIPTION:Notre ami Ludo
URL:https://romo-photo.club/index.php/event/formation-lr-3/
CATEGORIES:Diffusion,Diffusion membre,Formation,Formation Lightroom
END:VEVENT
END:VCALENDAR