BEGIN:VCALENDAR
VERSION:2.0
PRODID:-//Romo Photo Club - ECPv6.15.20//NONSGML v1.0//EN
CALSCALE:GREGORIAN
METHOD:PUBLISH
X-WR-CALNAME:Romo Photo Club
X-ORIGINAL-URL:https://romo-photo.club
X-WR-CALDESC:Évènements pour Romo Photo Club
REFRESH-INTERVAL;VALUE=DURATION:PT1H
X-Robots-Tag:noindex
X-PUBLISHED-TTL:PT1H
BEGIN:VTIMEZONE
TZID:Europe/Paris
BEGIN:DAYLIGHT
TZOFFSETFROM:+0100
TZOFFSETTO:+0200
TZNAME:CEST
DTSTART:20190331T010000
END:DAYLIGHT
BEGIN:STANDARD
TZOFFSETFROM:+0200
TZOFFSETTO:+0100
TZNAME:CET
DTSTART:20191027T010000
END:STANDARD
BEGIN:DAYLIGHT
TZOFFSETFROM:+0100
TZOFFSETTO:+0200
TZNAME:CEST
DTSTART:20200329T010000
END:DAYLIGHT
BEGIN:STANDARD
TZOFFSETFROM:+0200
TZOFFSETTO:+0100
TZNAME:CET
DTSTART:20201025T010000
END:STANDARD
BEGIN:DAYLIGHT
TZOFFSETFROM:+0100
TZOFFSETTO:+0200
TZNAME:CEST
DTSTART:20210328T010000
END:DAYLIGHT
BEGIN:STANDARD
TZOFFSETFROM:+0200
TZOFFSETTO:+0100
TZNAME:CET
DTSTART:20211031T010000
END:STANDARD
END:VTIMEZONE
BEGIN:VEVENT
DTSTART;TZID=Europe/Paris:20201002T200000
DTEND;TZID=Europe/Paris:20201002T223000
DTSTAMP:20260424T124152
CREATED:20200920T185859Z
LAST-MODIFIED:20221217T080855Z
UID:5593-1601668800-1601677800@romo-photo.club
SUMMARY:Réunion projection et critique
DESCRIPTION:présentation site Web du RPC par Pierre
URL:https://romo-photo.club/index.php/event/reunion-projection-et-critique/
CATEGORIES:Diffusion,Diffusion membre,Diffusion publique
ORGANIZER;CN="Organisateur Romo Photo Club":MAILTO:contact@romo-photo.club
END:VEVENT
BEGIN:VEVENT
DTSTART;TZID=Europe/Paris:20201006T183000
DTEND;TZID=Europe/Paris:20201006T210000
DTSTAMP:20260424T124152
CREATED:20200602T130510Z
LAST-MODIFIED:20221217T080827Z
UID:5231-1602009000-1602018000@romo-photo.club
SUMMARY:Réunion mensuelle
DESCRIPTION:Jean Luc notre président et Claudine notre invitée
URL:https://romo-photo.club/index.php/event/reunion-mensuelle-5/
CATEGORIES:Bureau,Diffusion,Diffusion membre,Réunion
END:VEVENT
BEGIN:VEVENT
DTSTART;TZID=Europe/Paris:20201007T190000
DTEND;TZID=Europe/Paris:20201007T210000
DTSTAMP:20260424T124152
CREATED:20200924T130859Z
LAST-MODIFIED:20200924T130900Z
UID:5690-1602097200-1602104400@romo-photo.club
SUMMARY:Formation LR
DESCRIPTION:
URL:https://romo-photo.club/index.php/event/formation-lr-4/
CATEGORIES:Diffusion,Diffusion membre,Formation,Formation Lightroom
END:VEVENT
BEGIN:VEVENT
DTSTART;TZID=Europe/Paris:20201014T170000
DTEND;TZID=Europe/Paris:20201014T190000
DTSTAMP:20260424T124152
CREATED:20201012T150740Z
LAST-MODIFIED:20221217T080801Z
UID:6205-1602694800-1602702000@romo-photo.club
SUMMARY:Tests imprimante Canon Pro10
DESCRIPTION:Jérôme\, Jean Claude et Jean Luc \n\n\n\n profils ICC\, nettoyage buses\, tests et tirages pour expo
URL:https://romo-photo.club/index.php/event/tests-imprimante-canon-pro10/
CATEGORIES:Diffusion,Diffusion bureau,Diffusion membre
END:VEVENT
BEGIN:VEVENT
DTSTART;TZID=Europe/Paris:20201015T140000
DTEND;TZID=Europe/Paris:20201015T180000
DTSTAMP:20260424T124152
CREATED:20201012T151134Z
LAST-MODIFIED:20221217T080733Z
UID:6207-1602770400-1602784800@romo-photo.club
SUMMARY:Préparation studio
DESCRIPTION:Claudine\, José\, Pierre \n\n\n\nkit studio en commande\, Jérôme
URL:https://romo-photo.club/index.php/event/preparation-studio/
CATEGORIES:Diffusion,Diffusion bureau,Diffusion membre
END:VEVENT
BEGIN:VEVENT
DTSTART;TZID=Europe/Paris:20201016T200000
DTEND;TZID=Europe/Paris:20201016T220000
DTSTAMP:20260424T124152
CREATED:20201007T085004Z
LAST-MODIFIED:20221217T080700Z
UID:6160-1602878400-1602885600@romo-photo.club
SUMMARY:Projection et critiques
DESCRIPTION:présentation du site Internet \n\n\n\nrésultat concours interne  » Paysage »
URL:https://romo-photo.club/index.php/event/projection-et-critiques/
CATEGORIES:Diffusion,Diffusion membre,Diffusion publique,Réunion,Réunion vendredi
END:VEVENT
BEGIN:VEVENT
DTSTART;TZID=Europe/Paris:20201021T080000
DTEND;TZID=Europe/Paris:20201025T170000
DTSTAMP:20260424T124152
CREATED:20200911T070055Z
LAST-MODIFIED:20221217T080633Z
UID:5489-1603267200-1603645200@romo-photo.club
SUMMARY:Rencontres photographiques d'Ingré annulé
DESCRIPTION:Annulé
URL:https://romo-photo.club/index.php/event/rencontres-photographiques-dingre/
LOCATION:Espace Lionel Boutrouche\, 33 Route d'Orléans\, Ingré\, 45140\, France
CATEGORIES:Diffusion,Diffusion membre,Diffusion publique,Expo,Expo autre
END:VEVENT
BEGIN:VEVENT
DTSTART;TZID=Europe/Paris:20201021T190000
DTEND;TZID=Europe/Paris:20201021T210000
DTSTAMP:20260424T124152
CREATED:20200924T131039Z
LAST-MODIFIED:20200924T131151Z
UID:5692-1603306800-1603314000@romo-photo.club
SUMMARY:Formation LR
DESCRIPTION:
URL:https://romo-photo.club/index.php/event/formation-lr-5/
CATEGORIES:Diffusion,Diffusion membre,Formation,Formation Lightroom
END:VEVENT
BEGIN:VEVENT
DTSTART;TZID=Europe/Paris:20201023T200000
DTEND;TZID=Europe/Paris:20201023T220000
DTSTAMP:20260424T124152
CREATED:20201006T072307Z
LAST-MODIFIED:20221217T080604Z
UID:6107-1603483200-1603490400@romo-photo.club
SUMMARY:Assemblée générale du RPC
DESCRIPTION:Chers adhérents\, vous êtes conviés à notre Assemblée générale \n\n\n\nvendredi 23 octobre à 20h au 58 rue des Capucins 41200 Romorantin \n\n\n\nen cas d’impossibilité\, veuillez nous envoyer votre pouvoir. \n\n\n\nLes membres du bureau
URL:https://romo-photo.club/index.php/event/assemblee-generale-du-rpc-2/
CATEGORIES:Diffusion,Diffusion membre,Diffusion publique
ORGANIZER;CN="Organisateur Romo Photo Club":MAILTO:contact@romo-photo.club
END:VEVENT
BEGIN:VEVENT
DTSTART;TZID=Europe/Paris:20201025T080000
DTEND;TZID=Europe/Paris:20201025T170000
DTSTAMP:20260424T124152
CREATED:20200928T140510Z
LAST-MODIFIED:20221217T080536Z
UID:5894-1603612800-1603645200@romo-photo.club
SUMMARY:Parc naturel de Boutissaint
DESCRIPTION:sortie RPC\,   contactez Jérôme pour horaires et covoiturage
URL:https://romo-photo.club/index.php/event/parc-naturel-de-boutissaint/
LOCATION:Parc de Boutissaint 89520 Treigny\, parc de Boutissaint\, 89520 Treigny\, France
CATEGORIES:Diffusion,Diffusion membre,Sortie,Sortie autre,Sortie RPC
END:VEVENT
BEGIN:VEVENT
DTSTART;TZID=Europe/Paris:20201029T140000
DTEND;TZID=Europe/Paris:20201029T170000
DTSTAMP:20260424T124152
CREATED:20201029T104122Z
LAST-MODIFIED:20201029T104236Z
UID:6342-1603980000-1603990800@romo-photo.club
SUMMARY:COVID II réunion extraordinaire cet aprem
DESCRIPTION:Notre exposition??? décision
URL:https://romo-photo.club/index.php/event/covid-ii-reunion-extraordinaire-cet-aprem/
CATEGORIES:Diffusion,Diffusion bureau,Diffusion membre
END:VEVENT
BEGIN:VEVENT
DTSTART;TZID=Europe/Paris:20201030T000000
DTEND;TZID=Europe/Paris:20201130T233000
DTSTAMP:20260424T124152
CREATED:20201101T135948Z
LAST-MODIFIED:20221217T080509Z
UID:6424-1604016000-1606779000@romo-photo.club
SUMMARY:COVID II  Confinement pendant 1 mois
DESCRIPTION:
URL:https://romo-photo.club/index.php/event/covid-ii-confinement/
CATEGORIES:Diffusion,Diffusion membre,Diffusion publique
END:VEVENT
BEGIN:VEVENT
DTSTART;TZID=Europe/Paris:20201030T100000
DTEND;TZID=Europe/Paris:20201030T190000
DTSTAMP:20260424T124152
CREATED:20201012T151750Z
LAST-MODIFIED:20221217T080441Z
UID:6209-1604052000-1604084400@romo-photo.club
SUMMARY:Préparation expo
DESCRIPTION:appel à tous les volontaires
URL:https://romo-photo.club/index.php/event/preparation-expo/
CATEGORIES:Diffusion,Diffusion bureau,Diffusion membre
END:VEVENT
BEGIN:VEVENT
DTSTART;TZID=Europe/Paris:20201031T090000
DTEND;TZID=Europe/Paris:20201031T100000
DTSTAMP:20260424T124152
CREATED:20201012T152253Z
LAST-MODIFIED:20221217T080414Z
UID:6211-1604134800-1604138400@romo-photo.club
SUMMARY:Accueil invité d'honneur Patrick Antzamidakis
DESCRIPTION:Aide pour accrochage des photos\, cimaises et crochets OT (Claudine)
URL:https://romo-photo.club/index.php/event/accueil-invite-dhonneur-patrick-antzamidakis/
CATEGORIES:Diffusion,Diffusion bureau,Diffusion membre
END:VEVENT
BEGIN:VEVENT
DTSTART;TZID=Europe/Paris:20201031T100000
DTEND;TZID=Europe/Paris:20201101T190000
DTSTAMP:20260424T124152
CREATED:20201005T080000Z
LAST-MODIFIED:20221217T080346Z
UID:5677-1604138400-1604257200@romo-photo.club
SUMMARY:Notre exposition annuelle 2020 annulée
DESCRIPTION:Affiche expo annuelle 2020
URL:https://romo-photo.club/index.php/event/notre-exposition-annuelle-2020/
LOCATION:Lieu salle Beaulieu ( Musé Espace Automobile de MATRA)\, 17 rue des Capucins\, Romorantin-Lanthenay\, 41200\, France
CATEGORIES:Diffusion,Diffusion membre,Diffusion publique,Expo
END:VEVENT
END:VCALENDAR