BEGIN:VCALENDAR
VERSION:2.0
PRODID:-//Romo Photo Club - ECPv6.15.20//NONSGML v1.0//EN
CALSCALE:GREGORIAN
METHOD:PUBLISH
X-WR-CALNAME:Romo Photo Club
X-ORIGINAL-URL:https://romo-photo.club
X-WR-CALDESC:Évènements pour Romo Photo Club
REFRESH-INTERVAL;VALUE=DURATION:PT1H
X-Robots-Tag:noindex
X-PUBLISHED-TTL:PT1H
BEGIN:VTIMEZONE
TZID:Europe/Paris
BEGIN:DAYLIGHT
TZOFFSETFROM:+0100
TZOFFSETTO:+0200
TZNAME:CEST
DTSTART:20200329T010000
END:DAYLIGHT
BEGIN:STANDARD
TZOFFSETFROM:+0200
TZOFFSETTO:+0100
TZNAME:CET
DTSTART:20201025T010000
END:STANDARD
BEGIN:DAYLIGHT
TZOFFSETFROM:+0100
TZOFFSETTO:+0200
TZNAME:CEST
DTSTART:20210328T010000
END:DAYLIGHT
BEGIN:STANDARD
TZOFFSETFROM:+0200
TZOFFSETTO:+0100
TZNAME:CET
DTSTART:20211031T010000
END:STANDARD
BEGIN:DAYLIGHT
TZOFFSETFROM:+0100
TZOFFSETTO:+0200
TZNAME:CEST
DTSTART:20220327T010000
END:DAYLIGHT
BEGIN:STANDARD
TZOFFSETFROM:+0200
TZOFFSETTO:+0100
TZNAME:CET
DTSTART:20221030T010000
END:STANDARD
END:VTIMEZONE
BEGIN:VEVENT
DTSTART;TZID=Europe/Paris:20210702T200000
DTEND;TZID=Europe/Paris:20210702T220000
DTSTAMP:20260423T212312
CREATED:20210622T162631Z
LAST-MODIFIED:20221217T075537Z
UID:7108-1625256000-1625263200@romo-photo.club
SUMMARY:Reprise de nos réunions membres:  Projection et critiques
DESCRIPTION:Plein de choses à partager et accueil des nouveaux membres
URL:https://romo-photo.club/index.php/event/reprise-de-nos-reunions-membres-projection-et-critiques/
CATEGORIES:Diffusion,Diffusion bureau,Diffusion membre,Diffusion publique,Réunion,Réunion vendredi
END:VEVENT
BEGIN:VEVENT
DTSTART;TZID=Europe/Paris:20210706T180000
DTEND;TZID=Europe/Paris:20210706T210000
DTSTAMP:20260423T212312
CREATED:20210703T053100Z
LAST-MODIFIED:20221217T075506Z
UID:7168-1625594400-1625605200@romo-photo.club
SUMMARY:Réunion de bureau
DESCRIPTION:Marcel sera notre président
URL:https://romo-photo.club/index.php/event/reunion-de-bureau/
CATEGORIES:Bureau,Diffusion,Diffusion bureau,Diffusion membre,Diffusion publique,Réunion
END:VEVENT
BEGIN:VEVENT
DTSTART;TZID=Europe/Paris:20210716T180000
DTEND;TZID=Europe/Paris:20210716T200000
DTSTAMP:20260423T212312
CREATED:20210706T154411Z
LAST-MODIFIED:20221217T075437Z
UID:7188-1626458400-1626465600@romo-photo.club
SUMMARY:Commission photos
DESCRIPTION:première réunion de la commission photos \n\n\n\n                             choix photo carte de visite \n\n\n\n                              choix photos expo inauguration
URL:https://romo-photo.club/index.php/event/commission-photos/
CATEGORIES:Diffusion,Diffusion bureau,Diffusion membre
END:VEVENT
BEGIN:VEVENT
DTSTART;TZID=Europe/Paris:20210716T200000
DTEND;TZID=Europe/Paris:20210716T220000
DTSTAMP:20260423T212312
CREATED:20210622T163322Z
LAST-MODIFIED:20210625T065857Z
UID:7110-1626465600-1626472800@romo-photo.club
SUMMARY:Projection et critiques
DESCRIPTION:et réunion à 18h pour la commission photos sous la présidence de Jérôme
URL:https://romo-photo.club/index.php/event/projection-et-critiques-4/
CATEGORIES:Diffusion,Diffusion bureau,Diffusion membre,Diffusion publique,Réunion,Réunion vendredi
END:VEVENT
BEGIN:VEVENT
DTSTART;TZID=Europe/Paris:20210731T150000
DTEND;TZID=Europe/Paris:20210731T230000
DTSTAMP:20260423T212312
CREATED:20210713T114942Z
LAST-MODIFIED:20221217T075406Z
UID:7241-1627743600-1627772400@romo-photo.club
SUMMARY:SORTIE PHOTOS BOURGES
DESCRIPTION:Marais de Bourges & nuits bleues \n\n\n\nINVITATIONTélécharger
URL:https://romo-photo.club/index.php/event/sortie-photos-bourges/
LOCATION:place Pierre de Coubertin Bourges
CATEGORIES:Diffusion,Diffusion bureau,Diffusion membre,Sortie,Sortie RPC
ORGANIZER;CN="Organisateur%3A RPC (Jos%C3%A9 Canon)":MAILTO:Jose.canon@romo-photo.club
END:VEVENT
END:VCALENDAR