BEGIN:VCALENDAR
VERSION:2.0
PRODID:-//Romo Photo Club - ECPv6.15.20//NONSGML v1.0//EN
CALSCALE:GREGORIAN
METHOD:PUBLISH
X-WR-CALNAME:Romo Photo Club
X-ORIGINAL-URL:https://romo-photo.club
X-WR-CALDESC:Évènements pour Romo Photo Club
REFRESH-INTERVAL;VALUE=DURATION:PT1H
X-Robots-Tag:noindex
X-PUBLISHED-TTL:PT1H
BEGIN:VTIMEZONE
TZID:Europe/Paris
BEGIN:DAYLIGHT
TZOFFSETFROM:+0100
TZOFFSETTO:+0200
TZNAME:CEST
DTSTART:20200329T010000
END:DAYLIGHT
BEGIN:STANDARD
TZOFFSETFROM:+0200
TZOFFSETTO:+0100
TZNAME:CET
DTSTART:20201025T010000
END:STANDARD
BEGIN:DAYLIGHT
TZOFFSETFROM:+0100
TZOFFSETTO:+0200
TZNAME:CEST
DTSTART:20210328T010000
END:DAYLIGHT
BEGIN:STANDARD
TZOFFSETFROM:+0200
TZOFFSETTO:+0100
TZNAME:CET
DTSTART:20211031T010000
END:STANDARD
BEGIN:DAYLIGHT
TZOFFSETFROM:+0100
TZOFFSETTO:+0200
TZNAME:CEST
DTSTART:20220327T010000
END:DAYLIGHT
BEGIN:STANDARD
TZOFFSETFROM:+0200
TZOFFSETTO:+0100
TZNAME:CET
DTSTART:20221030T010000
END:STANDARD
END:VTIMEZONE
BEGIN:VEVENT
DTSTART;TZID=Europe/Paris:20210803T143000
DTEND;TZID=Europe/Paris:20210803T170000
DTSTAMP:20260423T195842
CREATED:20210803T095314Z
LAST-MODIFIED:20221217T075337Z
UID:7374-1628001000-1628010000@romo-photo.club
SUMMARY:Réception et mise en route imprimante
DESCRIPTION:Investissement effectué par Bernard et assisté par Michel\, Jean Claude et Pierre  pour la mise en route.
URL:https://romo-photo.club/index.php/event/reception-et-mise-en-route-imprimante/
CATEGORIES:Diffusion,Diffusion bureau,Diffusion membre
END:VEVENT
BEGIN:VEVENT
DTSTART;TZID=Europe/Paris:20210806T180000
DTEND;TZID=Europe/Paris:20210806T200000
DTSTAMP:20260423T195842
CREATED:20210803T094019Z
LAST-MODIFIED:20221217T075310Z
UID:7371-1628272800-1628280000@romo-photo.club
SUMMARY:Commission photo
DESCRIPTION:
URL:https://romo-photo.club/index.php/event/commission-photo/
CATEGORIES:Commission photo,Diffusion,Diffusion bureau,Diffusion membre,Réunion,Réunion vendredi
END:VEVENT
BEGIN:VEVENT
DTSTART;TZID=Europe/Paris:20210806T200000
DTEND;TZID=Europe/Paris:20210806T220000
DTSTAMP:20260423T195842
CREATED:20210801T152310Z
LAST-MODIFIED:20221217T075246Z
UID:7368-1628280000-1628287200@romo-photo.club
SUMMARY:Projection et analyse
DESCRIPTION:
URL:https://romo-photo.club/index.php/event/projection-et-analyse/
CATEGORIES:Diffusion,Diffusion bureau,Diffusion membre,Réunion,Réunion vendredi
END:VEVENT
BEGIN:VEVENT
DTSTART;TZID=Europe/Paris:20210820T180000
DTEND;TZID=Europe/Paris:20210820T200000
DTSTAMP:20260423T195842
CREATED:20210808T091411Z
LAST-MODIFIED:20221217T075216Z
UID:7407-1629482400-1629489600@romo-photo.club
SUMMARY:Commission Impression tirage
DESCRIPTION:Bernard présentera cette Epson SC-P900 et les logiciels alloués \n\n\n\nà la commission\, avec Evelyne\, José\, Jean Claude et Pierre
URL:https://romo-photo.club/index.php/event/commission-impression-tirage/
CATEGORIES:Commission impression tirage,Diffusion,Diffusion bureau,Diffusion membre,Réunion,Réunion vendredi
END:VEVENT
BEGIN:VEVENT
DTSTART;TZID=Europe/Paris:20210820T200000
DTEND;TZID=Europe/Paris:20210820T220000
DTSTAMP:20260423T195842
CREATED:20210808T091913Z
LAST-MODIFIED:20221217T075150Z
UID:7409-1629489600-1629496800@romo-photo.club
SUMMARY:Réunion projection et analyse
DESCRIPTION:Veuillez faire suivre vos photos par WeTransfer
URL:https://romo-photo.club/index.php/event/reunion-projection-et-analyse/
CATEGORIES:Diffusion,Diffusion bureau,Diffusion membre,Réunion,Réunion vendredi
END:VEVENT
BEGIN:VEVENT
DTSTART;TZID=Europe/Paris:20210831T180000
DTEND;TZID=Europe/Paris:20210831T210000
DTSTAMP:20260423T195842
CREATED:20210821T083044Z
LAST-MODIFIED:20221217T075058Z
UID:7421-1630432800-1630443600@romo-photo.club
SUMMARY:Réunion de bureau\, changement de la date
DESCRIPTION:sous la présidence de Jean Claude et José notre invité \n\n\n\n(Michel et Pierre non disponibles) \n\n\n\nOrganisation inauguration\, point Epson\, etc
URL:https://romo-photo.club/index.php/event/reunion-de-bureau-changement-de-la-date/
CATEGORIES:Diffusion,Diffusion bureau,Diffusion membre
END:VEVENT
END:VCALENDAR