BEGIN:VCALENDAR
VERSION:2.0
PRODID:-//Romo Photo Club - ECPv6.15.20//NONSGML v1.0//EN
CALSCALE:GREGORIAN
METHOD:PUBLISH
X-WR-CALNAME:Romo Photo Club
X-ORIGINAL-URL:https://romo-photo.club
X-WR-CALDESC:Évènements pour Romo Photo Club
REFRESH-INTERVAL;VALUE=DURATION:PT1H
X-Robots-Tag:noindex
X-PUBLISHED-TTL:PT1H
BEGIN:VTIMEZONE
TZID:Europe/Paris
BEGIN:DAYLIGHT
TZOFFSETFROM:+0100
TZOFFSETTO:+0200
TZNAME:CEST
DTSTART:20210328T010000
END:DAYLIGHT
BEGIN:STANDARD
TZOFFSETFROM:+0200
TZOFFSETTO:+0100
TZNAME:CET
DTSTART:20211031T010000
END:STANDARD
BEGIN:DAYLIGHT
TZOFFSETFROM:+0100
TZOFFSETTO:+0200
TZNAME:CEST
DTSTART:20220327T010000
END:DAYLIGHT
BEGIN:STANDARD
TZOFFSETFROM:+0200
TZOFFSETTO:+0100
TZNAME:CET
DTSTART:20221030T010000
END:STANDARD
BEGIN:DAYLIGHT
TZOFFSETFROM:+0100
TZOFFSETTO:+0200
TZNAME:CEST
DTSTART:20230326T010000
END:DAYLIGHT
BEGIN:STANDARD
TZOFFSETFROM:+0200
TZOFFSETTO:+0100
TZNAME:CET
DTSTART:20231029T010000
END:STANDARD
END:VTIMEZONE
BEGIN:VEVENT
DTSTART;TZID=Europe/Paris:20220103T150000
DTEND;TZID=Europe/Paris:20220103T180000
DTSTAMP:20260423T125307
CREATED:20211231T161450Z
LAST-MODIFIED:20221217T072238Z
UID:7980-1641222000-1641232800@romo-photo.club
SUMMARY:Réunion  préparatoire "Studio" reportée
DESCRIPTION:
URL:https://romo-photo.club/index.php/event/reunion-preparatoire-studio/
CATEGORIES:Commission Studio - Nature morte,Diffusion,Diffusion bureau,Diffusion membre,Réunion
END:VEVENT
BEGIN:VEVENT
DTSTART;TZID=Europe/Paris:20220104T180000
DTEND;TZID=Europe/Paris:20220104T210000
DTSTAMP:20260423T125307
CREATED:20211217T074146Z
LAST-MODIFIED:20221217T073729Z
UID:7830-1641319200-1641330000@romo-photo.club
SUMMARY:Réunion mensuelle du bureau
DESCRIPTION:sous la présidence de Jean Luc et notre invité Evelyne
URL:https://romo-photo.club/index.php/event/reunion-mensuelle-10/
CATEGORIES:Bureau,Diffusion,Diffusion bureau,Diffusion membre,Réunion
END:VEVENT
BEGIN:VEVENT
DTSTART;TZID=Europe/Paris:20220107T180000
DTEND;TZID=Europe/Paris:20220107T200000
DTSTAMP:20260423T125307
CREATED:20211217T075145Z
LAST-MODIFIED:20221217T072205Z
UID:7833-1641578400-1641585600@romo-photo.club
SUMMARY:Connaissance de son APN
DESCRIPTION:
URL:https://romo-photo.club/index.php/event/connaissance-de-son-apn-3/
CATEGORIES:Connaissance de son APN,Diffusion,Diffusion bureau,Diffusion membre,Formation
END:VEVENT
BEGIN:VEVENT
DTSTART;TZID=Europe/Paris:20220107T200000
DTEND;TZID=Europe/Paris:20220107T220000
DTSTAMP:20260423T125307
CREATED:20211209T063704Z
LAST-MODIFIED:20221217T072137Z
UID:7725-1641585600-1641592800@romo-photo.club
SUMMARY:Projection et analyse
DESCRIPTION:
URL:https://romo-photo.club/index.php/event/projection-et-analyse-3/
CATEGORIES:Diffusion,Diffusion bureau,Diffusion membre,Diffusion publique,Réunion,Réunion vendredi
END:VEVENT
BEGIN:VEVENT
DTSTART;TZID=Europe/Paris:20220113T183000
DTEND;TZID=Europe/Paris:20220113T200000
DTSTAMP:20260423T125307
CREATED:20220108T073707Z
LAST-MODIFIED:20221217T072102Z
UID:8130-1642098600-1642104000@romo-photo.club
SUMMARY:Première réunion commission STUDIO
DESCRIPTION:
URL:https://romo-photo.club/index.php/event/premiere-reunion-commission-studio/
CATEGORIES:Commission Studio - Nature morte,Diffusion,Diffusion bureau,Diffusion membre,Réunion
END:VEVENT
BEGIN:VEVENT
DTSTART;TZID=Europe/Paris:20220114T180000
DTEND;TZID=Europe/Paris:20220114T200000
DTSTAMP:20260423T125307
CREATED:20220105T081252Z
LAST-MODIFIED:20221217T072031Z
UID:8109-1642183200-1642190400@romo-photo.club
SUMMARY:Atelier Nature morte
DESCRIPTION:6 à 8 personnes par atelier et plusieurs ateliers seront proposés. Un mail sera envoyé aux membres de ce premier groupe
URL:https://romo-photo.club/index.php/event/atelier-nature-morte/
CATEGORIES:Commission Studio - Nature morte,Connaissance de son APN,Diffusion,Diffusion membre,Formation
END:VEVENT
BEGIN:VEVENT
DTSTART;TZID=Europe/Paris:20220121T180000
DTEND;TZID=Europe/Paris:20220121T200000
DTSTAMP:20260423T125307
CREATED:20211217T075623Z
LAST-MODIFIED:20221217T072004Z
UID:7835-1642788000-1642795200@romo-photo.club
SUMMARY:Commission PHOTO (connaissance de son APN reportée)
DESCRIPTION:
URL:https://romo-photo.club/index.php/event/connaissance-de-son-apn-4/
CATEGORIES:Diffusion,Diffusion bureau,Diffusion membre
END:VEVENT
BEGIN:VEVENT
DTSTART;TZID=Europe/Paris:20220121T200000
DTEND;TZID=Europe/Paris:20220121T210000
DTSTAMP:20260423T125307
CREATED:20211209T063906Z
LAST-MODIFIED:20221217T071933Z
UID:7727-1642795200-1642798800@romo-photo.club
SUMMARY:Projection et analyse
DESCRIPTION:
URL:https://romo-photo.club/index.php/event/projection-et-analyse-4/
CATEGORIES:Diffusion,Diffusion bureau,Diffusion membre,Diffusion publique,Réunion,Réunion vendredi
END:VEVENT
BEGIN:VEVENT
DTSTART;TZID=Europe/Paris:20220128T163000
DTEND;TZID=Europe/Paris:20220128T180000
DTSTAMP:20260423T125307
CREATED:20220117T191243Z
LAST-MODIFIED:20221217T071900Z
UID:8275-1643387400-1643392800@romo-photo.club
SUMMARY:Mise en place du STUDIO
DESCRIPTION:Aménagement du local avec Thierry\, Jean Luc et Pierre
URL:https://romo-photo.club/index.php/event/mise-en-place-du-studio/
CATEGORIES:Commission Studio - Nature morte,Diffusion,Diffusion bureau,Diffusion membre,Réunion
END:VEVENT
BEGIN:VEVENT
DTSTART;TZID=Europe/Paris:20220128T180000
DTEND;TZID=Europe/Paris:20220128T200000
DTSTAMP:20260423T125307
CREATED:20220109T071340Z
LAST-MODIFIED:20221217T071831Z
UID:8136-1643392800-1643400000@romo-photo.club
SUMMARY:Atelier Nature morte
DESCRIPTION:Evelyne\, Patrick\, Claudine\, Solange\, Olivier et Jean-Jacques
URL:https://romo-photo.club/index.php/event/atelier-nature-morte-2/
CATEGORIES:Connaissance de son APN,Diffusion,Diffusion membre,Formation
END:VEVENT
END:VCALENDAR