BEGIN:VCALENDAR
VERSION:2.0
PRODID:-//Romo Photo Club - ECPv6.15.20//NONSGML v1.0//EN
CALSCALE:GREGORIAN
METHOD:PUBLISH
X-ORIGINAL-URL:https://romo-photo.club
X-WR-CALDESC:Évènements pour Romo Photo Club
REFRESH-INTERVAL;VALUE=DURATION:PT1H
X-Robots-Tag:noindex
X-PUBLISHED-TTL:PT1H
BEGIN:VTIMEZONE
TZID:Europe/Paris
BEGIN:DAYLIGHT
TZOFFSETFROM:+0100
TZOFFSETTO:+0200
TZNAME:CEST
DTSTART:20210328T010000
END:DAYLIGHT
BEGIN:STANDARD
TZOFFSETFROM:+0200
TZOFFSETTO:+0100
TZNAME:CET
DTSTART:20211031T010000
END:STANDARD
BEGIN:DAYLIGHT
TZOFFSETFROM:+0100
TZOFFSETTO:+0200
TZNAME:CEST
DTSTART:20220327T010000
END:DAYLIGHT
BEGIN:STANDARD
TZOFFSETFROM:+0200
TZOFFSETTO:+0100
TZNAME:CET
DTSTART:20221030T010000
END:STANDARD
BEGIN:DAYLIGHT
TZOFFSETFROM:+0100
TZOFFSETTO:+0200
TZNAME:CEST
DTSTART:20230326T010000
END:DAYLIGHT
BEGIN:STANDARD
TZOFFSETFROM:+0200
TZOFFSETTO:+0100
TZNAME:CET
DTSTART:20231029T010000
END:STANDARD
END:VTIMEZONE
BEGIN:VEVENT
DTSTART;TZID=Europe/Paris:20220503T183000
DTEND;TZID=Europe/Paris:20220503T200000
DTSTAMP:20260423T072455
CREATED:20220305T075543Z
LAST-MODIFIED:20221217T073524Z
UID:8682-1651602600-1651608000@romo-photo.club
SUMMARY:réunion mensuelle
DESCRIPTION:sous la présidence de Jean Claude
URL:https://romo-photo.club/index.php/event/reunion-mensuelle-12/
CATEGORIES:Bureau,Diffusion,Diffusion bureau,Diffusion membre,Réunion
END:VEVENT
BEGIN:VEVENT
DTSTART;TZID=Europe/Paris:20220506T160000
DTEND;TZID=Europe/Paris:20220506T180000
DTSTAMP:20260423T072455
CREATED:20220506T154520Z
LAST-MODIFIED:20221217T070529Z
UID:8814-1651852800-1651860000@romo-photo.club
SUMMARY:Atelier Studio Portrait
DESCRIPTION:Animateurs Thierry et Jean Luc\, 2 séances
URL:https://romo-photo.club/index.php/event/atelier-studio-portrait-4/
CATEGORIES:Diffusion,Diffusion bureau,Diffusion membre
END:VEVENT
BEGIN:VEVENT
DTSTART;TZID=Europe/Paris:20220506T183000
DTEND;TZID=Europe/Paris:20220506T200000
DTSTAMP:20260423T072455
CREATED:20220306T062921Z
LAST-MODIFIED:20221217T070500Z
UID:8691-1651861800-1651867200@romo-photo.club
SUMMARY:Commission Photo
DESCRIPTION:
URL:https://romo-photo.club/index.php/event/commission-photo-4/
CATEGORIES:Commission photo,Diffusion,Diffusion bureau,Diffusion membre,Réunion
END:VEVENT
BEGIN:VEVENT
DTSTART;TZID=Europe/Paris:20220506T200000
DTEND;TZID=Europe/Paris:20220506T220000
DTSTAMP:20260423T072455
CREATED:20211209T065327Z
LAST-MODIFIED:20221217T070429Z
UID:7741-1651867200-1651874400@romo-photo.club
SUMMARY:Projection et analyse
DESCRIPTION:
URL:https://romo-photo.club/index.php/event/projection-et-analyse-11/
CATEGORIES:Diffusion,Diffusion bureau,Diffusion membre,Diffusion publique,Réunion,Réunion vendredi
END:VEVENT
BEGIN:VEVENT
DTSTART;TZID=Europe/Paris:20220507T080000
DTEND;TZID=Europe/Paris:20220507T170000
DTSTAMP:20260423T072455
CREATED:20220422T053715Z
LAST-MODIFIED:20221217T070357Z
UID:8787-1651910400-1651942800@romo-photo.club
SUMMARY:Sortie Macro-Proxi
DESCRIPTION:avec Ludo
URL:https://romo-photo.club/index.php/event/sortie-macro-proxi-3/
CATEGORIES:Commission Sorties,Diffusion,Diffusion membre
END:VEVENT
BEGIN:VEVENT
DTSTART;TZID=Europe/Paris:20220511T140000
DTEND;TZID=Europe/Paris:20220511T170000
DTSTAMP:20260423T072455
CREATED:20220504T052411Z
LAST-MODIFIED:20221217T070327Z
UID:8809-1652277600-1652288400@romo-photo.club
SUMMARY:Vidéorama
DESCRIPTION:Animateur Robert
URL:https://romo-photo.club/index.php/event/videorama/
CATEGORIES:Diffusion,Diffusion bureau,Diffusion membre
END:VEVENT
BEGIN:VEVENT
DTSTART;TZID=Europe/Paris:20220514T080000
DTEND;TZID=Europe/Paris:20220514T170000
DTSTAMP:20260423T072455
CREATED:20220504T052716Z
LAST-MODIFIED:20221217T070257Z
UID:8811-1652515200-1652547600@romo-photo.club
SUMMARY:Sortie à Paris
DESCRIPTION:Animatrice Solange
URL:https://romo-photo.club/index.php/event/sortie-a-paris/
CATEGORIES:Diffusion,Diffusion bureau,Diffusion membre,Sortie,Sortie autre
END:VEVENT
BEGIN:VEVENT
DTSTART;TZID=Europe/Paris:20220520T160000
DTEND;TZID=Europe/Paris:20220520T200000
DTSTAMP:20260423T072455
CREATED:20220504T050447Z
LAST-MODIFIED:20221217T070226Z
UID:8802-1653062400-1653076800@romo-photo.club
SUMMARY:Atelier Studio Portrait
DESCRIPTION:Animateurs Thierry et Jean Luc\, 2 séances 16/18 et 18/20 \n\n\n\npour le trombinoscope
URL:https://romo-photo.club/index.php/event/atelier-studio-portrait-2/
CATEGORIES:Commission Studio - Nature morte,Diffusion,Diffusion bureau,Diffusion membre,Réunion
END:VEVENT
BEGIN:VEVENT
DTSTART;TZID=Europe/Paris:20220520T200000
DTEND;TZID=Europe/Paris:20220520T210000
DTSTAMP:20260423T072455
CREATED:20211209T065503Z
LAST-MODIFIED:20221217T070155Z
UID:7743-1653076800-1653080400@romo-photo.club
SUMMARY:Projection et analyse
DESCRIPTION:
URL:https://romo-photo.club/index.php/event/projection-et-analyse-12/
CATEGORIES:Diffusion,Diffusion bureau,Diffusion membre,Diffusion publique,Réunion,Réunion vendredi
END:VEVENT
BEGIN:VEVENT
DTSTART;TZID=Europe/Paris:20220522T100000
DTEND;TZID=Europe/Paris:20220522T180000
DTSTAMP:20260423T072455
CREATED:20220103T103032Z
LAST-MODIFIED:20221217T070120Z
UID:8104-1653213600-1653242400@romo-photo.club
SUMMARY:Festival Pin up party à Romorantin
DESCRIPTION:
URL:https://romo-photo.club/index.php/event/festival-pin-up-party-a-romorantin/
CATEGORIES:Diffusion,Diffusion membre,Diffusion publique
END:VEVENT
END:VCALENDAR