BEGIN:VCALENDAR
VERSION:2.0
PRODID:-//Romo Photo Club - ECPv6.15.20//NONSGML v1.0//EN
CALSCALE:GREGORIAN
METHOD:PUBLISH
X-WR-CALNAME:Romo Photo Club
X-ORIGINAL-URL:https://romo-photo.club
X-WR-CALDESC:Évènements pour Romo Photo Club
REFRESH-INTERVAL;VALUE=DURATION:PT1H
X-Robots-Tag:noindex
X-PUBLISHED-TTL:PT1H
BEGIN:VTIMEZONE
TZID:Europe/Paris
BEGIN:DAYLIGHT
TZOFFSETFROM:+0100
TZOFFSETTO:+0200
TZNAME:CEST
DTSTART:20210328T010000
END:DAYLIGHT
BEGIN:STANDARD
TZOFFSETFROM:+0200
TZOFFSETTO:+0100
TZNAME:CET
DTSTART:20211031T010000
END:STANDARD
BEGIN:DAYLIGHT
TZOFFSETFROM:+0100
TZOFFSETTO:+0200
TZNAME:CEST
DTSTART:20220327T010000
END:DAYLIGHT
BEGIN:STANDARD
TZOFFSETFROM:+0200
TZOFFSETTO:+0100
TZNAME:CET
DTSTART:20221030T010000
END:STANDARD
BEGIN:DAYLIGHT
TZOFFSETFROM:+0100
TZOFFSETTO:+0200
TZNAME:CEST
DTSTART:20230326T010000
END:DAYLIGHT
BEGIN:STANDARD
TZOFFSETFROM:+0200
TZOFFSETTO:+0100
TZNAME:CET
DTSTART:20231029T010000
END:STANDARD
END:VTIMEZONE
BEGIN:VEVENT
DTSTART;TZID=Europe/Paris:20220601T140000
DTEND;TZID=Europe/Paris:20220601T160000
DTSTAMP:20260423T060158
CREATED:20220531T071048Z
LAST-MODIFIED:20221217T070045Z
UID:8829-1654092000-1654099200@romo-photo.club
SUMMARY:Formation diaporama
DESCRIPTION:avec Robert
URL:https://romo-photo.club/index.php/event/formation-diaporama/
CATEGORIES:Diffusion,Diffusion bureau,Diffusion membre,Formation
END:VEVENT
BEGIN:VEVENT
DTSTART;TZID=Europe/Paris:20220601T140000
DTEND;TZID=Europe/Paris:20220601T160000
DTSTAMP:20260423T060158
CREATED:20220531T071851Z
LAST-MODIFIED:20221217T070013Z
UID:8831-1654092000-1654099200@romo-photo.club
SUMMARY:Formation jeune photographe
DESCRIPTION:pour Luka\, préparation au BAC Pro TOURS \n\n\n\nAnimateur: Pierre
URL:https://romo-photo.club/index.php/event/formation-jeune-photographe/
CATEGORIES:Diffusion,Diffusion bureau,Diffusion membre,Formation
END:VEVENT
BEGIN:VEVENT
DTSTART;TZID=Europe/Paris:20220603T180000
DTEND;TZID=Europe/Paris:20220603T200000
DTSTAMP:20260423T060158
CREATED:20220402T154024Z
LAST-MODIFIED:20221217T065939Z
UID:8728-1654279200-1654286400@romo-photo.club
SUMMARY:Commission Photo
DESCRIPTION:sous la présidence de Jérôme et Michel
URL:https://romo-photo.club/index.php/event/commission-photo-8/
CATEGORIES:Diffusion,Diffusion bureau,Diffusion membre
END:VEVENT
BEGIN:VEVENT
DTSTART;TZID=Europe/Paris:20220603T200000
DTEND;TZID=Europe/Paris:20220603T210000
DTSTAMP:20260423T060158
CREATED:20211209T065649Z
LAST-MODIFIED:20221217T065846Z
UID:7745-1654286400-1654290000@romo-photo.club
SUMMARY:Projection et analyse
DESCRIPTION:
URL:https://romo-photo.club/index.php/event/projection-et-analyse-13/
CATEGORIES:Diffusion,Diffusion bureau,Diffusion membre,Diffusion publique,Réunion,Réunion vendredi
END:VEVENT
BEGIN:VEVENT
DTSTART;TZID=Europe/Paris:20220607T180000
DTEND;TZID=Europe/Paris:20220607T210000
DTSTAMP:20260423T060158
CREATED:20211209T062343Z
LAST-MODIFIED:20221217T073455Z
UID:7713-1654624800-1654635600@romo-photo.club
SUMMARY:Réunion mensuelle du bureau
DESCRIPTION:sous la présidence de Pierre et Didier Besson notre invité
URL:https://romo-photo.club/index.php/event/reunion-mensuelle-du-bureau-5/
CATEGORIES:Bureau,Diffusion,Diffusion bureau,Diffusion membre,Réunion
END:VEVENT
BEGIN:VEVENT
DTSTART;TZID=Europe/Paris:20220615T140000
DTEND;TZID=Europe/Paris:20220615T160000
DTSTAMP:20260423T060158
CREATED:20220613T174114Z
LAST-MODIFIED:20221217T065815Z
UID:8896-1655301600-1655308800@romo-photo.club
SUMMARY:Formation Diaporama
DESCRIPTION:Animateur: Robert
URL:https://romo-photo.club/index.php/event/formation-diaporama-2/
CATEGORIES:Diffusion,Diffusion bureau,Diffusion membre,Formation
END:VEVENT
BEGIN:VEVENT
DTSTART;TZID=Europe/Paris:20220617T183000
DTEND;TZID=Europe/Paris:20220617T200000
DTSTAMP:20260423T060158
CREATED:20220613T173751Z
LAST-MODIFIED:20221217T065746Z
UID:8894-1655490600-1655496000@romo-photo.club
SUMMARY:Commission Photo
DESCRIPTION:Animateur: Jérôme
URL:https://romo-photo.club/index.php/event/commission-photo-5/
CATEGORIES:Commission photo,Diffusion,Diffusion bureau,Diffusion membre,Réunion
END:VEVENT
BEGIN:VEVENT
DTSTART;TZID=Europe/Paris:20220617T200000
DTEND;TZID=Europe/Paris:20220617T220000
DTSTAMP:20260423T060158
CREATED:20211210T082348Z
LAST-MODIFIED:20221217T065717Z
UID:7756-1655496000-1655503200@romo-photo.club
SUMMARY:Projection et analyse
DESCRIPTION:
URL:https://romo-photo.club/index.php/event/projection-et-analyse-15/
CATEGORIES:Diffusion,Diffusion bureau,Diffusion membre,Réunion,Réunion vendredi
END:VEVENT
BEGIN:VEVENT
DTSTART;TZID=Europe/Paris:20220623T140000
DTEND;TZID=Europe/Paris:20220623T170000
DTSTAMP:20260423T060158
CREATED:20220613T044144Z
LAST-MODIFIED:20221217T065644Z
UID:8889-1655992800-1656003600@romo-photo.club
SUMMARY:Sortie Macro Proxi avec Patrick ANTZAMIDAKIS
DESCRIPTION:1° partie théorique au local et une 2° sur le terrain au Baltan à Villeherviers
URL:https://romo-photo.club/index.php/event/sortie-macro-proxi-avec-patrick-antzamidakis/
CATEGORIES:Diffusion,Diffusion bureau,Diffusion membre,Sortie,Sortie RPC
END:VEVENT
BEGIN:VEVENT
DTSTART;TZID=Europe/Paris:20220623T160000
DTEND;TZID=Europe/Paris:20220623T200000
DTSTAMP:20260423T060158
CREATED:20220504T051243Z
LAST-MODIFIED:20221217T065439Z
UID:8804-1656000000-1656014400@romo-photo.club
SUMMARY:Atelier Studio Portrait
DESCRIPTION:Animateurs Thierry et Jean Luc\, 2 séances 16/18 et 18/20
URL:https://romo-photo.club/index.php/event/atelier-studio-portrait/
CATEGORIES:Commission Studio - Nature morte,Diffusion,Diffusion bureau,Diffusion membre,Réunion
END:VEVENT
BEGIN:VEVENT
DTSTART;TZID=Europe/Paris:20220630T180000
DTEND;TZID=Europe/Paris:20220630T200000
DTSTAMP:20260423T060158
CREATED:20220624T085351Z
LAST-MODIFIED:20221217T065407Z
UID:8910-1656612000-1656619200@romo-photo.club
SUMMARY:Atelier Portrait
DESCRIPTION:avec Jean Luc et Thierry\, nos animateurs
URL:https://romo-photo.club/index.php/event/atelier-portrait-3/
CATEGORIES:Diffusion,Diffusion membre,Formation
END:VEVENT
END:VCALENDAR