BEGIN:VCALENDAR
VERSION:2.0
PRODID:-//Romo Photo Club - ECPv6.15.20//NONSGML v1.0//EN
CALSCALE:GREGORIAN
METHOD:PUBLISH
X-WR-CALNAME:Romo Photo Club
X-ORIGINAL-URL:https://romo-photo.club
X-WR-CALDESC:Évènements pour Romo Photo Club
REFRESH-INTERVAL;VALUE=DURATION:PT1H
X-Robots-Tag:noindex
X-PUBLISHED-TTL:PT1H
BEGIN:VTIMEZONE
TZID:Europe/Paris
BEGIN:DAYLIGHT
TZOFFSETFROM:+0100
TZOFFSETTO:+0200
TZNAME:CEST
DTSTART:20210328T010000
END:DAYLIGHT
BEGIN:STANDARD
TZOFFSETFROM:+0200
TZOFFSETTO:+0100
TZNAME:CET
DTSTART:20211031T010000
END:STANDARD
BEGIN:DAYLIGHT
TZOFFSETFROM:+0100
TZOFFSETTO:+0200
TZNAME:CEST
DTSTART:20220327T010000
END:DAYLIGHT
BEGIN:STANDARD
TZOFFSETFROM:+0200
TZOFFSETTO:+0100
TZNAME:CET
DTSTART:20221030T010000
END:STANDARD
BEGIN:DAYLIGHT
TZOFFSETFROM:+0100
TZOFFSETTO:+0200
TZNAME:CEST
DTSTART:20230326T010000
END:DAYLIGHT
BEGIN:STANDARD
TZOFFSETFROM:+0200
TZOFFSETTO:+0100
TZNAME:CET
DTSTART:20231029T010000
END:STANDARD
END:VTIMEZONE
BEGIN:VEVENT
DTSTART;TZID=Europe/Paris:20220701T183000
DTEND;TZID=Europe/Paris:20220701T200000
DTSTAMP:20260423T044805
CREATED:20220306T063100Z
LAST-MODIFIED:20221217T065337Z
UID:8695-1656700200-1656705600@romo-photo.club
SUMMARY:Commission Photo
DESCRIPTION:
URL:https://romo-photo.club/index.php/event/commission-photo-6/
CATEGORIES:Diffusion,Diffusion bureau,Diffusion membre
END:VEVENT
BEGIN:VEVENT
DTSTART;TZID=Europe/Paris:20220701T200000
DTEND;TZID=Europe/Paris:20220701T220000
DTSTAMP:20260423T044805
CREATED:20211210T082755Z
LAST-MODIFIED:20221217T065307Z
UID:7760-1656705600-1656712800@romo-photo.club
SUMMARY:Projection et analyse
DESCRIPTION:
URL:https://romo-photo.club/index.php/event/projection-et-analyse-17/
CATEGORIES:Diffusion,Diffusion bureau,Diffusion membre,Réunion,Réunion vendredi
END:VEVENT
BEGIN:VEVENT
DTSTART;TZID=Europe/Paris:20220705T180000
DTEND;TZID=Europe/Paris:20220705T210000
DTSTAMP:20260423T044805
CREATED:20211209T062540Z
LAST-MODIFIED:20221217T073420Z
UID:7715-1657044000-1657054800@romo-photo.club
SUMMARY:Réunion mensuelle du bureau
DESCRIPTION:sous la présidence de Solange \n\n\n\net Dominique notre invité
URL:https://romo-photo.club/index.php/event/reunion-mensuelle-du-bureau-6/
CATEGORIES:Bureau,Diffusion,Diffusion bureau,Diffusion membre,Réunion
END:VEVENT
BEGIN:VEVENT
DTSTART;TZID=Europe/Paris:20220709T110000
DTEND;TZID=Europe/Paris:20220717T180000
DTSTAMP:20260423T044805
CREATED:20220223T051837Z
LAST-MODIFIED:20221217T065236Z
UID:8524-1657364400-1658080800@romo-photo.club
SUMMARY:7° salon national d'Art photographique de Selles sur Cher
DESCRIPTION:
URL:https://romo-photo.club/index.php/event/7-salon-national-dart-photographique-de-selles-sur-cher/
CATEGORIES:Diffusion,Diffusion membre,Diffusion publique
END:VEVENT
BEGIN:VEVENT
DTSTART;TZID=Europe/Paris:20220715T170000
DTEND;TZID=Europe/Paris:20220715T200000
DTSTAMP:20260423T044805
CREATED:20220712T081418Z
LAST-MODIFIED:20221217T065202Z
UID:9006-1657904400-1657915200@romo-photo.club
SUMMARY:Impression
DESCRIPTION:avec Bernard et pierre
URL:https://romo-photo.club/index.php/event/impression/
CATEGORIES:Commission impression tirage,Diffusion,Diffusion membre,Réunion
END:VEVENT
BEGIN:VEVENT
DTSTART;TZID=Europe/Paris:20220715T200000
DTEND;TZID=Europe/Paris:20220715T220000
DTSTAMP:20260423T044805
CREATED:20211210T082944Z
LAST-MODIFIED:20220713T163655Z
UID:7762-1657915200-1657922400@romo-photo.club
SUMMARY:Projection et analyse
DESCRIPTION:Et projection des photos retenues par la commission pour notre exposition
URL:https://romo-photo.club/index.php/event/projection-et-analyse-18/
CATEGORIES:Diffusion,Diffusion bureau,Diffusion membre,Réunion,Réunion vendredi
END:VEVENT
BEGIN:VEVENT
DTSTART;TZID=Europe/Paris:20220721T160000
DTEND;TZID=Europe/Paris:20220721T200000
DTSTAMP:20260423T044805
CREATED:20220504T051952Z
LAST-MODIFIED:20221217T065131Z
UID:8807-1658419200-1658433600@romo-photo.club
SUMMARY:Atelier Studio Portrait
DESCRIPTION:Animateurs Thierry et Jean Luc
URL:https://romo-photo.club/index.php/event/atelier-studio-portrait-3/
CATEGORIES:Commission Studio - Nature morte,Diffusion,Diffusion bureau,Diffusion membre,Réunion
END:VEVENT
BEGIN:VEVENT
DTSTART;TZID=Europe/Paris:20220729T213000
DTEND;TZID=Europe/Paris:20220729T223000
DTSTAMP:20260423T044805
CREATED:20220725T174018Z
LAST-MODIFIED:20221217T065102Z
UID:9076-1659130200-1659133800@romo-photo.club
SUMMARY:Sortie voie lactée
DESCRIPTION:avec Ludo\, rendez-vous place de la mairie à 21h30 \n\n\n\nAPN\, batterie\, carte\, pied
URL:https://romo-photo.club/index.php/event/sortie-voie-lactee/
CATEGORIES:Diffusion,Diffusion bureau,Diffusion membre,Sortie,Sortie RPC
END:VEVENT
END:VCALENDAR