BEGIN:VCALENDAR
VERSION:2.0
PRODID:-//Romo Photo Club - ECPv6.15.20//NONSGML v1.0//EN
CALSCALE:GREGORIAN
METHOD:PUBLISH
X-ORIGINAL-URL:https://romo-photo.club
X-WR-CALDESC:Évènements pour Romo Photo Club
REFRESH-INTERVAL;VALUE=DURATION:PT1H
X-Robots-Tag:noindex
X-PUBLISHED-TTL:PT1H
BEGIN:VTIMEZONE
TZID:Europe/Paris
BEGIN:DAYLIGHT
TZOFFSETFROM:+0100
TZOFFSETTO:+0200
TZNAME:CEST
DTSTART:20210328T010000
END:DAYLIGHT
BEGIN:STANDARD
TZOFFSETFROM:+0200
TZOFFSETTO:+0100
TZNAME:CET
DTSTART:20211031T010000
END:STANDARD
BEGIN:DAYLIGHT
TZOFFSETFROM:+0100
TZOFFSETTO:+0200
TZNAME:CEST
DTSTART:20220327T010000
END:DAYLIGHT
BEGIN:STANDARD
TZOFFSETFROM:+0200
TZOFFSETTO:+0100
TZNAME:CET
DTSTART:20221030T010000
END:STANDARD
BEGIN:DAYLIGHT
TZOFFSETFROM:+0100
TZOFFSETTO:+0200
TZNAME:CEST
DTSTART:20230326T010000
END:DAYLIGHT
BEGIN:STANDARD
TZOFFSETFROM:+0200
TZOFFSETTO:+0100
TZNAME:CET
DTSTART:20231029T010000
END:STANDARD
END:VTIMEZONE
BEGIN:VEVENT
DTSTART;TZID=Europe/Paris:20220805T143000
DTEND;TZID=Europe/Paris:20220805T200000
DTSTAMP:20260423T032431
CREATED:20220721T065745Z
LAST-MODIFIED:20221217T065034Z
UID:9072-1659709800-1659729600@romo-photo.club
SUMMARY:Commission Impression
DESCRIPTION:Retouche et tirages photos expo 2022 avec Evelyne\, Bernard et Pierre
URL:https://romo-photo.club/index.php/event/commission-impression/
CATEGORIES:Commission impression tirage,Diffusion,Diffusion bureau,Diffusion membre,Réunion
END:VEVENT
BEGIN:VEVENT
DTSTART;TZID=Europe/Paris:20220805T200000
DTEND;TZID=Europe/Paris:20220805T220000
DTSTAMP:20260423T032431
CREATED:20211210T083116Z
LAST-MODIFIED:20221217T065005Z
UID:7764-1659729600-1659736800@romo-photo.club
SUMMARY:Projection et analyse
DESCRIPTION:
URL:https://romo-photo.club/index.php/event/projection-et-analyse-19/
CATEGORIES:Commission impression tirage,Diffusion,Diffusion bureau,Diffusion membre,Diffusion publique,Réunion,Réunion vendredi
END:VEVENT
BEGIN:VEVENT
DTSTART;TZID=Europe/Paris:20220819T180000
DTEND;TZID=Europe/Paris:20220819T200000
DTSTAMP:20260423T032431
CREATED:20220729T163615Z
LAST-MODIFIED:20221217T064938Z
UID:9101-1660932000-1660939200@romo-photo.club
SUMMARY:Commission Impression
DESCRIPTION:avec Evelyne\, Bernard\, Thierry et Pierre \n\n\n\ntirages pour notre exposition et tirages perso
URL:https://romo-photo.club/index.php/event/commission-impression-2/
CATEGORIES:Commission impression tirage,Diffusion,Diffusion bureau,Diffusion membre,Expo,Réunion
END:VEVENT
BEGIN:VEVENT
DTSTART;TZID=Europe/Paris:20220819T200000
DTEND;TZID=Europe/Paris:20220819T220000
DTSTAMP:20260423T032431
CREATED:20211210T083305Z
LAST-MODIFIED:20221217T064908Z
UID:7766-1660939200-1660946400@romo-photo.club
SUMMARY:Projection et analyse
DESCRIPTION:
URL:https://romo-photo.club/index.php/event/projection-et-analyse-20/
CATEGORIES:Diffusion,Diffusion bureau,Diffusion membre,Diffusion publique,Réunion,Réunion vendredi
END:VEVENT
END:VCALENDAR