BEGIN:VCALENDAR
VERSION:2.0
PRODID:-//Romo Photo Club - ECPv6.15.20//NONSGML v1.0//EN
CALSCALE:GREGORIAN
METHOD:PUBLISH
X-WR-CALNAME:Romo Photo Club
X-ORIGINAL-URL:https://romo-photo.club
X-WR-CALDESC:Évènements pour Romo Photo Club
REFRESH-INTERVAL;VALUE=DURATION:PT1H
X-Robots-Tag:noindex
X-PUBLISHED-TTL:PT1H
BEGIN:VTIMEZONE
TZID:Europe/Paris
BEGIN:DAYLIGHT
TZOFFSETFROM:+0100
TZOFFSETTO:+0200
TZNAME:CEST
DTSTART:20210328T010000
END:DAYLIGHT
BEGIN:STANDARD
TZOFFSETFROM:+0200
TZOFFSETTO:+0100
TZNAME:CET
DTSTART:20211031T010000
END:STANDARD
BEGIN:DAYLIGHT
TZOFFSETFROM:+0100
TZOFFSETTO:+0200
TZNAME:CEST
DTSTART:20220327T010000
END:DAYLIGHT
BEGIN:STANDARD
TZOFFSETFROM:+0200
TZOFFSETTO:+0100
TZNAME:CET
DTSTART:20221030T010000
END:STANDARD
BEGIN:DAYLIGHT
TZOFFSETFROM:+0100
TZOFFSETTO:+0200
TZNAME:CEST
DTSTART:20230326T010000
END:DAYLIGHT
BEGIN:STANDARD
TZOFFSETFROM:+0200
TZOFFSETTO:+0100
TZNAME:CET
DTSTART:20231029T010000
END:STANDARD
END:VTIMEZONE
BEGIN:VEVENT
DTSTART;TZID=Europe/Paris:20221004T183000
DTEND;TZID=Europe/Paris:20221004T210000
DTSTAMP:20260423T001937
CREATED:20211209T062929Z
LAST-MODIFIED:20221217T073324Z
UID:7719-1664908200-1664917200@romo-photo.club
SUMMARY:Réunion mensuelle du bureau
DESCRIPTION:
URL:https://romo-photo.club/index.php/event/reunion-mensuelle-du-bureau-8/
CATEGORIES:Bureau,Diffusion,Diffusion bureau,Diffusion membre,Diffusion publique,Réunion
END:VEVENT
BEGIN:VEVENT
DTSTART;TZID=Europe/Paris:20221007T200000
DTEND;TZID=Europe/Paris:20221007T220000
DTSTAMP:20260423T001937
CREATED:20211210T084230Z
LAST-MODIFIED:20221217T064654Z
UID:7772-1665172800-1665180000@romo-photo.club
SUMMARY:Projection et analyse
DESCRIPTION:soirée dédiée à Patrick Antzamidakis\, sortie Macro Proxi\, 5 photos par membre avec les originaux.
URL:https://romo-photo.club/index.php/event/projection-et-analyse-22/
CATEGORIES:Diffusion,Diffusion bureau,Diffusion membre,Diffusion publique,Réunion,Réunion vendredi
END:VEVENT
BEGIN:VEVENT
DTSTART;TZID=Europe/Paris:20221014T090000
DTEND;TZID=Europe/Paris:20221014T180000
DTSTAMP:20260423T001937
CREATED:20211211T060751Z
LAST-MODIFIED:20221217T064618Z
UID:7786-1665738000-1665770400@romo-photo.club
SUMMARY:Accrochage et vernissage
DESCRIPTION:Mise en place et accrochage à partir de 9h  \n\n\n\nvernissage à 18h
URL:https://romo-photo.club/index.php/event/vernissage/
CATEGORIES:Diffusion,Diffusion bureau,Diffusion membre,Expo,Expo RPC
END:VEVENT
BEGIN:VEVENT
DTSTART;TZID=Europe/Paris:20221015T100000
DTEND;TZID=Europe/Paris:20221016T180000
DTSTAMP:20260423T001937
CREATED:20211211T060627Z
LAST-MODIFIED:20221217T064551Z
UID:7784-1665828000-1665943200@romo-photo.club
SUMMARY:Notre exposition annuelle
DESCRIPTION:Philippe LEGER\, notre invité. Salle Beaulieu musée MATRA
URL:https://romo-photo.club/index.php/event/notre-exposition-annuelle/
CATEGORIES:Diffusion,Diffusion bureau,Diffusion membre,Diffusion publique,Expo,Expo RPC
END:VEVENT
BEGIN:VEVENT
DTSTART;TZID=Europe/Paris:20221021T200000
DTEND;TZID=Europe/Paris:20221021T220000
DTSTAMP:20260423T001937
CREATED:20211210T084515Z
LAST-MODIFIED:20221217T064525Z
UID:7774-1666382400-1666389600@romo-photo.club
SUMMARY:Projection et analyse
DESCRIPTION:
URL:https://romo-photo.club/index.php/event/projection-et-analyse-23/
CATEGORIES:Diffusion,Diffusion bureau,Diffusion membre,Réunion,Réunion vendredi
END:VEVENT
BEGIN:VEVENT
DTSTART;TZID=Europe/Paris:20221028T200000
DTEND;TZID=Europe/Paris:20221028T220000
DTSTAMP:20260423T001937
CREATED:20221007T061613Z
LAST-MODIFIED:20221217T064458Z
UID:9244-1666987200-1666994400@romo-photo.club
SUMMARY:Assemblée générale du RPC
DESCRIPTION:au local du photo club
URL:https://romo-photo.club/index.php/event/assemblee-generale-du-rpc/
CATEGORIES:AG,Diffusion,Diffusion bureau,Diffusion membre,Diffusion publique,Réunion
END:VEVENT
END:VCALENDAR