BEGIN:VCALENDAR
VERSION:2.0
PRODID:-//Romo Photo Club - ECPv6.15.20//NONSGML v1.0//EN
CALSCALE:GREGORIAN
METHOD:PUBLISH
X-WR-CALNAME:Romo Photo Club
X-ORIGINAL-URL:https://romo-photo.club
X-WR-CALDESC:Évènements pour Romo Photo Club
REFRESH-INTERVAL;VALUE=DURATION:PT1H
X-Robots-Tag:noindex
X-PUBLISHED-TTL:PT1H
BEGIN:VTIMEZONE
TZID:Europe/Paris
BEGIN:DAYLIGHT
TZOFFSETFROM:+0100
TZOFFSETTO:+0200
TZNAME:CEST
DTSTART:20220327T010000
END:DAYLIGHT
BEGIN:STANDARD
TZOFFSETFROM:+0200
TZOFFSETTO:+0100
TZNAME:CET
DTSTART:20221030T010000
END:STANDARD
BEGIN:DAYLIGHT
TZOFFSETFROM:+0100
TZOFFSETTO:+0200
TZNAME:CEST
DTSTART:20230326T010000
END:DAYLIGHT
BEGIN:STANDARD
TZOFFSETFROM:+0200
TZOFFSETTO:+0100
TZNAME:CET
DTSTART:20231029T010000
END:STANDARD
BEGIN:DAYLIGHT
TZOFFSETFROM:+0100
TZOFFSETTO:+0200
TZNAME:CEST
DTSTART:20240331T010000
END:DAYLIGHT
BEGIN:STANDARD
TZOFFSETFROM:+0200
TZOFFSETTO:+0100
TZNAME:CET
DTSTART:20241027T010000
END:STANDARD
END:VTIMEZONE
BEGIN:VEVENT
DTSTART;TZID=Europe/Paris:20230602T200000
DTEND;TZID=Europe/Paris:20230602T223000
DTSTAMP:20260422T130557
CREATED:20221105T090450Z
LAST-MODIFIED:20221219T171433Z
UID:9456-1685736000-1685745000@romo-photo.club
SUMMARY:Projection et analyse
DESCRIPTION:
URL:https://romo-photo.club/index.php/event/projection-et-analyse-33/
CATEGORIES:Diffusion,Diffusion bureau,Diffusion membre,Diffusion publique,Réunion,Réunion vendredi
END:VEVENT
BEGIN:VEVENT
DTSTART;TZID=Europe/Paris:20230606T183000
DTEND;TZID=Europe/Paris:20230606T210000
DTSTAMP:20260422T130557
CREATED:20230605T070634Z
LAST-MODIFIED:20230605T145749Z
UID:11316-1686076200-1686085200@romo-photo.club
SUMMARY:Réunion mensuelle
DESCRIPTION:Sous la présidence de Ludo et notre invité Thierry Wogensthal
URL:https://romo-photo.club/index.php/event/reunion-mensuelle-18/
CATEGORIES:Bureau,Diffusion,Diffusion bureau,Diffusion membre,Diffusion publique,Réunion
END:VEVENT
BEGIN:VEVENT
DTSTART;TZID=Europe/Paris:20230607T140000
DTEND;TZID=Europe/Paris:20230607T170000
DTSTAMP:20260422T130557
CREATED:20230605T085958Z
LAST-MODIFIED:20230605T090050Z
UID:11318-1686146400-1686157200@romo-photo.club
SUMMARY:Cours PhotoShop
DESCRIPTION:
URL:https://romo-photo.club/index.php/event/cours-photoshop/
CATEGORIES:Diffusion,Diffusion membre,Formation,Formation Photoshop
END:VEVENT
BEGIN:VEVENT
DTSTART;TZID=Europe/Paris:20230613T140000
DTEND;TZID=Europe/Paris:20230613T170000
DTSTAMP:20260422T130557
CREATED:20230608T164626Z
LAST-MODIFIED:20230608T164628Z
UID:11337-1686664800-1686675600@romo-photo.club
SUMMARY:Sortie photo musée Matra
DESCRIPTION:
URL:https://romo-photo.club/index.php/event/sortie-photo-musee-matra/
CATEGORIES:Diffusion,Diffusion membre,Sortie,Sortie RPC
END:VEVENT
BEGIN:VEVENT
DTSTART;TZID=Europe/Paris:20230616T200000
DTEND;TZID=Europe/Paris:20230616T223000
DTSTAMP:20260422T130557
CREATED:20221105T090542Z
LAST-MODIFIED:20221219T171329Z
UID:9458-1686945600-1686954600@romo-photo.club
SUMMARY:Projection et analyse
DESCRIPTION:Et commission photo à 18h30
URL:https://romo-photo.club/index.php/event/projection-et-analyse-34/
CATEGORIES:Diffusion,Diffusion bureau,Diffusion membre,Diffusion publique,Réunion,Réunion vendredi
END:VEVENT
BEGIN:VEVENT
DTSTART;TZID=Europe/Paris:20230617T200000
DTEND;TZID=Europe/Paris:20230617T220000
DTSTAMP:20260422T130557
CREATED:20230605T065342Z
LAST-MODIFIED:20230605T065344Z
UID:11311-1687032000-1687039200@romo-photo.club
SUMMARY:Sortie voie lactée
DESCRIPTION:avec Ludo\, rendez-vous 20h\, place de l’église à Saint Christophe en Bazelle
URL:https://romo-photo.club/index.php/event/sortie-voie-lactee-2/
CATEGORIES:Diffusion,Diffusion membre,Sortie,Sortie RPC
END:VEVENT
END:VCALENDAR