BEGIN:VCALENDAR
VERSION:2.0
PRODID:-//Romo Photo Club - ECPv6.15.20//NONSGML v1.0//EN
CALSCALE:GREGORIAN
METHOD:PUBLISH
X-ORIGINAL-URL:https://romo-photo.club
X-WR-CALDESC:Évènements pour Romo Photo Club
REFRESH-INTERVAL;VALUE=DURATION:PT1H
X-Robots-Tag:noindex
X-PUBLISHED-TTL:PT1H
BEGIN:VTIMEZONE
TZID:Europe/Paris
BEGIN:DAYLIGHT
TZOFFSETFROM:+0100
TZOFFSETTO:+0200
TZNAME:CEST
DTSTART:20220327T010000
END:DAYLIGHT
BEGIN:STANDARD
TZOFFSETFROM:+0200
TZOFFSETTO:+0100
TZNAME:CET
DTSTART:20221030T010000
END:STANDARD
BEGIN:DAYLIGHT
TZOFFSETFROM:+0100
TZOFFSETTO:+0200
TZNAME:CEST
DTSTART:20230326T010000
END:DAYLIGHT
BEGIN:STANDARD
TZOFFSETFROM:+0200
TZOFFSETTO:+0100
TZNAME:CET
DTSTART:20231029T010000
END:STANDARD
BEGIN:DAYLIGHT
TZOFFSETFROM:+0100
TZOFFSETTO:+0200
TZNAME:CEST
DTSTART:20240331T010000
END:DAYLIGHT
BEGIN:STANDARD
TZOFFSETFROM:+0200
TZOFFSETTO:+0100
TZNAME:CET
DTSTART:20241027T010000
END:STANDARD
END:VTIMEZONE
BEGIN:VEVENT
DTSTART;TZID=Europe/Paris:20231201T190000
DTEND;TZID=Europe/Paris:20231201T210000
DTSTAMP:20260422T035106
CREATED:20230626T044546Z
LAST-MODIFIED:20231124T161818Z
UID:11478-1701457200-1701464400@romo-photo.club
SUMMARY:Pot de Noël du RPC
DESCRIPTION:pas de projection
URL:https://romo-photo.club/index.php/event/projection-et-analyse-49/
CATEGORIES:Diffusion,Diffusion membre,Diffusion publique,Réunion,Réunion vendredi
END:VEVENT
BEGIN:VEVENT
DTSTART;TZID=Europe/Paris:20231205T183000
DTEND;TZID=Europe/Paris:20231205T210000
DTSTAMP:20260422T035106
CREATED:20230626T041620Z
LAST-MODIFIED:20231124T161855Z
UID:11452-1701801000-1701810000@romo-photo.club
SUMMARY:Réunion mensuelle
DESCRIPTION:sous la présidence de Jean Claude
URL:https://romo-photo.club/index.php/event/reunion-mensuelle-23/
CATEGORIES:Bureau,Diffusion,Diffusion bureau,Diffusion membre,Diffusion publique,Réunion
END:VEVENT
BEGIN:VEVENT
DTSTART;TZID=Europe/Paris:20231215T163000
DTEND;TZID=Europe/Paris:20231215T193000
DTSTAMP:20260422T035106
CREATED:20231109T142258Z
LAST-MODIFIED:20231217T071916Z
UID:12110-1702657800-1702668600@romo-photo.club
SUMMARY:Formation Flash Cobra
DESCRIPTION:Reportée  \n\n\n\n\n\nanimateur Thierry
URL:https://romo-photo.club/index.php/event/formation-flash-cobra/
CATEGORIES:Diffusion,Diffusion membre,Diffusion publique,Formation,Formation flash
END:VEVENT
BEGIN:VEVENT
DTSTART;TZID=Europe/Paris:20231215T193000
DTEND;TZID=Europe/Paris:20231215T220000
DTSTAMP:20260422T035106
CREATED:20230626T044325Z
LAST-MODIFIED:20231124T155554Z
UID:11476-1702668600-1702677600@romo-photo.club
SUMMARY:Projection et analyse
DESCRIPTION:
URL:https://romo-photo.club/index.php/event/projection-et-analyse-48/
CATEGORIES:Diffusion,Diffusion membre,Diffusion publique,Réunion,Réunion vendredi
END:VEVENT
END:VCALENDAR