BEGIN:VCALENDAR
VERSION:2.0
PRODID:-//Romo Photo Club - ECPv6.15.20//NONSGML v1.0//EN
CALSCALE:GREGORIAN
METHOD:PUBLISH
X-WR-CALNAME:Romo Photo Club
X-ORIGINAL-URL:https://romo-photo.club
X-WR-CALDESC:Évènements pour Romo Photo Club
REFRESH-INTERVAL;VALUE=DURATION:PT1H
X-Robots-Tag:noindex
X-PUBLISHED-TTL:PT1H
BEGIN:VTIMEZONE
TZID:Europe/Paris
BEGIN:DAYLIGHT
TZOFFSETFROM:+0100
TZOFFSETTO:+0200
TZNAME:CEST
DTSTART:20230326T010000
END:DAYLIGHT
BEGIN:STANDARD
TZOFFSETFROM:+0200
TZOFFSETTO:+0100
TZNAME:CET
DTSTART:20231029T010000
END:STANDARD
BEGIN:DAYLIGHT
TZOFFSETFROM:+0100
TZOFFSETTO:+0200
TZNAME:CEST
DTSTART:20240331T010000
END:DAYLIGHT
BEGIN:STANDARD
TZOFFSETFROM:+0200
TZOFFSETTO:+0100
TZNAME:CET
DTSTART:20241027T010000
END:STANDARD
BEGIN:DAYLIGHT
TZOFFSETFROM:+0100
TZOFFSETTO:+0200
TZNAME:CEST
DTSTART:20250330T010000
END:DAYLIGHT
BEGIN:STANDARD
TZOFFSETFROM:+0200
TZOFFSETTO:+0100
TZNAME:CET
DTSTART:20251026T010000
END:STANDARD
END:VTIMEZONE
BEGIN:VEVENT
DTSTART;TZID=Europe/Paris:20240301T150000
DTEND;TZID=Europe/Paris:20240301T193000
DTSTAMP:20260421T232737
CREATED:20240208T132901Z
LAST-MODIFIED:20240227T142850Z
UID:12601-1709305200-1709321400@romo-photo.club
SUMMARY:Commission Impression
DESCRIPTION:tirages photos pour Le Printemps
URL:https://romo-photo.club/index.php/event/commission-impression-5/
CATEGORIES:Commission impression tirage,Diffusion,Diffusion membre,Diffusion publique
END:VEVENT
BEGIN:VEVENT
DTSTART;TZID=Europe/Paris:20240301T193000
DTEND;TZID=Europe/Paris:20240301T220000
DTSTAMP:20260421T232737
CREATED:20231123T074737Z
LAST-MODIFIED:20231124T162720Z
UID:12194-1709321400-1709330400@romo-photo.club
SUMMARY:Projection et analyse
DESCRIPTION:
URL:https://romo-photo.club/index.php/event/projection-et-analyse-54/
CATEGORIES:Diffusion,Diffusion membre,Diffusion publique,Réunion vendredi
END:VEVENT
BEGIN:VEVENT
DTSTART;TZID=Europe/Paris:20240307T183000
DTEND;TZID=Europe/Paris:20240307T210000
DTSTAMP:20260421T232737
CREATED:20231121T143620Z
LAST-MODIFIED:20240220T094912Z
UID:12145-1709836200-1709845200@romo-photo.club
SUMMARY:Réunion mensuelle (report)
DESCRIPTION:sous la présidence de Thierry\, invité Alain
URL:https://romo-photo.club/index.php/event/reunion-mensuelle-27/
CATEGORIES:Bureau,Diffusion,Diffusion membre,Diffusion publique
END:VEVENT
BEGIN:VEVENT
DTSTART;TZID=Europe/Paris:20240315T160000
DTEND;TZID=Europe/Paris:20240315T190000
DTSTAMP:20260421T232737
CREATED:20240227T141758Z
LAST-MODIFIED:20240304T172121Z
UID:12640-1710518400-1710529200@romo-photo.club
SUMMARY:Formation LR
DESCRIPTION:Bernard\, notre animateur
URL:https://romo-photo.club/index.php/event/formation-lr-8/
CATEGORIES:Diffusion,Diffusion membre,Diffusion publique,Formation,Formation Lightroom
END:VEVENT
BEGIN:VEVENT
DTSTART;TZID=Europe/Paris:20240315T193000
DTEND;TZID=Europe/Paris:20240315T220000
DTSTAMP:20260421T232737
CREATED:20231123T074830Z
LAST-MODIFIED:20240208T133334Z
UID:12196-1710531000-1710540000@romo-photo.club
SUMMARY:Projection et analyse
DESCRIPTION:
URL:https://romo-photo.club/index.php/event/projection-et-analyse-55/
CATEGORIES:Diffusion,Diffusion membre,Diffusion publique,Réunion vendredi
END:VEVENT
BEGIN:VEVENT
DTSTART;TZID=Europe/Paris:20240322T180000
DTEND;TZID=Europe/Paris:20240322T200000
DTSTAMP:20260421T232737
CREATED:20240308T055746Z
LAST-MODIFIED:20240310T131152Z
UID:12651-1711130400-1711137600@romo-photo.club
SUMMARY:Formation photographie de près
DESCRIPTION:Initiation théorique à la macro proxi par l’exemple
URL:https://romo-photo.club/index.php/event/formation-photographie-de-pres/
CATEGORIES:Diffusion,Diffusion membre,Formation
END:VEVENT
END:VCALENDAR