BEGIN:VCALENDAR
VERSION:2.0
PRODID:-//Romo Photo Club - ECPv6.15.20//NONSGML v1.0//EN
CALSCALE:GREGORIAN
METHOD:PUBLISH
X-ORIGINAL-URL:https://romo-photo.club
X-WR-CALDESC:Évènements pour Romo Photo Club
REFRESH-INTERVAL;VALUE=DURATION:PT1H
X-Robots-Tag:noindex
X-PUBLISHED-TTL:PT1H
BEGIN:VTIMEZONE
TZID:Europe/Paris
BEGIN:DAYLIGHT
TZOFFSETFROM:+0100
TZOFFSETTO:+0200
TZNAME:CEST
DTSTART:20230326T010000
END:DAYLIGHT
BEGIN:STANDARD
TZOFFSETFROM:+0200
TZOFFSETTO:+0100
TZNAME:CET
DTSTART:20231029T010000
END:STANDARD
BEGIN:DAYLIGHT
TZOFFSETFROM:+0100
TZOFFSETTO:+0200
TZNAME:CEST
DTSTART:20240331T010000
END:DAYLIGHT
BEGIN:STANDARD
TZOFFSETFROM:+0200
TZOFFSETTO:+0100
TZNAME:CET
DTSTART:20241027T010000
END:STANDARD
BEGIN:DAYLIGHT
TZOFFSETFROM:+0100
TZOFFSETTO:+0200
TZNAME:CEST
DTSTART:20250330T010000
END:DAYLIGHT
BEGIN:STANDARD
TZOFFSETFROM:+0200
TZOFFSETTO:+0100
TZNAME:CET
DTSTART:20251026T010000
END:STANDARD
END:VTIMEZONE
BEGIN:VEVENT
DTSTART;TZID=Europe/Paris:20240903T183000
DTEND;TZID=Europe/Paris:20240903T210000
DTSTAMP:20260421T142545
CREATED:20231121T144318Z
LAST-MODIFIED:20231124T164507Z
UID:12156-1725388200-1725397200@romo-photo.club
SUMMARY:Réunion mensuelle
DESCRIPTION:sous la présidence de Jean Claude
URL:https://romo-photo.club/index.php/event/reunion-mensuelle-32/
CATEGORIES:Bureau,Diffusion,Diffusion membre,Diffusion publique
END:VEVENT
BEGIN:VEVENT
DTSTART;TZID=Europe/Paris:20240905T080000
DTEND;TZID=Europe/Paris:20240905T120000
DTSTAMP:20260421T142545
CREATED:20240826T202928Z
LAST-MODIFIED:20240826T202930Z
UID:13376-1725523200-1725537600@romo-photo.club
SUMMARY:Prêt de la salle de projection à l'atelier numérique
DESCRIPTION:
URL:https://romo-photo.club/index.php/event/pret-de-la-salle-de-projection-a-latelier-numerique/
CATEGORIES:Diffusion bureau,Diffusion membre
END:VEVENT
BEGIN:VEVENT
DTSTART;TZID=Europe/Paris:20240906T180000
DTEND;TZID=Europe/Paris:20240906T193000
DTSTAMP:20260421T142545
CREATED:20240903T074445Z
LAST-MODIFIED:20240905T110014Z
UID:13419-1725645600-1725651000@romo-photo.club
SUMMARY:Vernissage expo club au Foyer Serrault
DESCRIPTION:
URL:https://romo-photo.club/index.php/event/vernissage-expo-club-au-foyer-serrault/
CATEGORIES:Diffusion membre
END:VEVENT
BEGIN:VEVENT
DTSTART;TZID=Europe/Paris:20240906T193000
DTEND;TZID=Europe/Paris:20240906T220000
DTSTAMP:20260421T142545
CREATED:20231123T080508Z
LAST-MODIFIED:20231124T164551Z
UID:12217-1725651000-1725660000@romo-photo.club
SUMMARY:Projection et analyse
DESCRIPTION:
URL:https://romo-photo.club/index.php/event/projection-et-analyse-65/
CATEGORIES:Diffusion,Diffusion membre,Diffusion publique,Réunion vendredi
END:VEVENT
BEGIN:VEVENT
DTSTART;TZID=Europe/Paris:20240907T100000
DTEND;TZID=Europe/Paris:20240907T180000
DTSTAMP:20260421T142545
CREATED:20240829T111033Z
LAST-MODIFIED:20240905T105611Z
UID:13413-1725703200-1725732000@romo-photo.club
SUMMARY:Forum des associations à Romorantin - Fabrique Normant
DESCRIPTION:
URL:https://romo-photo.club/index.php/event/forum-des-associations-a-romorantin-fabrique-normant/
CATEGORIES:Diffusion membre,Diffusion publique
END:VEVENT
BEGIN:VEVENT
DTSTART;TZID=Europe/Paris:20240911T180000
DTEND;TZID=Europe/Paris:20240911T220000
DTSTAMP:20260421T142545
CREATED:20240905T113906Z
LAST-MODIFIED:20240905T113908Z
UID:13445-1726077600-1726092000@romo-photo.club
SUMMARY:Exposition Etich Etapes Majo
DESCRIPTION:
URL:https://romo-photo.club/index.php/event/exposition-etich-etapes-majo/
CATEGORIES:Diffusion,Diffusion bureau,Diffusion membre
END:VEVENT
BEGIN:VEVENT
DTSTART;TZID=Europe/Paris:20240912T080000
DTEND;TZID=Europe/Paris:20240912T120000
DTSTAMP:20260421T142545
CREATED:20240826T203531Z
LAST-MODIFIED:20240826T203533Z
UID:13378-1726128000-1726142400@romo-photo.club
SUMMARY:Prêt de la salle de projection à l'atelier numérique
DESCRIPTION:
URL:https://romo-photo.club/index.php/event/pret-de-la-salle-de-projection-a-latelier-numerique-2/
CATEGORIES:Diffusion bureau,Diffusion membre
END:VEVENT
BEGIN:VEVENT
DTSTART;TZID=Europe/Paris:20240912T170000
DTEND;TZID=Europe/Paris:20240912T200000
DTSTAMP:20260421T142545
CREATED:20240911T204935Z
LAST-MODIFIED:20240911T204955Z
UID:13510-1726160400-1726171200@romo-photo.club
SUMMARY:Présence des membres de la commission impression
DESCRIPTION:Impression des photos pour expo
URL:https://romo-photo.club/index.php/event/presence-des-membres-de-la-commission-impression/
CATEGORIES:Diffusion bureau,Diffusion membre
END:VEVENT
BEGIN:VEVENT
DTSTART;TZID=Europe/Paris:20240918T180000
DTEND;TZID=Europe/Paris:20240918T220000
DTSTAMP:20260421T142545
CREATED:20240905T114028Z
LAST-MODIFIED:20240905T114030Z
UID:13447-1726682400-1726696800@romo-photo.club
SUMMARY:Exposition + Marché Etich Etapes Majo
DESCRIPTION:85 participants environ
URL:https://romo-photo.club/index.php/event/exposition-marche-etich-etapes-majo/
CATEGORIES:Diffusion,Diffusion bureau,Diffusion membre
END:VEVENT
BEGIN:VEVENT
DTSTART;TZID=Europe/Paris:20240920T193000
DTEND;TZID=Europe/Paris:20240920T220000
DTSTAMP:20260421T142545
CREATED:20231123T080615Z
LAST-MODIFIED:20231124T164615Z
UID:12219-1726860600-1726869600@romo-photo.club
SUMMARY:Projection et analyse
DESCRIPTION:
URL:https://romo-photo.club/index.php/event/projection-et-analyse-66/
CATEGORIES:Diffusion,Diffusion membre,Diffusion publique,Réunion vendredi
END:VEVENT
BEGIN:VEVENT
DTSTART;TZID=Europe/Paris:20240924T090000
DTEND;TZID=Europe/Paris:20240924T120000
DTSTAMP:20260421T142545
CREATED:20240923T110543Z
LAST-MODIFIED:20240924T194527Z
UID:13572-1727168400-1727179200@romo-photo.club
SUMMARY:Montage de l'exposition à la médiathèque
DESCRIPTION:
URL:https://romo-photo.club/index.php/event/montage-de-lexposition-a-la-mediatheque/
CATEGORIES:Diffusion membre
END:VEVENT
BEGIN:VEVENT
DTSTART;TZID=Europe/Paris:20240927T180000
DTEND;TZID=Europe/Paris:20240927T200000
DTSTAMP:20260421T142545
CREATED:20240923T110358Z
LAST-MODIFIED:20240924T194647Z
UID:13570-1727460000-1727467200@romo-photo.club
SUMMARY:Réunion de la commission sortie
DESCRIPTION:Sortie à Bourgueil
URL:https://romo-photo.club/index.php/event/reunion-de-la-commission-sortie/
CATEGORIES:Diffusion membre
END:VEVENT
END:VCALENDAR