BEGIN:VCALENDAR
VERSION:2.0
PRODID:-//Romo Photo Club - ECPv6.15.20//NONSGML v1.0//EN
CALSCALE:GREGORIAN
METHOD:PUBLISH
X-WR-CALNAME:Romo Photo Club
X-ORIGINAL-URL:https://romo-photo.club
X-WR-CALDESC:Évènements pour Romo Photo Club
REFRESH-INTERVAL;VALUE=DURATION:PT1H
X-Robots-Tag:noindex
X-PUBLISHED-TTL:PT1H
BEGIN:VTIMEZONE
TZID:Europe/Paris
BEGIN:DAYLIGHT
TZOFFSETFROM:+0100
TZOFFSETTO:+0200
TZNAME:CEST
DTSTART:20230326T010000
END:DAYLIGHT
BEGIN:STANDARD
TZOFFSETFROM:+0200
TZOFFSETTO:+0100
TZNAME:CET
DTSTART:20231029T010000
END:STANDARD
BEGIN:DAYLIGHT
TZOFFSETFROM:+0100
TZOFFSETTO:+0200
TZNAME:CEST
DTSTART:20240331T010000
END:DAYLIGHT
BEGIN:STANDARD
TZOFFSETFROM:+0200
TZOFFSETTO:+0100
TZNAME:CET
DTSTART:20241027T010000
END:STANDARD
BEGIN:DAYLIGHT
TZOFFSETFROM:+0100
TZOFFSETTO:+0200
TZNAME:CEST
DTSTART:20250330T010000
END:DAYLIGHT
BEGIN:STANDARD
TZOFFSETFROM:+0200
TZOFFSETTO:+0100
TZNAME:CET
DTSTART:20251026T010000
END:STANDARD
END:VTIMEZONE
BEGIN:VEVENT
DTSTART;TZID=Europe/Paris:20241001T183000
DTEND;TZID=Europe/Paris:20241001T223000
DTSTAMP:20260421T124445
CREATED:20240905T100822Z
LAST-MODIFIED:20240905T105727Z
UID:13427-1727807400-1727821800@romo-photo.club
SUMMARY:Réunion mensuelle du Conseil Collégial
DESCRIPTION:
URL:https://romo-photo.club/index.php/event/reunion-mensuelle-du-conseil-collegial/
CATEGORIES:Diffusion bureau,Diffusion membre
END:VEVENT
BEGIN:VEVENT
DTSTART;TZID=Europe/Paris:20241003T160000
DTEND;TZID=Europe/Paris:20241003T220000
DTSTAMP:20260421T124445
CREATED:20240930T113242Z
LAST-MODIFIED:20240930T123350Z
UID:13584-1727971200-1727992800@romo-photo.club
SUMMARY:Réservation du studio photos pour Melissa accompagnée par Thierry ou Stéphanie.
DESCRIPTION:
URL:https://romo-photo.club/index.php/event/reservation-du-studio-photos-pour-melissa-accompagnee-par-thierry-ou-stephanie/
CATEGORIES:Diffusion bureau,Diffusion membre
END:VEVENT
BEGIN:VEVENT
DTSTART;TZID=Europe/Paris:20241004T193000
DTEND;TZID=Europe/Paris:20241004T220000
DTSTAMP:20260421T124445
CREATED:20231123T080727Z
LAST-MODIFIED:20231124T164737Z
UID:12221-1728070200-1728079200@romo-photo.club
SUMMARY:Projection et analyse
DESCRIPTION:
URL:https://romo-photo.club/index.php/event/projection-et-analyse-67/
CATEGORIES:Diffusion,Diffusion membre,Diffusion publique,Réunion vendredi
END:VEVENT
BEGIN:VEVENT
DTSTART;TZID=Europe/Paris:20241018T090000
DTEND;TZID=Europe/Paris:20241020T180000
DTSTAMP:20260421T124445
CREATED:20240905T101729Z
LAST-MODIFIED:20240905T105907Z
UID:13429-1729242000-1729447200@romo-photo.club
SUMMARY:Exposition annuelle du Club
DESCRIPTION:Au Musée Matra
URL:https://romo-photo.club/index.php/event/exposition-annuelle-du-club/
CATEGORIES:Diffusion bureau,Diffusion membre
END:VEVENT
BEGIN:VEVENT
DTSTART;TZID=Europe/Paris:20241025T190000
DTEND;TZID=Europe/Paris:20241025T220000
DTSTAMP:20260421T124445
CREATED:20231123T082131Z
LAST-MODIFIED:20241021T113059Z
UID:12231-1729882800-1729893600@romo-photo.club
SUMMARY:Assemblée générale
DESCRIPTION:
URL:https://romo-photo.club/index.php/event/assemblee-generale-3/
CATEGORIES:AG,Diffusion,Diffusion membre,Diffusion publique
END:VEVENT
END:VCALENDAR