BEGIN:VCALENDAR
VERSION:2.0
PRODID:-//Romo Photo Club - ECPv6.15.20//NONSGML v1.0//EN
CALSCALE:GREGORIAN
METHOD:PUBLISH
X-ORIGINAL-URL:https://romo-photo.club
X-WR-CALDESC:Évènements pour Romo Photo Club
REFRESH-INTERVAL;VALUE=DURATION:PT1H
X-Robots-Tag:noindex
X-PUBLISHED-TTL:PT1H
BEGIN:VTIMEZONE
TZID:Europe/Paris
BEGIN:DAYLIGHT
TZOFFSETFROM:+0100
TZOFFSETTO:+0200
TZNAME:CEST
DTSTART:20230326T010000
END:DAYLIGHT
BEGIN:STANDARD
TZOFFSETFROM:+0200
TZOFFSETTO:+0100
TZNAME:CET
DTSTART:20231029T010000
END:STANDARD
BEGIN:DAYLIGHT
TZOFFSETFROM:+0100
TZOFFSETTO:+0200
TZNAME:CEST
DTSTART:20240331T010000
END:DAYLIGHT
BEGIN:STANDARD
TZOFFSETFROM:+0200
TZOFFSETTO:+0100
TZNAME:CET
DTSTART:20241027T010000
END:STANDARD
BEGIN:DAYLIGHT
TZOFFSETFROM:+0100
TZOFFSETTO:+0200
TZNAME:CEST
DTSTART:20250330T010000
END:DAYLIGHT
BEGIN:STANDARD
TZOFFSETFROM:+0200
TZOFFSETTO:+0100
TZNAME:CET
DTSTART:20251026T010000
END:STANDARD
END:VTIMEZONE
BEGIN:VEVENT
DTSTART;TZID=Europe/Paris:20241202T183000
DTEND;TZID=Europe/Paris:20241202T193000
DTSTAMP:20260421T095626
CREATED:20241203T204654Z
LAST-MODIFIED:20241203T204656Z
UID:14008-1733164200-1733167800@romo-photo.club
SUMMARY:Réunion commission internet
DESCRIPTION:
URL:https://romo-photo.club/index.php/event/reunion-commission-internet-2/
CATEGORIES:Diffusion bureau,Diffusion membre
END:VEVENT
BEGIN:VEVENT
DTSTART;TZID=Europe/Paris:20241206T180000
DTEND;TZID=Europe/Paris:20241206T193000
DTSTAMP:20260421T095626
CREATED:20241203T204118Z
LAST-MODIFIED:20241203T204121Z
UID:14004-1733508000-1733513400@romo-photo.club
SUMMARY:Réunion commission Photos
DESCRIPTION:
URL:https://romo-photo.club/index.php/event/reunion-commission-photos/
CATEGORIES:Diffusion bureau,Diffusion membre
END:VEVENT
BEGIN:VEVENT
DTSTART;TZID=Europe/Paris:20241206T193000
DTEND;TZID=Europe/Paris:20241206T220000
DTSTAMP:20260421T095626
CREATED:20231123T081139Z
LAST-MODIFIED:20231124T165127Z
UID:12227-1733513400-1733522400@romo-photo.club
SUMMARY:Projection et analyse
DESCRIPTION:
URL:https://romo-photo.club/index.php/event/projection-et-analyse-70/
CATEGORIES:Diffusion,Diffusion membre,Diffusion publique,Réunion vendredi
END:VEVENT
BEGIN:VEVENT
DTSTART;TZID=Europe/Paris:20241213T193000
DTEND;TZID=Europe/Paris:20241213T230000
DTSTAMP:20260421T095626
CREATED:20241203T204250Z
LAST-MODIFIED:20241203T204252Z
UID:14006-1734118200-1734130800@romo-photo.club
SUMMARY:Soirée de Fin d'année du Romo Photo Club
DESCRIPTION:
URL:https://romo-photo.club/index.php/event/soiree-de-fin-dannee-du-romo-photo-club/
CATEGORIES:Diffusion bureau,Diffusion membre
END:VEVENT
BEGIN:VEVENT
DTSTART;TZID=Europe/Paris:20241215T133000
DTEND;TZID=Europe/Paris:20241215T160000
DTSTAMP:20260421T095626
CREATED:20241213T115531Z
LAST-MODIFIED:20241213T115534Z
UID:14021-1734269400-1734278400@romo-photo.club
SUMMARY:Réservation studio photo par Stéphanie
DESCRIPTION:
URL:https://romo-photo.club/index.php/event/reservation-studio-photo-par-stephanie/
CATEGORIES:Diffusion bureau,Diffusion membre,Diffusion publique
END:VEVENT
END:VCALENDAR