BEGIN:VCALENDAR
VERSION:2.0
PRODID:-//Romo Photo Club - ECPv6.15.20//NONSGML v1.0//EN
CALSCALE:GREGORIAN
METHOD:PUBLISH
X-ORIGINAL-URL:https://romo-photo.club
X-WR-CALDESC:Évènements pour Romo Photo Club
REFRESH-INTERVAL;VALUE=DURATION:PT1H
X-Robots-Tag:noindex
X-PUBLISHED-TTL:PT1H
BEGIN:VTIMEZONE
TZID:Europe/Paris
BEGIN:DAYLIGHT
TZOFFSETFROM:+0100
TZOFFSETTO:+0200
TZNAME:CEST
DTSTART:20240331T010000
END:DAYLIGHT
BEGIN:STANDARD
TZOFFSETFROM:+0200
TZOFFSETTO:+0100
TZNAME:CET
DTSTART:20241027T010000
END:STANDARD
BEGIN:DAYLIGHT
TZOFFSETFROM:+0100
TZOFFSETTO:+0200
TZNAME:CEST
DTSTART:20250330T010000
END:DAYLIGHT
BEGIN:STANDARD
TZOFFSETFROM:+0200
TZOFFSETTO:+0100
TZNAME:CET
DTSTART:20251026T010000
END:STANDARD
BEGIN:DAYLIGHT
TZOFFSETFROM:+0100
TZOFFSETTO:+0200
TZNAME:CEST
DTSTART:20260329T010000
END:DAYLIGHT
BEGIN:STANDARD
TZOFFSETFROM:+0200
TZOFFSETTO:+0100
TZNAME:CET
DTSTART:20261025T010000
END:STANDARD
END:VTIMEZONE
BEGIN:VEVENT
DTSTART;TZID=Europe/Paris:20250204T183000
DTEND;TZID=Europe/Paris:20250204T220000
DTSTAMP:20260421T065303
CREATED:20241203T205214Z
LAST-MODIFIED:20241203T205216Z
UID:14012-1738693800-1738706400@romo-photo.club
SUMMARY:Réunion du Conseil Collégial
DESCRIPTION:Présidence assurée par Jérôme Bouet
URL:https://romo-photo.club/index.php/event/reunion-du-conseil-collegial-2/
CATEGORIES:Diffusion bureau,Diffusion membre,Diffusion publique
END:VEVENT
BEGIN:VEVENT
DTSTART;TZID=Europe/Paris:20250207T180000
DTEND;TZID=Europe/Paris:20250207T193000
DTSTAMP:20260421T065303
CREATED:20250108T085910Z
LAST-MODIFIED:20250108T085914Z
UID:14046-1738951200-1738956600@romo-photo.club
SUMMARY:Atelier sur la création d'un livre photos par Philippe Chansac
DESCRIPTION:
URL:https://romo-photo.club/index.php/event/atelier-sur-la-creation-dun-livre-photos-par-philippe-chansac/
CATEGORIES:Diffusion bureau,Diffusion membre,Diffusion publique
END:VEVENT
BEGIN:VEVENT
DTSTART;TZID=Europe/Paris:20250207T193000
DTEND;TZID=Europe/Paris:20250207T220000
DTSTAMP:20260421T065303
CREATED:20250127T153034Z
LAST-MODIFIED:20250127T153038Z
UID:14293-1738956600-1738965600@romo-photo.club
SUMMARY:Séance de projection
DESCRIPTION:
URL:https://romo-photo.club/index.php/event/seance-de-projection-4/
CATEGORIES:Diffusion bureau,Diffusion membre,Diffusion publique
END:VEVENT
BEGIN:VEVENT
DTSTART;TZID=Europe/Paris:20250213T180000
DTEND;TZID=Europe/Paris:20250213T193000
DTSTAMP:20260421T065303
CREATED:20250203T101308Z
LAST-MODIFIED:20250203T101312Z
UID:14323-1739469600-1739475000@romo-photo.club
SUMMARY:Réunion commission sorties
DESCRIPTION:
URL:https://romo-photo.club/index.php/event/reunion-commission-sorties-2/
CATEGORIES:Diffusion bureau,Diffusion membre,Diffusion publique
END:VEVENT
BEGIN:VEVENT
DTSTART;TZID=Europe/Paris:20250221T140000
DTEND;TZID=Europe/Paris:20250221T170000
DTSTAMP:20260421T065303
CREATED:20250108T090622Z
LAST-MODIFIED:20250108T090624Z
UID:14053-1740146400-1740157200@romo-photo.club
SUMMARY:Atelier Prise de vue / Choix Techniques par Thierry Letuillier
DESCRIPTION:
URL:https://romo-photo.club/index.php/event/atelier-prise-de-vue-choix-techniques-par-thierry-letuillier/
CATEGORIES:Diffusion bureau,Diffusion membre,Diffusion publique
END:VEVENT
BEGIN:VEVENT
DTSTART;TZID=Europe/Paris:20250221T183000
DTEND;TZID=Europe/Paris:20250221T193000
DTSTAMP:20260421T065303
CREATED:20250218T204425Z
LAST-MODIFIED:20250218T204429Z
UID:14345-1740162600-1740166200@romo-photo.club
SUMMARY:Réunion de la commission photos
DESCRIPTION:
URL:https://romo-photo.club/index.php/event/reunion-de-la-commission-photos/
CATEGORIES:Diffusion bureau,Diffusion membre,Diffusion publique
END:VEVENT
BEGIN:VEVENT
DTSTART;TZID=Europe/Paris:20250221T193000
DTEND;TZID=Europe/Paris:20250221T220000
DTSTAMP:20260421T065303
CREATED:20250127T153231Z
LAST-MODIFIED:20250127T153234Z
UID:14295-1740166200-1740175200@romo-photo.club
SUMMARY:Séance de projection
DESCRIPTION:
URL:https://romo-photo.club/index.php/event/seance-de-projection-5/
CATEGORIES:Diffusion bureau,Diffusion membre,Diffusion publique
END:VEVENT
BEGIN:VEVENT
DTSTART;TZID=Europe/Paris:20250221T200000
DTEND;TZID=Europe/Paris:20250221T220000
DTSTAMP:20260421T065303
CREATED:20250108T090720Z
LAST-MODIFIED:20250108T090722Z
UID:14055-1740168000-1740175200@romo-photo.club
SUMMARY:Séance de projection
DESCRIPTION:
URL:https://romo-photo.club/index.php/event/seance-de-projection-3/
CATEGORIES:Diffusion bureau,Diffusion membre,Diffusion publique
END:VEVENT
END:VCALENDAR