BEGIN:VCALENDAR
VERSION:2.0
PRODID:-//Romo Photo Club - ECPv6.15.20//NONSGML v1.0//EN
CALSCALE:GREGORIAN
METHOD:PUBLISH
X-ORIGINAL-URL:https://romo-photo.club
X-WR-CALDESC:Évènements pour Romo Photo Club
REFRESH-INTERVAL;VALUE=DURATION:PT1H
X-Robots-Tag:noindex
X-PUBLISHED-TTL:PT1H
BEGIN:VTIMEZONE
TZID:Europe/Paris
BEGIN:DAYLIGHT
TZOFFSETFROM:+0100
TZOFFSETTO:+0200
TZNAME:CEST
DTSTART:20240331T010000
END:DAYLIGHT
BEGIN:STANDARD
TZOFFSETFROM:+0200
TZOFFSETTO:+0100
TZNAME:CET
DTSTART:20241027T010000
END:STANDARD
BEGIN:DAYLIGHT
TZOFFSETFROM:+0100
TZOFFSETTO:+0200
TZNAME:CEST
DTSTART:20250330T010000
END:DAYLIGHT
BEGIN:STANDARD
TZOFFSETFROM:+0200
TZOFFSETTO:+0100
TZNAME:CET
DTSTART:20251026T010000
END:STANDARD
BEGIN:DAYLIGHT
TZOFFSETFROM:+0100
TZOFFSETTO:+0200
TZNAME:CEST
DTSTART:20260329T010000
END:DAYLIGHT
BEGIN:STANDARD
TZOFFSETFROM:+0200
TZOFFSETTO:+0100
TZNAME:CET
DTSTART:20261025T010000
END:STANDARD
END:VTIMEZONE
BEGIN:VEVENT
DTSTART;TZID=Europe/Paris:20250502T193000
DTEND;TZID=Europe/Paris:20250502T223000
DTSTAMP:20260421T015527
CREATED:20250312T094344Z
LAST-MODIFIED:20250312T094346Z
UID:14391-1746214200-1746225000@romo-photo.club
SUMMARY:Séance de projection
DESCRIPTION:
URL:https://romo-photo.club/index.php/event/seance-de-projection-10/
CATEGORIES:Diffusion bureau,Diffusion membre,Diffusion publique
END:VEVENT
BEGIN:VEVENT
DTSTART;TZID=Europe/Paris:20250506T183000
DTEND;TZID=Europe/Paris:20250506T220000
DTSTAMP:20260421T015527
CREATED:20250423T082448Z
LAST-MODIFIED:20250423T082450Z
UID:14485-1746556200-1746568800@romo-photo.club
SUMMARY:Réunion de bureau
DESCRIPTION:
URL:https://romo-photo.club/index.php/event/reunion-de-bureau-4/
CATEGORIES:Diffusion bureau,Diffusion membre,Diffusion publique
END:VEVENT
BEGIN:VEVENT
DTSTART;TZID=Europe/Paris:20250515T090000
DTEND;TZID=Europe/Paris:20250518T180000
DTSTAMP:20260421T015527
CREATED:20250127T154321Z
LAST-MODIFIED:20250127T154324Z
UID:14307-1747299600-1747591200@romo-photo.club
SUMMARY:Printemps de la Photo
DESCRIPTION:Le 15/05 montage et vernissage
URL:https://romo-photo.club/index.php/event/printemps-de-la-photo/
CATEGORIES:Diffusion bureau,Diffusion membre,Diffusion publique
END:VEVENT
BEGIN:VEVENT
DTSTART;TZID=Europe/Paris:20250523T193000
DTEND;TZID=Europe/Paris:20250523T223000
DTSTAMP:20260421T015527
CREATED:20250312T094514Z
LAST-MODIFIED:20250312T094516Z
UID:14393-1748028600-1748039400@romo-photo.club
SUMMARY:Séance de projection
DESCRIPTION:
URL:https://romo-photo.club/index.php/event/seance-de-projection-11/
CATEGORIES:Diffusion bureau,Diffusion membre,Diffusion publique
END:VEVENT
END:VCALENDAR