BEGIN:VCALENDAR
VERSION:2.0
PRODID:-//Romo Photo Club - ECPv6.15.20//NONSGML v1.0//EN
CALSCALE:GREGORIAN
METHOD:PUBLISH
X-WR-CALNAME:Romo Photo Club
X-ORIGINAL-URL:https://romo-photo.club
X-WR-CALDESC:Évènements pour Romo Photo Club
REFRESH-INTERVAL;VALUE=DURATION:PT1H
X-Robots-Tag:noindex
X-PUBLISHED-TTL:PT1H
BEGIN:VTIMEZONE
TZID:Europe/Paris
BEGIN:DAYLIGHT
TZOFFSETFROM:+0100
TZOFFSETTO:+0200
TZNAME:CEST
DTSTART:20180325T010000
END:DAYLIGHT
BEGIN:STANDARD
TZOFFSETFROM:+0200
TZOFFSETTO:+0100
TZNAME:CET
DTSTART:20181028T010000
END:STANDARD
BEGIN:DAYLIGHT
TZOFFSETFROM:+0100
TZOFFSETTO:+0200
TZNAME:CEST
DTSTART:20190331T010000
END:DAYLIGHT
BEGIN:STANDARD
TZOFFSETFROM:+0200
TZOFFSETTO:+0100
TZNAME:CET
DTSTART:20191027T010000
END:STANDARD
BEGIN:DAYLIGHT
TZOFFSETFROM:+0100
TZOFFSETTO:+0200
TZNAME:CEST
DTSTART:20200329T010000
END:DAYLIGHT
BEGIN:STANDARD
TZOFFSETFROM:+0200
TZOFFSETTO:+0100
TZNAME:CET
DTSTART:20201025T010000
END:STANDARD
END:VTIMEZONE
BEGIN:VEVENT
DTSTART;TZID=Europe/Paris:20190415T080000
DTEND;TZID=Europe/Paris:20190415T090000
DTSTAMP:20260425T230856
CREATED:20190415T160533Z
LAST-MODIFIED:20221217T081821Z
UID:1978-1555315200-1555318800@romo-photo.club
SUMMARY:Accrochage photo expo Selles-sur-Cher
DESCRIPTION:Pour ceux qui ont prévu des photos pour l’exposition annuelle. Les horaires précis seront affichés ultérieurement.
URL:https://romo-photo.club/index.php/event/accrochage-photo-expo-selles-sur-cher/
LOCATION:Lieu: Centre de loisirs éducatifs de Selles-sur-Cher\, Place du General de Gaulle\, Selles-sur-Cher\, 41130\, France
CATEGORIES:Accrochage expo autre,Diffusion membre,Diffusion publique,Expo
ORGANIZER;CN="Organisateur%3A Photo Club de Selles-sur-Cher":MAILTO:clubphotoselles@laposte.net
END:VEVENT
END:VCALENDAR