BEGIN:VCALENDAR
VERSION:2.0
PRODID:-//Romo Photo Club - ECPv6.15.20//NONSGML v1.0//EN
CALSCALE:GREGORIAN
METHOD:PUBLISH
X-ORIGINAL-URL:https://romo-photo.club
X-WR-CALDESC:Évènements pour Romo Photo Club
REFRESH-INTERVAL;VALUE=DURATION:PT1H
X-Robots-Tag:noindex
X-PUBLISHED-TTL:PT1H
BEGIN:VTIMEZONE
TZID:Europe/Paris
BEGIN:DAYLIGHT
TZOFFSETFROM:+0100
TZOFFSETTO:+0200
TZNAME:CEST
DTSTART:20180325T010000
END:DAYLIGHT
BEGIN:STANDARD
TZOFFSETFROM:+0200
TZOFFSETTO:+0100
TZNAME:CET
DTSTART:20181028T010000
END:STANDARD
BEGIN:DAYLIGHT
TZOFFSETFROM:+0100
TZOFFSETTO:+0200
TZNAME:CEST
DTSTART:20190331T010000
END:DAYLIGHT
BEGIN:STANDARD
TZOFFSETFROM:+0200
TZOFFSETTO:+0100
TZNAME:CET
DTSTART:20191027T010000
END:STANDARD
BEGIN:DAYLIGHT
TZOFFSETFROM:+0100
TZOFFSETTO:+0200
TZNAME:CEST
DTSTART:20200329T010000
END:DAYLIGHT
BEGIN:STANDARD
TZOFFSETFROM:+0200
TZOFFSETTO:+0100
TZNAME:CET
DTSTART:20201025T010000
END:STANDARD
END:VTIMEZONE
BEGIN:VEVENT
DTSTART;TZID=Europe/Paris:20190515T100000
DTEND;TZID=Europe/Paris:20190515T193000
DTSTAMP:20260425T213407
CREATED:20190416T155608Z
LAST-MODIFIED:20221217T081545Z
UID:3837-1557914400-1557948600@romo-photo.club
SUMMARY:Accrochage Printemps de la Photo Romorantin
DESCRIPTION:Informations à compléter \n\n\n\nOrganisation\n\n\n\nAccrochage et/ou coup de main pour la mise en place de l’exposition. \n\n\n\nListe des présents\n\n\n\nEmmanuel de Beauvoir…
URL:https://romo-photo.club/index.php/event/accrochage-printemps-de-la-photo-romorantin/
LOCATION:Lieu Salle la Fabrique Normant (Romorantin)\, Avenue Saint-Exupéry\, Romorantin-Lanthenay\, 41200\, France
CATEGORIES:Accrochage expo autre,Accrochage expo RCP,Diffusion membre
ORGANIZER;CN="Organisateur Office de Tourisme Sologne%2C c%C3%B4t%C3%A9 sud":MAILTO:printemps.photo41@orange.fr
END:VEVENT
END:VCALENDAR