BEGIN:VCALENDAR
VERSION:2.0
PRODID:-//Romo Photo Club - ECPv6.15.20//NONSGML v1.0//EN
CALSCALE:GREGORIAN
METHOD:PUBLISH
X-WR-CALNAME:Romo Photo Club
X-ORIGINAL-URL:https://romo-photo.club
X-WR-CALDESC:Évènements pour Romo Photo Club
REFRESH-INTERVAL;VALUE=DURATION:PT1H
X-Robots-Tag:noindex
X-PUBLISHED-TTL:PT1H
BEGIN:VTIMEZONE
TZID:Europe/Paris
BEGIN:DAYLIGHT
TZOFFSETFROM:+0100
TZOFFSETTO:+0200
TZNAME:CEST
DTSTART:20180325T010000
END:DAYLIGHT
BEGIN:STANDARD
TZOFFSETFROM:+0200
TZOFFSETTO:+0100
TZNAME:CET
DTSTART:20181028T010000
END:STANDARD
BEGIN:DAYLIGHT
TZOFFSETFROM:+0100
TZOFFSETTO:+0200
TZNAME:CEST
DTSTART:20190331T010000
END:DAYLIGHT
BEGIN:STANDARD
TZOFFSETFROM:+0200
TZOFFSETTO:+0100
TZNAME:CET
DTSTART:20191027T010000
END:STANDARD
BEGIN:DAYLIGHT
TZOFFSETFROM:+0100
TZOFFSETTO:+0200
TZNAME:CEST
DTSTART:20200329T010000
END:DAYLIGHT
BEGIN:STANDARD
TZOFFSETFROM:+0200
TZOFFSETTO:+0100
TZNAME:CET
DTSTART:20201025T010000
END:STANDARD
END:VTIMEZONE
BEGIN:VEVENT
DTSTART;TZID=Europe/Paris:20190516T100000
DTEND;TZID=Europe/Paris:20190519T183000
DTSTAMP:20260425T213036
CREATED:20190416T151728Z
LAST-MODIFIED:20221217T081515Z
UID:3825-1558000800-1558290600@romo-photo.club
SUMMARY:Printemps de la photo (Romorantin)
DESCRIPTION:Information complémentaires à venir…. \n\n\n\nLe Printemps de la Photographie et des \narts est né en 2008 sous l’impulsion de l’office de tourisme Sologne – \ncôté sud. La 12ème édition se tiendra du 16 au 19 Mai\n    2019 à la fabrique Normant de Romorantin\, capitale de la Sologne. \nCette année\, il reçoit 38 photographes dont Joël BRUNET\, invité d’honneur et 15 artistes peintres et sculpteurs. \n\n\n\nIl s’agit de la 12ème édition \n\n\n\nINVITE D’HONNEUR – Joël  BRUNET(http://www.joëlbrunet.com) \n\n\n\nLes Ateliers du Printemps\n\n\n\n\n    Le Printemps de la Photographie et des Arts s’est aussi l’occasion \nde s’initier à des techniques et pratiques photographiques et \nartistiques. POur cette 12ème édition nous vous proposons les\n    ateliers suivants :\n \n\n\n\n\n    LES ATELIERS PHOTO\n \n\n\n\n\n    Samedi 18 et dimanche 19 mai à la Fabrique Normant :\n \n\n\n\n Initiation « Nature morte » avec  le Romo Photo Club (RPC). Gratuit/Ateliers portraits animés par le Photoclub Sellois et le Photoclub de Lamotte-Beuvron   Animation photographique et littéraire autour de photos en extérieur : « Images innées »     avec Bruno Bourlé\, Photographe exposant.  \n\n\n\n\n    Samedi 18 Mai\n \n\n\n\n     Sortie « Photo Nature » avec Emmanuelle Roger\, Photographe animalier. \n\n\n\n\n    Rdv 6h00 parking de l’Etang de Malzoné à Millancay. Retour vers 8H30. Participation 6€. Apporter votre appareil photo.\n \n\n\n\n\n    Samedi 18 Mai\n \n\n\n\n     Sortie « Cliché Nature » avec Sologne Nature Environnement.  \n\n\n\n\n    Départ 9h30 de la Fabrique Normant . Retour 12h00. Gratuit pour les adhérents SNE.\n \n\n\n\n\n    Participation 6€. Apporter votre appareil photo.\n \n\n\n\n\n    LES ATELIERS PEINTURES\n \n\n\n\n\n    Jeudi\, vendredi\, samedi et dimanche à 14h30 et 17h30\n \n\n\n\n Peinture huile et acrylique avec Pierre BOIVIN. Participation 10€. Matériel fourni.  Peinture aquarelle avec Emmanuel BLOT.  Participation 10€. Matériel fourni.  \n\n\n\n\n    La réservation est obligatoire avant le 15 Mai :\n \n\n\n\n\n    – soit auprès de l’office de tourisme Sologne\, côté sud Tél. : \n02.54.76.43.89 pendant les heures d’ouverture soit du mardi au samedi de\n 9h30 à 12h30 et de 14h30 à 18h30.\n \n\n\n\n\n    – soit en formulant votre inscription par courriel à printemps.photo41@orange.fr
URL:https://romo-photo.club/index.php/event/expo-printemps-de-la-photo-romorantin/
LOCATION:Lieu Salle la Fabrique Normant (Romorantin)\, Avenue Saint-Exupéry\, Romorantin-Lanthenay\, 41200\, France
CATEGORIES:Diffusion membre,Diffusion publique,Expo,Expo RPC
ORGANIZER;CN="Organisateur Office de Tourisme Sologne%2C c%C3%B4t%C3%A9 sud":MAILTO:printemps.photo41@orange.fr
END:VEVENT
END:VCALENDAR