BEGIN:VCALENDAR
VERSION:2.0
PRODID:-//Romo Photo Club - ECPv6.15.20//NONSGML v1.0//EN
CALSCALE:GREGORIAN
METHOD:PUBLISH
X-ORIGINAL-URL:https://romo-photo.club
X-WR-CALDESC:Évènements pour Romo Photo Club
REFRESH-INTERVAL;VALUE=DURATION:PT1H
X-Robots-Tag:noindex
X-PUBLISHED-TTL:PT1H
BEGIN:VTIMEZONE
TZID:Europe/Paris
BEGIN:DAYLIGHT
TZOFFSETFROM:+0100
TZOFFSETTO:+0200
TZNAME:CEST
DTSTART:20180325T010000
END:DAYLIGHT
BEGIN:STANDARD
TZOFFSETFROM:+0200
TZOFFSETTO:+0100
TZNAME:CET
DTSTART:20181028T010000
END:STANDARD
BEGIN:DAYLIGHT
TZOFFSETFROM:+0100
TZOFFSETTO:+0200
TZNAME:CEST
DTSTART:20190331T010000
END:DAYLIGHT
BEGIN:STANDARD
TZOFFSETFROM:+0200
TZOFFSETTO:+0100
TZNAME:CET
DTSTART:20191027T010000
END:STANDARD
BEGIN:DAYLIGHT
TZOFFSETFROM:+0100
TZOFFSETTO:+0200
TZNAME:CEST
DTSTART:20200329T010000
END:DAYLIGHT
BEGIN:STANDARD
TZOFFSETFROM:+0200
TZOFFSETTO:+0100
TZNAME:CET
DTSTART:20201025T010000
END:STANDARD
END:VTIMEZONE
BEGIN:VEVENT
DTSTART;TZID=Europe/Paris:20190706T103000
DTEND;TZID=Europe/Paris:20190714T180000
DTSTAMP:20260425T173817
CREATED:20190622T162740Z
LAST-MODIFIED:20221217T081407Z
UID:4712-1562409000-1563127200@romo-photo.club
SUMMARY:6° salon national d'Art Photographique à Selles sur Cher
DESCRIPTION:6° salon national d’Art Photographique\nà Selles sur Cher\n\n\n\nSalon national d’Art Photographique \n\n\n\nHoraires en semaine :  \n\n\n\n14H30 – 18h00\n\n\n\nHoraires le samedi et le dimanche : \n\n\n\n10h30 – 12h0014h30 – 18h00
URL:https://romo-photo.club/index.php/event/6-salon-national-dart-photographique-a-selles-sur-cher/
LOCATION:Lieu: Salle des Fêtes Levée du Parc à Selles sur Cher
CATEGORIES:Diffusion membre,Diffusion publique,Expo,Expo autre
ORGANIZER;CN="Organisateur%3A Photo Club de Selles-sur-Cher":MAILTO:clubphotoselles@laposte.net
END:VEVENT
END:VCALENDAR