BEGIN:VCALENDAR
VERSION:2.0
PRODID:-//Romo Photo Club - ECPv6.15.20//NONSGML v1.0//EN
CALSCALE:GREGORIAN
METHOD:PUBLISH
X-WR-CALNAME:Romo Photo Club
X-ORIGINAL-URL:https://romo-photo.club
X-WR-CALDESC:Évènements pour Romo Photo Club
REFRESH-INTERVAL;VALUE=DURATION:PT1H
X-Robots-Tag:noindex
X-PUBLISHED-TTL:PT1H
BEGIN:VTIMEZONE
TZID:Europe/Paris
BEGIN:DAYLIGHT
TZOFFSETFROM:+0100
TZOFFSETTO:+0200
TZNAME:CEST
DTSTART:20190331T010000
END:DAYLIGHT
BEGIN:STANDARD
TZOFFSETFROM:+0200
TZOFFSETTO:+0100
TZNAME:CET
DTSTART:20191027T010000
END:STANDARD
BEGIN:DAYLIGHT
TZOFFSETFROM:+0100
TZOFFSETTO:+0200
TZNAME:CEST
DTSTART:20200329T010000
END:DAYLIGHT
BEGIN:STANDARD
TZOFFSETFROM:+0200
TZOFFSETTO:+0100
TZNAME:CET
DTSTART:20201025T010000
END:STANDARD
BEGIN:DAYLIGHT
TZOFFSETFROM:+0100
TZOFFSETTO:+0200
TZNAME:CEST
DTSTART:20210328T010000
END:DAYLIGHT
BEGIN:STANDARD
TZOFFSETFROM:+0200
TZOFFSETTO:+0100
TZNAME:CET
DTSTART:20211031T010000
END:STANDARD
END:VTIMEZONE
BEGIN:VEVENT
DTSTART;TZID=Europe/Paris:20200219T190000
DTEND;TZID=Europe/Paris:20200219T200000
DTSTAMP:20260425T052318
CREATED:20200209T174123Z
LAST-MODIFIED:20200209T175116Z
UID:5172-1582138800-1582142400@romo-photo.club
SUMMARY:Formation Lightroom
DESCRIPTION:Retouches photos avec logiciel Lightroom
URL:https://romo-photo.club/index.php/event/formation-lightroom-2/
LOCATION:Lieu Romo Photo Club\, 58 rue des Capucins\, Romorantin-Lanthenay\, 41200\, France
CATEGORIES:Diffusion,Diffusion membre,Diffusion publique,Formation,Formation Lightroom,Réunion
ORGANIZER;CN="Organisateur Romo Photo Club":MAILTO:contact@romo-photo.club
END:VEVENT
END:VCALENDAR