BEGIN:VCALENDAR
VERSION:2.0
PRODID:-//Romo Photo Club - ECPv6.15.20//NONSGML v1.0//EN
CALSCALE:GREGORIAN
METHOD:PUBLISH
X-ORIGINAL-URL:https://romo-photo.club
X-WR-CALDESC:Évènements pour Romo Photo Club
REFRESH-INTERVAL;VALUE=DURATION:PT1H
X-Robots-Tag:noindex
X-PUBLISHED-TTL:PT1H
BEGIN:VTIMEZONE
TZID:Europe/Paris
BEGIN:DAYLIGHT
TZOFFSETFROM:+0100
TZOFFSETTO:+0200
TZNAME:CEST
DTSTART:20200329T010000
END:DAYLIGHT
BEGIN:STANDARD
TZOFFSETFROM:+0200
TZOFFSETTO:+0100
TZNAME:CET
DTSTART:20201025T010000
END:STANDARD
BEGIN:DAYLIGHT
TZOFFSETFROM:+0100
TZOFFSETTO:+0200
TZNAME:CEST
DTSTART:20210328T010000
END:DAYLIGHT
BEGIN:STANDARD
TZOFFSETFROM:+0200
TZOFFSETTO:+0100
TZNAME:CET
DTSTART:20211031T010000
END:STANDARD
BEGIN:DAYLIGHT
TZOFFSETFROM:+0100
TZOFFSETTO:+0200
TZNAME:CEST
DTSTART:20220327T010000
END:DAYLIGHT
BEGIN:STANDARD
TZOFFSETFROM:+0200
TZOFFSETTO:+0100
TZNAME:CET
DTSTART:20221030T010000
END:STANDARD
END:VTIMEZONE
BEGIN:VEVENT
DTSTART;TZID=Europe/Paris:20211020T100000
DTEND;TZID=Europe/Paris:20211024T170000
DTSTAMP:20260423T183552
CREATED:20211014T063758Z
LAST-MODIFIED:20221217T074446Z
UID:7517-1634724000-1635094800@romo-photo.club
SUMMARY:Nos amis ACAPI exposent
DESCRIPTION:à Ingré
URL:https://romo-photo.club/index.php/event/nos-amis-acapi-exposent/
CATEGORIES:Diffusion,Diffusion membre,Diffusion publique,Expo
END:VEVENT
BEGIN:VEVENT
DTSTART;TZID=Europe/Paris:20211022T200000
DTEND;TZID=Europe/Paris:20211022T220000
DTSTAMP:20260423T183552
CREATED:20211019T051322Z
LAST-MODIFIED:20221217T074412Z
UID:7555-1634932800-1634940000@romo-photo.club
SUMMARY:Notre Assemblée Générale
DESCRIPTION:à notre local
URL:https://romo-photo.club/index.php/event/notre-assemblee-generale/
CATEGORIES:AG,Diffusion,Diffusion bureau,Diffusion membre,Réunion
END:VEVENT
END:VCALENDAR