BEGIN:VCALENDAR
VERSION:2.0
PRODID:-//Romo Photo Club - ECPv6.15.20//NONSGML v1.0//EN
CALSCALE:GREGORIAN
METHOD:PUBLISH
X-ORIGINAL-URL:https://romo-photo.club
X-WR-CALDESC:Évènements pour Romo Photo Club
REFRESH-INTERVAL;VALUE=DURATION:PT1H
X-Robots-Tag:noindex
X-PUBLISHED-TTL:PT1H
BEGIN:VTIMEZONE
TZID:Europe/Paris
BEGIN:DAYLIGHT
TZOFFSETFROM:+0100
TZOFFSETTO:+0200
TZNAME:CEST
DTSTART:20210328T010000
END:DAYLIGHT
BEGIN:STANDARD
TZOFFSETFROM:+0200
TZOFFSETTO:+0100
TZNAME:CET
DTSTART:20211031T010000
END:STANDARD
BEGIN:DAYLIGHT
TZOFFSETFROM:+0100
TZOFFSETTO:+0200
TZNAME:CEST
DTSTART:20220327T010000
END:DAYLIGHT
BEGIN:STANDARD
TZOFFSETFROM:+0200
TZOFFSETTO:+0100
TZNAME:CET
DTSTART:20221030T010000
END:STANDARD
BEGIN:DAYLIGHT
TZOFFSETFROM:+0100
TZOFFSETTO:+0200
TZNAME:CEST
DTSTART:20230326T010000
END:DAYLIGHT
BEGIN:STANDARD
TZOFFSETFROM:+0200
TZOFFSETTO:+0100
TZNAME:CET
DTSTART:20231029T010000
END:STANDARD
END:VTIMEZONE
BEGIN:VEVENT
DTSTART;TZID=Europe/Paris:20220225T130000
DTEND;TZID=Europe/Paris:20220318T180000
DTSTAMP:20260423T111959
CREATED:20220222T171120Z
LAST-MODIFIED:20221217T071353Z
UID:8519-1645794000-1647626400@romo-photo.club
SUMMARY:Exposition photo à Pruniers en Sologne
DESCRIPTION:exposition du Romo Photo Club\, à la bibliothèque Georges Gourdet
URL:https://romo-photo.club/index.php/event/exposition-photo-a-pruniers-en-sologne/
CATEGORIES:Diffusion,Diffusion membre,Diffusion publique,Expo
END:VEVENT
BEGIN:VEVENT
DTSTART;TZID=Europe/Paris:20220316T183000
DTEND;TZID=Europe/Paris:20220316T203000
DTSTAMP:20260423T111959
CREATED:20220305T073738Z
LAST-MODIFIED:20221217T071054Z
UID:8673-1647455400-1647462600@romo-photo.club
SUMMARY:Formation LR
DESCRIPTION:
URL:https://romo-photo.club/index.php/event/formation-lr-7/
CATEGORIES:Diffusion,Diffusion membre,Formation,Formation Lightroom
END:VEVENT
END:VCALENDAR