BEGIN:VCALENDAR
VERSION:2.0
PRODID:-//Romo Photo Club - ECPv6.15.20//NONSGML v1.0//EN
CALSCALE:GREGORIAN
METHOD:PUBLISH
X-WR-CALNAME:Romo Photo Club
X-ORIGINAL-URL:https://romo-photo.club
X-WR-CALDESC:Évènements pour Romo Photo Club
REFRESH-INTERVAL;VALUE=DURATION:PT1H
X-Robots-Tag:noindex
X-PUBLISHED-TTL:PT1H
BEGIN:VTIMEZONE
TZID:Europe/Paris
BEGIN:DAYLIGHT
TZOFFSETFROM:+0100
TZOFFSETTO:+0200
TZNAME:CEST
DTSTART:20210328T010000
END:DAYLIGHT
BEGIN:STANDARD
TZOFFSETFROM:+0200
TZOFFSETTO:+0100
TZNAME:CET
DTSTART:20211031T010000
END:STANDARD
BEGIN:DAYLIGHT
TZOFFSETFROM:+0100
TZOFFSETTO:+0200
TZNAME:CEST
DTSTART:20220327T010000
END:DAYLIGHT
BEGIN:STANDARD
TZOFFSETFROM:+0200
TZOFFSETTO:+0100
TZNAME:CET
DTSTART:20221030T010000
END:STANDARD
BEGIN:DAYLIGHT
TZOFFSETFROM:+0100
TZOFFSETTO:+0200
TZNAME:CEST
DTSTART:20230326T010000
END:DAYLIGHT
BEGIN:STANDARD
TZOFFSETFROM:+0200
TZOFFSETTO:+0100
TZNAME:CET
DTSTART:20231029T010000
END:STANDARD
END:VTIMEZONE
BEGIN:VEVENT
DTSTART;TZID=Europe/Paris:20220324T160000
DTEND;TZID=Europe/Paris:20220324T180000
DTSTAMP:20260423T112648
CREATED:20220305T073127Z
LAST-MODIFIED:20221217T070835Z
UID:8669-1648137600-1648144800@romo-photo.club
SUMMARY:Atelier Nature morte
DESCRIPTION:avec Marie LN\, Laurence et Alain
URL:https://romo-photo.club/index.php/event/atelier-nature-morte-4/
CATEGORIES:Diffusion,Diffusion membre,Formation
END:VEVENT
BEGIN:VEVENT
DTSTART;TZID=Europe/Paris:20220324T160000
DTEND;TZID=Europe/Paris:20220324T200000
DTSTAMP:20260423T112648
CREATED:20220305T074208Z
LAST-MODIFIED:20221217T070808Z
UID:8675-1648137600-1648152000@romo-photo.club
SUMMARY:Studio Portrait
DESCRIPTION:2 groupes\, 16à18 et 18à20h svt dispo \n\n\n\nAnimateurs: Jean Luc et Thierry
URL:https://romo-photo.club/index.php/event/studio-portrait/
CATEGORIES:Diffusion,Diffusion membre,Formation
END:VEVENT
END:VCALENDAR