BEGIN:VCALENDAR
VERSION:2.0
PRODID:-//Romo Photo Club - ECPv6.15.20//NONSGML v1.0//EN
CALSCALE:GREGORIAN
METHOD:PUBLISH
X-WR-CALNAME:Romo Photo Club
X-ORIGINAL-URL:https://romo-photo.club
X-WR-CALDESC:Évènements pour Romo Photo Club
REFRESH-INTERVAL;VALUE=DURATION:PT1H
X-Robots-Tag:noindex
X-PUBLISHED-TTL:PT1H
BEGIN:VTIMEZONE
TZID:Europe/Paris
BEGIN:DAYLIGHT
TZOFFSETFROM:+0100
TZOFFSETTO:+0200
TZNAME:CEST
DTSTART:20210328T010000
END:DAYLIGHT
BEGIN:STANDARD
TZOFFSETFROM:+0200
TZOFFSETTO:+0100
TZNAME:CET
DTSTART:20211031T010000
END:STANDARD
BEGIN:DAYLIGHT
TZOFFSETFROM:+0100
TZOFFSETTO:+0200
TZNAME:CEST
DTSTART:20220327T010000
END:DAYLIGHT
BEGIN:STANDARD
TZOFFSETFROM:+0200
TZOFFSETTO:+0100
TZNAME:CET
DTSTART:20221030T010000
END:STANDARD
BEGIN:DAYLIGHT
TZOFFSETFROM:+0100
TZOFFSETTO:+0200
TZNAME:CEST
DTSTART:20230326T010000
END:DAYLIGHT
BEGIN:STANDARD
TZOFFSETFROM:+0200
TZOFFSETTO:+0100
TZNAME:CET
DTSTART:20231029T010000
END:STANDARD
END:VTIMEZONE
BEGIN:VEVENT
DTSTART;TZID=Europe/Paris:20221117T090000
DTEND;TZID=Europe/Paris:20221120T190000
DTSTAMP:20260423T002907
CREATED:20221105T082702Z
LAST-MODIFIED:20221217T063936Z
UID:9435-1668675600-1668970800@romo-photo.club
SUMMARY:Festival de Montier en Der
DESCRIPTION:25° festival International Photo Animalière et Nature
URL:https://romo-photo.club/index.php/event/festival-de-montiers-en-der/
CATEGORIES:Diffusion,Diffusion bureau,Diffusion membre,Diffusion publique,Sortie
END:VEVENT
BEGIN:VEVENT
DTSTART;TZID=Europe/Paris:20221118T183000
DTEND;TZID=Europe/Paris:20221118T200000
DTSTAMP:20260423T002907
CREATED:20221116T131516Z
LAST-MODIFIED:20221217T062532Z
UID:9546-1668796200-1668801600@romo-photo.club
SUMMARY:Commission Photos
DESCRIPTION:Animateur Jérôme
URL:https://romo-photo.club/index.php/event/commission-photos-2/
CATEGORIES:Commission photo,Diffusion,Diffusion bureau,Diffusion membre,Réunion
END:VEVENT
BEGIN:VEVENT
DTSTART;TZID=Europe/Paris:20221118T200000
DTEND;TZID=Europe/Paris:20221118T220000
DTSTAMP:20260423T002907
CREATED:20211210T084824Z
LAST-MODIFIED:20221217T064328Z
UID:7778-1668801600-1668808800@romo-photo.club
SUMMARY:Projection et analyse
DESCRIPTION:
URL:https://romo-photo.club/index.php/event/projection-et-analyse-25/
CATEGORIES:Diffusion,Diffusion bureau,Diffusion membre,Réunion,Réunion vendredi
END:VEVENT
END:VCALENDAR