BEGIN:VCALENDAR
VERSION:2.0
PRODID:-//Romo Photo Club - ECPv6.15.20//NONSGML v1.0//EN
CALSCALE:GREGORIAN
METHOD:PUBLISH
X-WR-CALNAME:Romo Photo Club
X-ORIGINAL-URL:https://romo-photo.club
X-WR-CALDESC:Évènements pour Romo Photo Club
REFRESH-INTERVAL;VALUE=DURATION:PT1H
X-Robots-Tag:noindex
X-PUBLISHED-TTL:PT1H
BEGIN:VTIMEZONE
TZID:Europe/Paris
BEGIN:DAYLIGHT
TZOFFSETFROM:+0100
TZOFFSETTO:+0200
TZNAME:CEST
DTSTART:20220327T010000
END:DAYLIGHT
BEGIN:STANDARD
TZOFFSETFROM:+0200
TZOFFSETTO:+0100
TZNAME:CET
DTSTART:20221030T010000
END:STANDARD
BEGIN:DAYLIGHT
TZOFFSETFROM:+0100
TZOFFSETTO:+0200
TZNAME:CEST
DTSTART:20230326T010000
END:DAYLIGHT
BEGIN:STANDARD
TZOFFSETFROM:+0200
TZOFFSETTO:+0100
TZNAME:CET
DTSTART:20231029T010000
END:STANDARD
BEGIN:DAYLIGHT
TZOFFSETFROM:+0100
TZOFFSETTO:+0200
TZNAME:CEST
DTSTART:20240331T010000
END:DAYLIGHT
BEGIN:STANDARD
TZOFFSETFROM:+0200
TZOFFSETTO:+0100
TZNAME:CET
DTSTART:20241027T010000
END:STANDARD
END:VTIMEZONE
BEGIN:VEVENT
DTSTART;TZID=Europe/Paris:20230125T140000
DTEND;TZID=Europe/Paris:20230125T170000
DTSTAMP:20260422T213240
CREATED:20230123T085933Z
LAST-MODIFIED:20230123T090303Z
UID:10081-1674655200-1674666000@romo-photo.club
SUMMARY:Formation PS
DESCRIPTION:Animateur Robert
URL:https://romo-photo.club/index.php/event/formation-ps-3/
CATEGORIES:Diffusion,Diffusion membre,Formation,Formation Photoshop
END:VEVENT
BEGIN:VEVENT
DTSTART;TZID=Europe/Paris:20230125T183000
DTEND;TZID=Europe/Paris:20230125T203000
DTSTAMP:20260422T213240
CREATED:20230123T090111Z
LAST-MODIFIED:20230123T090233Z
UID:10083-1674671400-1674678600@romo-photo.club
SUMMARY:Formation PS et LR
DESCRIPTION:Animateur Ludo
URL:https://romo-photo.club/index.php/event/formation-ps-et-lr/
CATEGORIES:Diffusion,Diffusion membre,Formation,Formation Lightroom,Formation Photoshop
END:VEVENT
END:VCALENDAR