BEGIN:VCALENDAR
VERSION:2.0
PRODID:-//Romo Photo Club - ECPv6.15.20//NONSGML v1.0//EN
CALSCALE:GREGORIAN
METHOD:PUBLISH
X-WR-CALNAME:Romo Photo Club
X-ORIGINAL-URL:https://romo-photo.club
X-WR-CALDESC:Évènements pour Romo Photo Club
REFRESH-INTERVAL;VALUE=DURATION:PT1H
X-Robots-Tag:noindex
X-PUBLISHED-TTL:PT1H
BEGIN:VTIMEZONE
TZID:Europe/Paris
BEGIN:DAYLIGHT
TZOFFSETFROM:+0100
TZOFFSETTO:+0200
TZNAME:CEST
DTSTART:20230326T010000
END:DAYLIGHT
BEGIN:STANDARD
TZOFFSETFROM:+0200
TZOFFSETTO:+0100
TZNAME:CET
DTSTART:20231029T010000
END:STANDARD
BEGIN:DAYLIGHT
TZOFFSETFROM:+0100
TZOFFSETTO:+0200
TZNAME:CEST
DTSTART:20240331T010000
END:DAYLIGHT
BEGIN:STANDARD
TZOFFSETFROM:+0200
TZOFFSETTO:+0100
TZNAME:CET
DTSTART:20241027T010000
END:STANDARD
BEGIN:DAYLIGHT
TZOFFSETFROM:+0100
TZOFFSETTO:+0200
TZNAME:CEST
DTSTART:20250330T010000
END:DAYLIGHT
BEGIN:STANDARD
TZOFFSETFROM:+0200
TZOFFSETTO:+0100
TZNAME:CET
DTSTART:20251026T010000
END:STANDARD
END:VTIMEZONE
BEGIN:VEVENT
DTSTART;TZID=Europe/Paris:20240105T170000
DTEND;TZID=Europe/Paris:20240105T190000
DTSTAMP:20260422T035102
CREATED:20231107T072208Z
LAST-MODIFIED:20240109T062909Z
UID:12088-1704474000-1704481200@romo-photo.club
SUMMARY:atelier Nature morte
DESCRIPTION:Atelier reporté à une date ultérieure
URL:https://romo-photo.club/index.php/event/atelier-nature-morte-7/
CATEGORIES:Commission Studio - Nature morte,Diffusion,Diffusion membre,Diffusion publique,Formation
END:VEVENT
BEGIN:VEVENT
DTSTART;TZID=Europe/Paris:20240105T193000
DTEND;TZID=Europe/Paris:20240105T220000
DTSTAMP:20260422T035102
CREATED:20231107T073119Z
LAST-MODIFIED:20231124T162159Z
UID:12092-1704483000-1704492000@romo-photo.club
SUMMARY:Projection et analyse
DESCRIPTION:
URL:https://romo-photo.club/index.php/event/projection-et-analyse-50/
CATEGORIES:Diffusion,Diffusion membre,Diffusion publique,Réunion,Réunion vendredi,Sortie autre
END:VEVENT
END:VCALENDAR