BEGIN:VCALENDAR
VERSION:2.0
PRODID:-//Romo Photo Club - ECPv6.15.20//NONSGML v1.0//EN
CALSCALE:GREGORIAN
METHOD:PUBLISH
X-ORIGINAL-URL:https://romo-photo.club
X-WR-CALDESC:Évènements pour Romo Photo Club
REFRESH-INTERVAL;VALUE=DURATION:PT1H
X-Robots-Tag:noindex
X-PUBLISHED-TTL:PT1H
BEGIN:VTIMEZONE
TZID:Europe/Paris
BEGIN:DAYLIGHT
TZOFFSETFROM:+0100
TZOFFSETTO:+0200
TZNAME:CEST
DTSTART:20230326T010000
END:DAYLIGHT
BEGIN:STANDARD
TZOFFSETFROM:+0200
TZOFFSETTO:+0100
TZNAME:CET
DTSTART:20231029T010000
END:STANDARD
BEGIN:DAYLIGHT
TZOFFSETFROM:+0100
TZOFFSETTO:+0200
TZNAME:CEST
DTSTART:20240331T010000
END:DAYLIGHT
BEGIN:STANDARD
TZOFFSETFROM:+0200
TZOFFSETTO:+0100
TZNAME:CET
DTSTART:20241027T010000
END:STANDARD
BEGIN:DAYLIGHT
TZOFFSETFROM:+0100
TZOFFSETTO:+0200
TZNAME:CEST
DTSTART:20250330T010000
END:DAYLIGHT
BEGIN:STANDARD
TZOFFSETFROM:+0200
TZOFFSETTO:+0100
TZNAME:CET
DTSTART:20251026T010000
END:STANDARD
END:VTIMEZONE
BEGIN:VEVENT
DTSTART;TZID=Europe/Paris:20240405T150000
DTEND;TZID=Europe/Paris:20240405T160000
DTSTAMP:20260421T233321
CREATED:20240327T063205Z
LAST-MODIFIED:20240327T063208Z
UID:12750-1712329200-1712332800@romo-photo.club
SUMMARY:Impression photos
DESCRIPTION:tirages demandes membres
URL:https://romo-photo.club/index.php/event/impression-photos/
CATEGORIES:Diffusion membre
END:VEVENT
BEGIN:VEVENT
DTSTART;TZID=Europe/Paris:20240405T160000
DTEND;TZID=Europe/Paris:20240405T190000
DTSTAMP:20260421T233321
CREATED:20240227T142040Z
LAST-MODIFIED:20240304T172038Z
UID:12642-1712332800-1712343600@romo-photo.club
SUMMARY:Formation LR
DESCRIPTION:Bernard\, notre animateur
URL:https://romo-photo.club/index.php/event/formation-lr-9/
CATEGORIES:Diffusion,Diffusion membre,Diffusion publique,Formation,Formation Lightroom
END:VEVENT
BEGIN:VEVENT
DTSTART;TZID=Europe/Paris:20240405T193000
DTEND;TZID=Europe/Paris:20240405T220000
DTSTAMP:20260421T233321
CREATED:20231123T075003Z
LAST-MODIFIED:20231124T162955Z
UID:12198-1712345400-1712354400@romo-photo.club
SUMMARY:Projection et analyse
DESCRIPTION:
URL:https://romo-photo.club/index.php/event/projection-et-analyse-56/
CATEGORIES:Diffusion,Diffusion membre,Diffusion publique,Réunion vendredi
END:VEVENT
END:VCALENDAR