BEGIN:VCALENDAR
VERSION:2.0
PRODID:-//Romo Photo Club - ECPv6.15.20//NONSGML v1.0//EN
CALSCALE:GREGORIAN
METHOD:PUBLISH
X-WR-CALNAME:Romo Photo Club
X-ORIGINAL-URL:https://romo-photo.club
X-WR-CALDESC:Évènements pour Romo Photo Club
REFRESH-INTERVAL;VALUE=DURATION:PT1H
X-Robots-Tag:noindex
X-PUBLISHED-TTL:PT1H
BEGIN:VTIMEZONE
TZID:Europe/Paris
BEGIN:DAYLIGHT
TZOFFSETFROM:+0100
TZOFFSETTO:+0200
TZNAME:CEST
DTSTART:20190331T010000
END:DAYLIGHT
BEGIN:STANDARD
TZOFFSETFROM:+0200
TZOFFSETTO:+0100
TZNAME:CET
DTSTART:20191027T010000
END:STANDARD
BEGIN:DAYLIGHT
TZOFFSETFROM:+0100
TZOFFSETTO:+0200
TZNAME:CEST
DTSTART:20200329T010000
END:DAYLIGHT
BEGIN:STANDARD
TZOFFSETFROM:+0200
TZOFFSETTO:+0100
TZNAME:CET
DTSTART:20201025T010000
END:STANDARD
BEGIN:DAYLIGHT
TZOFFSETFROM:+0100
TZOFFSETTO:+0200
TZNAME:CEST
DTSTART:20210328T010000
END:DAYLIGHT
BEGIN:STANDARD
TZOFFSETFROM:+0200
TZOFFSETTO:+0100
TZNAME:CET
DTSTART:20211031T010000
END:STANDARD
END:VTIMEZONE
BEGIN:VEVENT
DTSTART;TZID=Europe/Paris:20200303T180000
DTEND;TZID=Europe/Paris:20200303T190000
DTSTAMP:20260426T063015
CREATED:20200124T073209Z
LAST-MODIFIED:20200218T084250Z
UID:5094-1583258400-1583262000@romo-photo.club
SUMMARY:Réunion mensuelle
DESCRIPTION:Notre réunion collégiale pour février. Nous aborderons tous les points majeurs du moment et à venir; une décision collégiale sera prise pour les actions à mener. \n\n\n\nInvité(s) d’honneur:  \n\n\n\nOrdre du jour: Point comptable\, avancement nouveaux locaux\, RV hôpital\, etc…
URL:https://romo-photo.club/index.php/event/reunion-mensuelle/
LOCATION:Lieu Romo Photo Club\, 58 rue des Capucins\, Romorantin-Lanthenay\, 41200\, France
CATEGORIES:Bureau,Diffusion,Diffusion membre,Réunion
ORGANIZER;CN="Organisateur Romo Photo Club":MAILTO:contact@romo-photo.club
END:VEVENT
END:VCALENDAR