BEGIN:VCALENDAR
VERSION:2.0
PRODID:-//Romo Photo Club - ECPv6.15.20//NONSGML v1.0//EN
CALSCALE:GREGORIAN
METHOD:PUBLISH
X-WR-CALNAME:Romo Photo Club
X-ORIGINAL-URL:https://romo-photo.club
X-WR-CALDESC:Évènements pour Romo Photo Club
REFRESH-INTERVAL;VALUE=DURATION:PT1H
X-Robots-Tag:noindex
X-PUBLISHED-TTL:PT1H
BEGIN:VTIMEZONE
TZID:Europe/Paris
BEGIN:DAYLIGHT
TZOFFSETFROM:+0100
TZOFFSETTO:+0200
TZNAME:CEST
DTSTART:20190331T010000
END:DAYLIGHT
BEGIN:STANDARD
TZOFFSETFROM:+0200
TZOFFSETTO:+0100
TZNAME:CET
DTSTART:20191027T010000
END:STANDARD
BEGIN:DAYLIGHT
TZOFFSETFROM:+0100
TZOFFSETTO:+0200
TZNAME:CEST
DTSTART:20200329T010000
END:DAYLIGHT
BEGIN:STANDARD
TZOFFSETFROM:+0200
TZOFFSETTO:+0100
TZNAME:CET
DTSTART:20201025T010000
END:STANDARD
BEGIN:DAYLIGHT
TZOFFSETFROM:+0100
TZOFFSETTO:+0200
TZNAME:CEST
DTSTART:20210328T010000
END:DAYLIGHT
BEGIN:STANDARD
TZOFFSETFROM:+0200
TZOFFSETTO:+0100
TZNAME:CET
DTSTART:20211031T010000
END:STANDARD
END:VTIMEZONE
BEGIN:VEVENT
DTSTART;TZID=Europe/Paris:20201021T080000
DTEND;TZID=Europe/Paris:20201025T170000
DTSTAMP:20260425T180021
CREATED:20200911T070055Z
LAST-MODIFIED:20221217T080633Z
UID:5489-1603267200-1603645200@romo-photo.club
SUMMARY:Rencontres photographiques d'Ingré annulé
DESCRIPTION:Annulé
URL:https://romo-photo.club/index.php/event/rencontres-photographiques-dingre/
LOCATION:Espace Lionel Boutrouche\, 33 Route d'Orléans\, Ingré\, 45140\, France
CATEGORIES:Diffusion,Diffusion membre,Diffusion publique,Expo,Expo autre
END:VEVENT
BEGIN:VEVENT
DTSTART;TZID=Europe/Paris:20201021T190000
DTEND;TZID=Europe/Paris:20201021T210000
DTSTAMP:20260425T180021
CREATED:20200924T131039Z
LAST-MODIFIED:20200924T131151Z
UID:5692-1603306800-1603314000@romo-photo.club
SUMMARY:Formation LR
DESCRIPTION:
URL:https://romo-photo.club/index.php/event/formation-lr-5/
CATEGORIES:Diffusion,Diffusion membre,Formation,Formation Lightroom
END:VEVENT
END:VCALENDAR