BEGIN:VCALENDAR
VERSION:2.0
PRODID:-//Romo Photo Club - ECPv6.15.20//NONSGML v1.0//EN
CALSCALE:GREGORIAN
METHOD:PUBLISH
X-ORIGINAL-URL:https://romo-photo.club
X-WR-CALDESC:Évènements pour Romo Photo Club
REFRESH-INTERVAL;VALUE=DURATION:PT1H
X-Robots-Tag:noindex
X-PUBLISHED-TTL:PT1H
BEGIN:VTIMEZONE
TZID:Europe/Paris
BEGIN:DAYLIGHT
TZOFFSETFROM:+0100
TZOFFSETTO:+0200
TZNAME:CEST
DTSTART:20220327T010000
END:DAYLIGHT
BEGIN:STANDARD
TZOFFSETFROM:+0200
TZOFFSETTO:+0100
TZNAME:CET
DTSTART:20221030T010000
END:STANDARD
BEGIN:DAYLIGHT
TZOFFSETFROM:+0100
TZOFFSETTO:+0200
TZNAME:CEST
DTSTART:20230326T010000
END:DAYLIGHT
BEGIN:STANDARD
TZOFFSETFROM:+0200
TZOFFSETTO:+0100
TZNAME:CET
DTSTART:20231029T010000
END:STANDARD
BEGIN:DAYLIGHT
TZOFFSETFROM:+0100
TZOFFSETTO:+0200
TZNAME:CEST
DTSTART:20240331T010000
END:DAYLIGHT
BEGIN:STANDARD
TZOFFSETFROM:+0200
TZOFFSETTO:+0100
TZNAME:CET
DTSTART:20241027T010000
END:STANDARD
END:VTIMEZONE
BEGIN:VEVENT
DTSTART;TZID=Europe/Paris:20230818T170000
DTEND;TZID=Europe/Paris:20230818T200000
DTSTAMP:20260423T093540
CREATED:20230728T044244Z
LAST-MODIFIED:20230814T123038Z
UID:11587-1692378000-1692388800@romo-photo.club
SUMMARY:Tirages photos expo
DESCRIPTION:avec Bernard et Pierre\,  présence des auteurs souhaitée. Patricia et José nous donnent un coup de main.
URL:https://romo-photo.club/index.php/event/tirages-photos-expo/
CATEGORIES:Commission impression tirage,Diffusion,Diffusion bureau,Diffusion membre
END:VEVENT
BEGIN:VEVENT
DTSTART;TZID=Europe/Paris:20230818T200000
DTEND;TZID=Europe/Paris:20230818T223000
DTSTAMP:20260423T093540
CREATED:20230626T043134Z
LAST-MODIFIED:20230626T043135Z
UID:11460-1692388800-1692397800@romo-photo.club
SUMMARY:Projection et analyse
DESCRIPTION:
URL:https://romo-photo.club/index.php/event/projection-et-analyse-40/
CATEGORIES:Diffusion,Diffusion membre,Réunion,Réunion vendredi
END:VEVENT
END:VCALENDAR