BEGIN:VCALENDAR
VERSION:2.0
PRODID:-//Romo Photo Club - ECPv6.15.20//NONSGML v1.0//EN
CALSCALE:GREGORIAN
METHOD:PUBLISH
X-WR-CALNAME:Romo Photo Club
X-ORIGINAL-URL:https://romo-photo.club
X-WR-CALDESC:Évènements pour Romo Photo Club
REFRESH-INTERVAL;VALUE=DURATION:PT1H
X-Robots-Tag:noindex
X-PUBLISHED-TTL:PT1H
BEGIN:VTIMEZONE
TZID:Europe/Paris
BEGIN:DAYLIGHT
TZOFFSETFROM:+0100
TZOFFSETTO:+0200
TZNAME:CEST
DTSTART:20230326T010000
END:DAYLIGHT
BEGIN:STANDARD
TZOFFSETFROM:+0200
TZOFFSETTO:+0100
TZNAME:CET
DTSTART:20231029T010000
END:STANDARD
BEGIN:DAYLIGHT
TZOFFSETFROM:+0100
TZOFFSETTO:+0200
TZNAME:CEST
DTSTART:20240331T010000
END:DAYLIGHT
BEGIN:STANDARD
TZOFFSETFROM:+0200
TZOFFSETTO:+0100
TZNAME:CET
DTSTART:20241027T010000
END:STANDARD
BEGIN:DAYLIGHT
TZOFFSETFROM:+0100
TZOFFSETTO:+0200
TZNAME:CEST
DTSTART:20250330T010000
END:DAYLIGHT
BEGIN:STANDARD
TZOFFSETFROM:+0200
TZOFFSETTO:+0100
TZNAME:CET
DTSTART:20251026T010000
END:STANDARD
END:VTIMEZONE
BEGIN:VEVENT
DTSTART;TZID=Europe/Paris:20240315T160000
DTEND;TZID=Europe/Paris:20240315T190000
DTSTAMP:20260422T234925
CREATED:20240227T141758Z
LAST-MODIFIED:20240304T172121Z
UID:12640-1710518400-1710529200@romo-photo.club
SUMMARY:Formation LR
DESCRIPTION:Bernard\, notre animateur
URL:https://romo-photo.club/index.php/event/formation-lr-8/
CATEGORIES:Diffusion,Diffusion membre,Diffusion publique,Formation,Formation Lightroom
END:VEVENT
BEGIN:VEVENT
DTSTART;TZID=Europe/Paris:20240315T193000
DTEND;TZID=Europe/Paris:20240315T220000
DTSTAMP:20260422T234925
CREATED:20231123T074830Z
LAST-MODIFIED:20240208T133334Z
UID:12196-1710531000-1710540000@romo-photo.club
SUMMARY:Projection et analyse
DESCRIPTION:
URL:https://romo-photo.club/index.php/event/projection-et-analyse-55/
CATEGORIES:Diffusion,Diffusion membre,Diffusion publique,Réunion vendredi
END:VEVENT
END:VCALENDAR