BEGIN:VCALENDAR
VERSION:2.0
PRODID:-//Romo Photo Club - ECPv6.15.20//NONSGML v1.0//EN
CALSCALE:GREGORIAN
METHOD:PUBLISH
X-WR-CALNAME:Romo Photo Club
X-ORIGINAL-URL:https://romo-photo.club
X-WR-CALDESC:Évènements pour Romo Photo Club
REFRESH-INTERVAL;VALUE=DURATION:PT1H
X-Robots-Tag:noindex
X-PUBLISHED-TTL:PT1H
BEGIN:VTIMEZONE
TZID:Europe/Paris
BEGIN:DAYLIGHT
TZOFFSETFROM:+0100
TZOFFSETTO:+0200
TZNAME:CEST
DTSTART:20220327T010000
END:DAYLIGHT
BEGIN:STANDARD
TZOFFSETFROM:+0200
TZOFFSETTO:+0100
TZNAME:CET
DTSTART:20221030T010000
END:STANDARD
BEGIN:DAYLIGHT
TZOFFSETFROM:+0100
TZOFFSETTO:+0200
TZNAME:CEST
DTSTART:20230326T010000
END:DAYLIGHT
BEGIN:STANDARD
TZOFFSETFROM:+0200
TZOFFSETTO:+0100
TZNAME:CET
DTSTART:20231029T010000
END:STANDARD
BEGIN:DAYLIGHT
TZOFFSETFROM:+0100
TZOFFSETTO:+0200
TZNAME:CEST
DTSTART:20240331T010000
END:DAYLIGHT
BEGIN:STANDARD
TZOFFSETFROM:+0200
TZOFFSETTO:+0100
TZNAME:CET
DTSTART:20241027T010000
END:STANDARD
END:VTIMEZONE
BEGIN:VEVENT
DTSTART;TZID=Europe/Paris:20230317T160000
DTEND;TZID=Europe/Paris:20230317T200000
DTSTAMP:20260423T220149
CREATED:20230315T155134Z
LAST-MODIFIED:20230315T155629Z
UID:10625-1679068800-1679083200@romo-photo.club
SUMMARY:Impression photos PdP
DESCRIPTION:Evelyne\, Bernard et Pierre\, tirages pour notre expo au Printemps de la photo et des Arts
URL:https://romo-photo.club/index.php/event/impression-photos-pdp/
CATEGORIES:Commission impression tirage,Diffusion,Diffusion bureau,Diffusion membre,Réunion
END:VEVENT
BEGIN:VEVENT
DTSTART;TZID=Europe/Paris:20230317T183000
DTEND;TZID=Europe/Paris:20230317T200000
DTSTAMP:20260423T220149
CREATED:20230314T094350Z
LAST-MODIFIED:20230314T094459Z
UID:10509-1679077800-1679083200@romo-photo.club
SUMMARY:Commission Photo
DESCRIPTION:avec Jérôme
URL:https://romo-photo.club/index.php/event/commission-photo-7/
CATEGORIES:Diffusion,Diffusion bureau,Diffusion membre,Réunion
END:VEVENT
BEGIN:VEVENT
DTSTART;TZID=Europe/Paris:20230317T200000
DTEND;TZID=Europe/Paris:20230317T223000
DTSTAMP:20260423T220149
CREATED:20221105T090142Z
LAST-MODIFIED:20230314T094836Z
UID:9450-1679083200-1679092200@romo-photo.club
SUMMARY:Projection et analyse
DESCRIPTION:Notre amie Annick nous présentera ses amis gorilles de l’Ouganda en avant-première.
URL:https://romo-photo.club/index.php/event/projection-et-analyse-30/
CATEGORIES:Diffusion,Diffusion bureau,Diffusion membre,Diffusion publique,Réunion,Réunion vendredi
END:VEVENT
END:VCALENDAR