BEGIN:VCALENDAR
VERSION:2.0
PRODID:-//Romo Photo Club - ECPv6.15.20//NONSGML v1.0//EN
CALSCALE:GREGORIAN
METHOD:PUBLISH
X-WR-CALNAME:Romo Photo Club
X-ORIGINAL-URL:https://romo-photo.club
X-WR-CALDESC:Évènements pour Romo Photo Club
REFRESH-INTERVAL;VALUE=DURATION:PT1H
X-Robots-Tag:noindex
X-PUBLISHED-TTL:PT1H
BEGIN:VTIMEZONE
TZID:Europe/Paris
BEGIN:DAYLIGHT
TZOFFSETFROM:+0100
TZOFFSETTO:+0200
TZNAME:CEST
DTSTART:20220327T010000
END:DAYLIGHT
BEGIN:STANDARD
TZOFFSETFROM:+0200
TZOFFSETTO:+0100
TZNAME:CET
DTSTART:20221030T010000
END:STANDARD
BEGIN:DAYLIGHT
TZOFFSETFROM:+0100
TZOFFSETTO:+0200
TZNAME:CEST
DTSTART:20230326T010000
END:DAYLIGHT
BEGIN:STANDARD
TZOFFSETFROM:+0200
TZOFFSETTO:+0100
TZNAME:CET
DTSTART:20231029T010000
END:STANDARD
BEGIN:DAYLIGHT
TZOFFSETFROM:+0100
TZOFFSETTO:+0200
TZNAME:CEST
DTSTART:20240331T010000
END:DAYLIGHT
BEGIN:STANDARD
TZOFFSETFROM:+0200
TZOFFSETTO:+0100
TZNAME:CET
DTSTART:20241027T010000
END:STANDARD
END:VTIMEZONE
BEGIN:VEVENT
DTSTART;TZID=Europe/Paris:20230704T183000
DTEND;TZID=Europe/Paris:20230704T210000
DTSTAMP:20260423T124307
CREATED:20230608T165030Z
LAST-MODIFIED:20230624T122739Z
UID:11340-1688495400-1688504400@romo-photo.club
SUMMARY:Réunion mensuelle
DESCRIPTION:sous la présidence de Martine (ou Jérôme) \n\n\n\net Dominique\, notre invité
URL:https://romo-photo.club/index.php/event/reunion-mensuelle-19/
CATEGORIES:Bureau,Diffusion,Diffusion bureau,Diffusion membre,Réunion
END:VEVENT
BEGIN:VEVENT
DTSTART;TZID=Europe/Paris:20230707T200000
DTEND;TZID=Europe/Paris:20230707T223000
DTSTAMP:20260423T124307
CREATED:20230626T042523Z
LAST-MODIFIED:20230626T042525Z
UID:11454-1688760000-1688769000@romo-photo.club
SUMMARY:Projection et analyse
DESCRIPTION:
URL:https://romo-photo.club/index.php/event/projection-et-analyse-37/
CATEGORIES:Diffusion,Diffusion membre,Réunion,Réunion vendredi
END:VEVENT
BEGIN:VEVENT
DTSTART;TZID=Europe/Paris:20230721T200000
DTEND;TZID=Europe/Paris:20230721T223000
DTSTAMP:20260423T124307
CREATED:20230626T042730Z
LAST-MODIFIED:20230626T044739Z
UID:11456-1689969600-1689978600@romo-photo.club
SUMMARY:Projection et analyse
DESCRIPTION:
URL:https://romo-photo.club/index.php/event/projection-et-analyse-38/
CATEGORIES:Diffusion,Diffusion membre,Réunion,Réunion vendredi
END:VEVENT
END:VCALENDAR