BEGIN:VCALENDAR
VERSION:2.0
PRODID:-//Romo Photo Club - ECPv6.15.20//NONSGML v1.0//EN
CALSCALE:GREGORIAN
METHOD:PUBLISH
X-WR-CALNAME:Romo Photo Club
X-ORIGINAL-URL:https://romo-photo.club
X-WR-CALDESC:Évènements pour Romo Photo Club
REFRESH-INTERVAL;VALUE=DURATION:PT1H
X-Robots-Tag:noindex
X-PUBLISHED-TTL:PT1H
BEGIN:VTIMEZONE
TZID:Europe/Paris
BEGIN:DAYLIGHT
TZOFFSETFROM:+0100
TZOFFSETTO:+0200
TZNAME:CEST
DTSTART:20220327T010000
END:DAYLIGHT
BEGIN:STANDARD
TZOFFSETFROM:+0200
TZOFFSETTO:+0100
TZNAME:CET
DTSTART:20221030T010000
END:STANDARD
BEGIN:DAYLIGHT
TZOFFSETFROM:+0100
TZOFFSETTO:+0200
TZNAME:CEST
DTSTART:20230326T010000
END:DAYLIGHT
BEGIN:STANDARD
TZOFFSETFROM:+0200
TZOFFSETTO:+0100
TZNAME:CET
DTSTART:20231029T010000
END:STANDARD
BEGIN:DAYLIGHT
TZOFFSETFROM:+0100
TZOFFSETTO:+0200
TZNAME:CEST
DTSTART:20240331T010000
END:DAYLIGHT
BEGIN:STANDARD
TZOFFSETFROM:+0200
TZOFFSETTO:+0100
TZNAME:CET
DTSTART:20241027T010000
END:STANDARD
END:VTIMEZONE
BEGIN:VEVENT
DTSTART;TZID=Europe/Paris:20231103T200000
DTEND;TZID=Europe/Paris:20231103T223000
DTSTAMP:20260423T072202
CREATED:20230626T044030Z
LAST-MODIFIED:20231124T160713Z
UID:11472-1699041600-1699050600@romo-photo.club
SUMMARY:Projection et analyse
DESCRIPTION:Si vous avez des questions\, besoin d’une aide Internet\, aide retouche ou autres\, venez à 19h nous répondrons à votre besoin.
URL:https://romo-photo.club/index.php/event/projection-et-analyse-46/
CATEGORIES:Diffusion,Diffusion membre,Diffusion publique,Réunion,Réunion vendredi
END:VEVENT
BEGIN:VEVENT
DTSTART;TZID=Europe/Paris:20231107T183000
DTEND;TZID=Europe/Paris:20231107T210000
DTSTAMP:20260423T072202
CREATED:20230626T041459Z
LAST-MODIFIED:20231124T160921Z
UID:11450-1699381800-1699390800@romo-photo.club
SUMMARY:Réunion mensuelle
DESCRIPTION:sous la présidence de Marcel
URL:https://romo-photo.club/index.php/event/reunion-mensuelle-22/
CATEGORIES:Bureau,Diffusion,Diffusion bureau,Diffusion membre,Diffusion publique,Réunion
END:VEVENT
BEGIN:VEVENT
DTSTART;TZID=Europe/Paris:20231108T140000
DTEND;TZID=Europe/Paris:20231108T160000
DTSTAMP:20260423T072202
CREATED:20231104T093616Z
LAST-MODIFIED:20231124T161653Z
UID:12085-1699452000-1699459200@romo-photo.club
SUMMARY:Formation Photoshop
DESCRIPTION:animateur Robert
URL:https://romo-photo.club/index.php/event/formation-photoshop-3/
CATEGORIES:Diffusion,Diffusion membre,Diffusion publique,Formation,Formation Photoshop
END:VEVENT
BEGIN:VEVENT
DTSTART;TZID=Europe/Paris:20231108T180000
DTEND;TZID=Europe/Paris:20231108T200000
DTSTAMP:20260423T072202
CREATED:20231021T125709Z
LAST-MODIFIED:20231124T161613Z
UID:11934-1699466400-1699473600@romo-photo.club
SUMMARY:Formation FastStone
DESCRIPTION:formateur Marcel
URL:https://romo-photo.club/index.php/event/formation-faststone/
CATEGORIES:Diffusion,Diffusion membre,Diffusion publique,Formation
END:VEVENT
BEGIN:VEVENT
DTSTART;TZID=Europe/Paris:20231117T193000
DTEND;TZID=Europe/Paris:20231117T220000
DTSTAMP:20260423T072202
CREATED:20230626T044134Z
LAST-MODIFIED:20231124T161728Z
UID:11474-1700249400-1700258400@romo-photo.club
SUMMARY:Projection et analyse
DESCRIPTION:
URL:https://romo-photo.club/index.php/event/projection-et-analyse-47/
CATEGORIES:Diffusion,Diffusion membre,Diffusion publique,Réunion,Réunion vendredi
END:VEVENT
END:VCALENDAR